{"text_format":"1","workbook":"xlsx","n_sheets":85,"sheets":["Portada","Indice","Planes de Lic.","Demanda","Aspirantes plan","Aspirantes Div","Asp x gen","Aspirantes Comp","Admitidos Plan Trimestre","Admitidos Div","Admitidos x gen","Adms x Aspir ","Perfil SE Admit","Admitidos Comp","Inscritos Plan Trimestre","Inscritos Div","Incritos Acumulado","Inscritos Plan x gen","Incritos x Aspir","Inscritos x Adms Plan","Aspir Admi Incritos","Inscritos Comp","Matricula Plan","Matricula Div","Matricula Gen","Matricula Comp","Activos Plan","Activos Div","Activos Gen","Activos Comp","Bajas","Deserción Acumulada","Bajas Comp","EGRESO Plan","EGRESO Div","EGRESO x gen","EGRESO Comp","TITULADOS Plan","TITULADOS Div","TITULADOS Comp","TRIM EGRESO plan","TRIM EGRESO div","TRIM EGRESO Comp","Eficiencia terminal Div","Eficiencia terminal Comp","Becas alumnos","Becas Alumnos Comp1","Becas Alumnos Comp2","Serv Social","Plazas Listado","Plazas Div x Depto","Definitivos x plaza histórico","Concursos de Oposición","Académicos Definitivos","Definitivos x categoría","Definitivos x grado","Definitivos x género","Visitantes","Definitivos comp","Alumnos x plaza TC","Alumnos x plaza TC Comp","PDDC","Grupos 2015","Carga por Plaza","Carga PDDC","PROMEP-SNI","PROMEP-SNI Comp","Proys Inv","Áreas y CA","Cuerpos Académicos Comp","TIPPA Prod Cientif","TIPPA Prod Total","Patentes","Contratos y Convenios","Patrocinios","Recursos Ext","Recursos Ext Comp","Actividades deportivas","Difusión Lic","Lineamientos y Criterios","Órganos Personales","Sesiones de Órganos Colegiados","Comisiones","Reconocimientos Docencia","Dictaminadoras Divisionales"],"not_rendered":{"charts":57,"images":1,"macros":1,"external_links":18,"defined_names":18980,"comments":2,"pivot_tables":0},"unopened":[],"bounds":{"document_bytes":16777216,"sheet_cells":100000,"rows_first":2000,"rows_last":500,"rows_between":2000,"halvings":0,"cell_chars":16384,"cell_head_chars":4096},"cells_cut":0,"cells_raw":0,"read":"whole","date_system":"1900"}

{"sheet":"Portada","index":0,"n_rows":0,"n_cols":0,"rows_kept":0,"cut":false,"hidden":false,"merged":[[6,4,6,10],[9,6,9,8]]}

{"sheet":"Indice","index":1,"n_rows":32,"n_cols":13,"rows_kept":32,"cut":false,"hidden":false,"merged":[[0,0,0,12],[3,6,3,10],[17,3,18,3],[19,3,21,3],[4,6,13,6],[14,6,19,6],[4,9,11,9],[12,9,15,9],[3,0,3,4],[28,0,31,0],[5,0,9,0],[10,0,15,0],[16,0,23,0],[24,0,27,0],[7,3,10,3],[4,3,6,3],[11,3,13,3],[14,3,16,3]]}
[]
["INDICE"]
[]
["ALUMNOS",null,null,null,null,null,"PROFESORES",null,null,null,null,null,"APOYO INSTITUCIONAL"]
["Planes estudio","Licenciatura",null,"Bajas","División",null,"Planta","Plazas (Listado)",null,"Investigación","PRODEP / SNI",null,"Actividades Deportivas"]
["Aspirantes","Demanda",null,null,"Deserción Acum y Género",null,null,"Plazas por División",null,null,"PRODEP/SNI Comparativo",null,"Difusión de Licenciaturas"]
[null,"Plan",null,null,"Comparativo",null,null,"Profs Defs Histórico",null,null,"Proyectos de Investigación",null,"Lineamientos, Criterios e Instructivos"]
[null,"División",null,"Egreso","Plan",null,null,"Concursos Oposición",null,null,"Áreas y Cuerpos Académicos"]
[null,"Género",null,null,"División",null,null,"Profs Defs Detalles",null,null,"Cuerpos Académicos Comparativo"]
[null,"Comparativo",null,null,"Género",null,null,"Profs Defs por Categoría",null,null,"Prod. Científica (TIPPA)",null,"ÓRGANOS COLEGIADOS"]
["Admitidos","Plan",null,null,"Comparativo",null,null,"Profs Defs por Grado",null,null,"Prod. Total (TIPPA)",null,"Órganos Personales"]
[null,"División",null,"Titulados","Plan",null,null,"Profs Defs por Género",null,null,"Patentes",null,"Sesiones órganos colegiados"]
[null,"Género",null,null,"División",null,null,"Visitantes",null,"Recursos Externos","Contratos y Convenios",null,"Lineamientos, criterios e instructivos"]
[null,"Admit/Aspir",null,null,"Comparativo",null,null,"Profs Defs Comparativo",null,null,"Patrocinios",null,"Comisiones"]
[null,"Perfil SE Admit",null,"Trimestres para egresar","Plan",null,"Docencia","Als Activos / Plaza",null,null,"División",null,"Reconocimientos Docencia"]
[null,"Comparativo",null,null,"División",null,null,"Comparativo",null,null,"Comparativo",null,"Dictaminadoras divisionales"]
["Inscritos","Plan",null,null,"Comparativo",null,null,"Profs Defs Dedicación Completa"]
[null,"División",null,"Eficiencia terminal","División",null,null,"Grupos Ofrecidos"]
[null,"Acumulado",null,null,"Comparativo",null,null,"Carga por Plaza"]
[null,"Género",null,"Becas Alumnos","División",null,null,"Carga PDDC"]
[null,"Inscrit/Aspir",null,null,"Comparativo 1"]
[null,"Inscrit/Admit",null,null,"Comparativo 2"]
[null,"Aspir/Admit/Inscrit",null,"Servicio Social","Proys Servicio Social"]
[null,"Comparativo"]
["Matrícula","Plan"]
[null,"División"]
[null,"Género"]
[null,"Comparativo"]
["Activos","Plan"]
[null,"División"]
[null,"Género"]
[null,"Comparativo"]

{"sheet":"Planes de Lic.","index":2,"n_rows":46,"n_cols":4,"rows_kept":46,"cut":false,"hidden":false,"merged":[[12,2,12,3],[17,2,17,3],[22,2,22,3],[26,2,26,3],[42,2,42,3],[2,0,2,3],[41,0,41,3],[35,0,35,3],[30,2,30,3],[3,2,3,3],[36,2,36,3],[10,0,10,3],[29,0,29,3],[25,0,25,3],[21,0,21,3],[16,0,16,3],[11,0,11,3]]}
["INDICE"]
[" "," "," "]
["Ingeniería en Recursos Hídricos"]
["ÓRGANO","FECHA","ACUERDO"]
["Colegio Académico","2011-02-24",331.4,"Creación de la Licenciatura en Ingeniería en Recursos Hídricos, con el plan y los programas de estudio correspondientes, de la División de Ciencias Básicas e Ingeniería de la Unidad Lerma, con excepción de los programas de estudio de las UEA 5010000, 5010001, 5010002, 5110006 y 5110008, mismos que serán presentados posteriormente al Colegio Académico."]
["Colegio Académico","2012-04-19",344.3,"Aprobación de la creación de tres UEA interdivisionales 5010000 Complejidad e Interdisciplina, 5010001 Análisis de Problemáticas Complejas I y 5010002 Análisis de Problemáticas Complejas II que se impartirán en los trimestres V, XI y XII de las licenciaturas de la Unidad Lerma."]
["Colegio Académico","2012-06-27",346.9,"Creación de las UEA 5110006 Movimiento de Cuerpos de Agua y 5110008 Política y Gestión Integral del Agua, que se impartirán en los trimestres VIII y X, de la Licenciatura en Ingeniería en Recursos Hídricos de la Unidad Lerma."]
["Consejo Divisional CBI","2015-12-01",38.299999999999997,"Aprobación de la Adecuación al Plan y Programas de Estudio de la Licenciatura en Ingeniería en Recursos Hídricos, la cualentrará en vigor en el trimestre 16-Otoño"]
["Consejo Académico Lerma","2015-12-09","48.RICBI","Recepción de la información presentada por el Consejo Divisional de Ciencias Básicas e Ingeniería, sobre las adecuaciones efectuadas al plan y programas de estudio de la Licenciatura en Ingeniería en Recursos Hídricos."]
["Colegio Académico","2015-12-17","387.A","El Colegio Académico recibió la información del Consejo Divisional de Ciencias Básicas e Ingeniería de la Unidad Lerma, sobre las adecuaciones efectuadas al plan y los programas de estudio de la Licenciatura en Ingeniería en Recursos Hídricos, cuya entrada en vigor será en el Trimestre 2016-O."]
[]
[" Biología Ambiental"]
["ÓRGANO","FECHA","ACUERDO"]
["Colegio Académico","2011-02-24",331.5,"Creación de la Licenciatura en Biología Ambiental, con el plan y los programas de estudio correspondientes, de la División de Ciencias Biológicas y de la Salud de la Unidad Lerma. "]
["Colegio Académico","2012-04-19",344.3,"Aprobación de la creación de tres UEA interdivisionales 5010000 Complejidad e Interdisciplina, 5010001 Análisis de Problemáticas Complejas I y 5010002 Análisis de Problemáticas Complejas II que se impartirán en los trimestres V, XI y XII de las licenciaturas de la Unidad Lerma."]
[]
[" Políticas Públicas"]
["ÓRGANO","FECHA","ACUERDO"]
["Colegio Académico","2011-02-24",331.6,"Creación de la Licenciatura en Políticas Públicas, con el plan y los programas de estudio correspondientes, de la División de Ciencias Sociales y Humanidades de la Unidad Lerma."]
["Colegio Académico","2012-04-19",344.3,"Aprobación de la creación de tres UEA interdivisionales 5010000 Complejidad e Interdisciplina, 5010001 Análisis de Problemáticas Complejas I y 5010002 Análisis de Problemáticas Complejas II que se impartirán en los trimestres V, XI y XII de las licenciaturas de la Unidad Lerma."]
[]
["Arte y Comunicación Digitales"]
["ÓRGANO","FECHA","ACUERDO"]
["Colegio Académico","2012-12-11",354.9,"Creación de la Licenciatura en Arte y Comunicación Digitales, con el plan y programas de estudio correspondientes, de la División de Ciencias Sociales y Humanidades de la Unidad Lerma."]
[]
["Ciencias Agroalimentarias."]
["ÓRGANO","FECHA","ACUERDO"]
["Consejo Divisional CBS","2013-10-22","12.13.6","Aprobación del dictamen que presenta la Comisión de Docencia del Consejo Divisional de Ciencias Biológicas y de la Salud sobre la creación del Plan y Programas de la Licenciatura en Ciencias Agroalimentarias."]
[]
["Educación y Tecnologías Digitales"]
["ÓRGANO","FECHA","ACUERDO"]
["Consejo Divisional CSH","2013-10-30",15.3,"Aprobación en lo particular de la propuesta de creación de la Licenciatura en Educación y Tecnologías de Información y Comunicación. "]
["Consejo Académico Lerma","2015-07-03",43.1,"Aprobación del Dictamen de la \"Comisión de Planes y Programas de Estudio\", consistente en la dictaminación y armonización de la Propuesta de Creación de la Licenciatura en Educación y Tecnologías Digitales, de la División de Ciencias Sociales y Humanidades, y envío de la misma al Colegio Académico para su análisis, discusión y, en su caso, autorización."]
[]
[]
["Ingeniería en Computación y Telecomunicaciones"]
["ÓRGANO","FECHA","ACUERDO"]
["Consejo Divisional CBI","2015-04-09",26.5,"Aprobación de la Propuesta y Justificación de creación del Plan de Estudios de la Licenciatura en Ingeniería en Sistemas y Telecomunicaciones, de conformidad con el Dictamen que presentó la Comisión Planes y Programas de Estudios, a fin de presentarla ante el Consejo Académico para su dictaminación y armonización,."]
["Consejo Académico Lerma","2015-07-03",43.9,"Aprobación del Dictamen de la \"Comisión de Planes y Programas de Estudio\", consistente en la dictaminación y armonización de la Propuesta Inicial de Creación de la Licenciatura en Ingeniería en Computación y Telecomunicaciones, de la División de Ciencias Básicas e Ingeniería, y envíode la misma al Colegio Académico para su análisis, discusión y, en su caso, autorización"]
["Colegio Académico","2015-12-17",387.7,"Aprobación de la propuesta inicial de Creación de la Licenciatura en Ingeniería en Computación y Telecomunicaciones de la División de Ciencias Básicas e Ingeniería, presentada por el Consejo Académico de la Unidad Lerma, y remitirla al Consejo Divisional para que continúe con la formulación del plan y los programas de estudio, de acuerdo con lo previsto en los artículos 32 y 33 del Reglamento de Estudios Superiores."]
[]
["Psicología Biomédica"]
["ÓRGANO","FECHA","ACUERDO"]
["Consejo Divisional CBS","2015-06-30","14.15.13","Aprobación del Dictamen que presenta la Comisión de Planes y Programas de Estudio, respecto de la Propuesta Inicial de la Creación del Plan de Estudios de la Licenciatura en Psicología Biomédica."]
["Consejo Académico Lerma","2015-09-28",44.3,"Aprobación del Dictamen de la \"Comisión de Planes y Programas de Estudio\", consistente en la dictaminación y armonización de la Propuesta Inicial de Creación del Plan de Estudios de la Licenciatura en Psicología Biomédica, de la División de Ciencias Biológicas y de la Salud, y envio de la propuesta, con modificaciones, al Colegio Académico para su análisis, discusión y, en su caso, autorización."]
["Colegio Académico","2015-12-17",387.8,"Aprobación de la propuesta inicial de Creación de la Licenciatura en Psicología Biomédica de la División de Ciencias Biológicas y de la Salud, presentada por el Consejo Académico de la Unidad Lerma, y remitirla al Consejo Divisional para que continúe con la formulación del plan y los programas de estudio, de acuerdo con lo previsto en los artículos 32 y 33 del Reglamento de Estudios Superiores."]

{"sheet":"Demanda","index":3,"n_rows":38,"n_cols":32,"rows_kept":38,"cut":false,"hidden":false,"merged":[[35,7,35,19],[33,9,33,10],[33,12,33,13],[33,15,33,16],[33,18,33,19],[34,9,34,10],[34,12,34,13],[34,15,34,16],[34,18,34,19],[31,9,31,10],[31,12,31,13],[31,15,31,16],[31,18,31,19],[32,9,32,10],[32,12,32,13],[32,15,32,16],[32,18,32,19],[28,8,28,9],[28,11,28,12],[28,14,28,15],[29,8,29,19],[30,8,30,10],[30,11,30,13],[30,14,30,16],[30,17,30,19],[22,9,22,10],[22,12,22,13],[22,15,22,16],[22,18,22,19],[26,0,26,4],[26,7,26,19],[20,1,20,4],[20,8,20,19],[21,8,21,10],[21,11,21,13],[21,14,21,16],[21,17,21,19],[18,0,18,4],[18,7,18,19],[10,22,10,25],[10,28,10,31],[12,1,12,4],[12,8,12,19],[13,8,13,10],[13,11,13,13],[13,14,13,16],[13,17,13,19],[14,9,14,10],[14,12,14,13],[14,15,14,16],[14,18,14,19],[16,22,16,25],[6,9,6,10],[6,12,6,13],[6,15,6,16],[6,18,6,19],[10,0,10,4],[10,7,10,19],[4,1,4,4],[4,8,4,19],[4,22,4,25],[4,28,4,31],[5,8,5,10],[5,11,5,13],[5,14,5,16],[5,17,5,19]]}
["INDICE"]
["EDUCACIÓN MEDIA SUPERIOR",null,null,null,null,null,null,"LICENCIATURA UNIVERSITARIA Y TECNOLÓGICA",null,null,null,null,null,null,null,null,null,null,null,null,null,"LICENCIATURA UNIVERSITARIA Y TECNOLÓGICA"]
[]
[]
[null,"INSTITUCIONES PÚBLICAS (Educación Media Superior)",null,null,null,null,null,null,"INSTITUCIONES PÚBLICAS (Licenciatura Universitaria y Tecnológica)",null,null,null,null,null,null,null,null,null,null,null,null,null,"PÚBLICAS",null,null,null,null,null,"SOLICITUDES 1er INGRESO (PÚBLICAS / TOTAL)"]
[null,"2011-2012","2012-2013","2013-2014","2014-2015",null,null,null,"2011-2012",null,null,"2012-2013",null,null,"2013-2014",null,null,"2014-2015",null,null,null,null,"2011-2012","2012-2013","2013-2014","2014-2015",null,null,"2011-2012","2012-2013","2013-2014","2014-2015"]
[null,"Matrícula","Matrícula","Matrícula","Matrícula",null,null,null,"Solicitudes 1er Ingreso","1er Ingreso",null,"Solicitudes 1er Ingreso","1er Ingreso",null,"Solicitudes 1er Ingreso","1er Ingreso",null,"Solicitudes 1er Ingreso","1er Ingreso",null,null,"México",0.47555251952350602,0.48745111619479364,0.52518378058142257,{"$f":"T8","v":0.50442018407801592},null,"México",{"$f":"I8/I24","v":0.74452065233958242},{"$f":"L8/L24","v":0.74187140345527791},{"$f":"O8/O24","v":0.69895166581614054},{"$f":"R8/R24","v":0.71397120971123196}]
["México",3575925,3672040,3729690,3906800,null,null,"México",928112,441366,{"$f":"J8/I8","v":0.4755525195235058},1143528,557414,{"$f":"M8/L8","v":0.48745111619479364},958752,503521,{"$f":"P8/O8","v":0.52518378058142257},1072806,541145,{"$f":"S8/R8","v":0.50442018407801592},null,"Estado de México",0.47908068566437384,0.43254038926345251,0.45605316832025444,{"$f":"T9","v":0.46383271941540266},null,"Estado de México",{"$f":"I9/I25","v":0.69126093420983115},{"$f":"L9/L25","v":0.70874305772605972},{"$f":"O9/O25","v":0.68182246735492391},{"$f":"R9/R25","v":0.66631712003809118}]
["Estado de México",443804,456480,462981,492356,null,null,"Estado de México",91590,43879,{"$f":"J9/I9","v":0.47908068566437384},117915,51003,{"$f":"M9/L9","v":0.43254038926345251},115708,52769,{"$f":"P9/O9","v":0.45605316832025444},117551,54524,{"$f":"S9/R9","v":0.46383271941540266},null,"Lerma y alrededores",0.24430785566968205,0.26652526031623602,0.25609706856173786,{"$f":"T10","v":0.2764344861178763},null,"Lerma y alrededores",{"$f":"I10/I26","v":0.80541758494786353},{"$f":"L10/L26","v":0.78794232493124872},{"$f":"O10/O26","v":0.77352656401286812},{"$f":"R10/R26","v":0.7460354375917555}]
["Lerma y alrededores*",67409,68287,31347,71997,null,null,"Lerma y alrededores*",48971,11964,{"$f":"J10/I10","v":0.24430785566968205},51860,13822,{"$f":"M10/L10","v":0.26652526031623602},49532,12685,{"$f":"P10/O10","v":0.25609706856173786},51325,14188,{"$f":"S10/R10","v":0.2764344861178763}]
["*Capulhuac, Huixquilucan, Lerma, Naucalpan, Ocoyoacac, Otzolotepec, San Mateo Atenco y Toluca",null,null,null,null,null,null,"*Capulhuac, Huixquilucan, Lerma, Naucalpan, Ocoyoacac, Otzolotepec, San Mateo Atenco y Toluca",null,null,null,null,null,null,null,null,null,null,null,null,null,null,"PRIVADAS",null,null,null,null,null,"1er INGRESO (PÚBLICAS / TOTAL)"]
["Fuente: www.planeación.sep.gob.mx/principalescifras/",null,null,null,null,null,null,null,null,null,null,null,null,null,null,null,null,null,null,null,null,null,"2011-2012","2012-2013","2013-2014","2014-2015",null,null,"2011-2012","2012-2013","2013-2014","2014-2015"]
[null,"INSTITUCIONES PRIVADAS (Educación Media Superior)",null,null,null,null,null,null,"INSTITUCIONES PRIVADAS (Licenciatura Universitaria y Tecnológica)",null,null,null,null,null,null,null,null,null,null,null,null,"México",0.7811465784135796,0.80441437411091732,0.77272683243410789,{"$f":"T16","v":0.76567996947303762},null,"México",{"$f":"J8/J24","v":0.63952740297677002},{"$f":"M8/M24","v":0.63524700390665956},{"$f":"P8/P24","v":0.61209651636180629},{"$f":"S8/S24","v":0.62184706890885311}]
[null,"2011-2012","2012-2013","2013-2014","2014-2015",null,null,null,"2011-2012",null,null,"2012-2013",null,null,"2013-2014",null,null,"2014-2015",null,null,null,"Estado de México",0.93277434179969199,0.94421858555007532,0.93455070745981184,{"$f":"T17","v":0.82165183121560104},null,"Estado de México",{"$f":"J9/J25","v":0.53487493295626309},{"$f":"M9/M25","v":0.52712465247992391},{"$f":"P9/P25","v":0.51117396905968171},{"$f":"S9/S25","v":0.52990971203094472}]
[null,"Matrícula","Matrícula","Matrícula","Matrícula",null,null,null,"Solicitudes 1er Ingreso","1er Ingreso",null,"Solicitudes 1er Ingreso","1er Ingreso",null,"Solicitudes 1er Ingreso","1er Ingreso",null,"Solicitudes 1er Ingreso","1er Ingreso",null,null,"Lerma y alrededores",0.7367931704843208,0.84545389410331728,0.77127292787201762,{"$f":"T18","v":0.75910027472527475},null,"Lerma y alrededores",{"$f":"J10/J26","v":0.5785020066727915},{"$f":"M10/M26","v":0.53945827804230739},{"$f":"P10/P26","v":0.53142019271051533},{"$f":"S10/S26","v":0.51684820225128414}]
["México",757664,771752,873147,906365,null,null,"México",318478,248778,{"$f":"J16/I16","v":0.7811465784135796},397882,320062,{"$f":"M16/L16","v":0.80441437411091732},412948,319096,{"$f":"P16/O16","v":0.77272683243410789},429784,329077,{"$f":"S16/R16","v":0.76567996947303762}]
["Estado de México",87560,87689,101400,102819,null,null,"Estado de México",40907,38157,{"$f":"J17/I17","v":0.93277434179969199},48457,45754,{"$f":"M17/L17","v":0.94421858555007532},53996,50462,{"$f":"P17/O17","v":0.93455070745981184},58868,48369,{"$f":"S17/R17","v":0.82165183121560104},null,null,"PÚBLICAS+PRIVADAS"]
["Lerma y alrededores*",23773,23484,9976,24591,null,null,"Lerma y alrededores*",11831,8717,{"$f":"J18/I18","v":0.7367931704843208},13957,11800,{"$f":"M18/L18","v":0.84545389410331728},14502,11185,{"$f":"P18/O18","v":0.77127292787201762},17472,13263,{"$f":"S18/R18","v":0.75910027472527475},null,null,"2011-2012","2012-2013","2013-2014","2014-2015"]
["*Capulhuac, Huixquilucan, Lerma, Naucalpan, Ocoyoacac, Otzolotepec, San Mateo Atenco y Toluca",null,null,null,null,null,null,"*Capulhuac, Huixquilucan, Lerma, Naucalpan, Ocoyoacac, Otzolotepec, San Mateo Atenco y Toluca",null,null,null,null,null,null,null,null,null,null,null,null,null,"México",0.55362549033764108,0.56926839711692545,0.59970620398046215,{"$f":"T24","v":0.57914800444565717}]
["Fuente: www.planeación.sep.gob.mx/principalescifras/",null,null,null,null,null,null,"Fuente: http://www.anuies.mx/informacion-y-servicios/informacion-estadistica-de-educacion-superior/anuario-estadistico-de-educacion-superior",null,null,null,null,null,null,null,null,null,null,null,null,null,"Estado de México",0.6191536412145181,0.58157021614213933,0.60830033470041955,{"$f":"T25","v":0.58323083114630514}]
[null,"INSTITUCIONES PRIVADAS+PÚBLICAS (Educación Media Superior)",null,null,null,null,null,null,"INSTITUCIONES PRIVADAS+PÚBLICAS (Licenciatura Universitaria y Tecnológica)",null,null,null,null,null,null,null,null,null,null,null,null,"Lerma y alrededores",0.34013683760402619,0.38929152042785298,0.37277071555736013,{"$f":"T26","v":0.39901449191098448}]
[null,"2011-2012","2012-2013","2013-2014","2014-2015",null,null,null,"2011-2012",null,null,"2012-2013",null,null,"2013-2014",null,null,"2014-2015"]
[null,"Matrícula","Matrícula","Matrícula","Matrícula",null,null,null,"Solicitudes 1er Ingreso","1er Ingreso",null,"Solicitudes 1er Ingreso","1er Ingreso",null,"Solicitudes 1er Ingreso","1er Ingreso",null,"Solicitudes 1er Ingreso","1er Ingreso"]
["México",{"$f":"B16+B8","v":4333589},4443792,{"$f":"D8+D16","v":4602837},4813165,null,null,"México",{"$f":"I16+I8","v":1246590},690144,{"$f":"J24/I24","v":0.55362549033764108},{"$f":"L16+L8","v":1541410},877476,{"$f":"M24/L24","v":0.56926839711692545},{"$f":"O16+O8","v":1371700},822617,{"$f":"P24/O24","v":0.59970620398046215},{"$f":"R8+R16","v":1502590},870222,{"$f":"S24/R24","v":0.57914800444565717}]
["Estado de México",531364,544169,564381,595175,null,null,"Estado de México",132497,82036,{"$f":"J25/I25","v":0.6191536412145181},166372,96757,{"$f":"M25/L25","v":0.58157021614213933},169704,103231,{"$f":"P25/O25","v":0.60830033470041955},176419,102893,{"$f":"S25/R25","v":0.58323083114630514}]
["Lerma y alrededores*",91182,91771,41323,96588,null,null,"Lerma y alrededores*",60802,20681,{"$f":"J26/I26","v":0.34013683760402619},65817,25622,{"$f":"M26/L26","v":0.38929152042785298},64034,23870,{"$f":"P26/O26","v":0.37277071555736013},68797,27451,{"$f":"S26/R26","v":0.39901449191098448}]
["*Capulhuac, Huixquilucan, Lerma, Naucalpan, Ocoyoacac, Otzolotepec, San Mateo Atenco y Toluca",null,null,null,null,null,null,"*Capulhuac, Huixquilucan, Lerma, Naucalpan, Ocoyoacac, Otzolotepec, San Mateo Atenco y Toluca"]
[null,null,null,null,null,null,null,"Fuente: http://www.anuies.mx/informacion-y-servicios/informacion-estadistica-de-educacion-superior/anuario-estadistico-de-educacion-superior"]
["Fuente: www.planeación.sep.gob.mx/principalescifras/"]
[null,null,null,null,null,null,null,null,"INSTITUCIONES PÚBLICAS / TOTAL (Licenciatura Universitaria y Tecnológica)"]
[null,null,null,null,null,null,null,null,"2011-2012",null,null,"2012-2013",null,null,"2013-2014",null,null,"2014-2015"]
[null,null,null,null,null,null,null,null,"Solicitudes 1er Ingreso","1er Ingreso",null,"Solicitudes 1er Ingreso","1er Ingreso",null,"Solicitudes 1er Ingreso","1er Ingreso",null,"Solicitudes 1er Ingreso","1er Ingreso"]
[null,null,null,null,null,null,null,"México",{"$f":"I8/I24","v":0.74452065233958242},0.63952740297677002,null,{"$f":"L8/L24","v":0.74187140345527791},0.63524700390665956,null,{"$f":"O8/O24","v":0.69895166581614054},{"$f":"P8/P24","v":0.61209651636180629},null,{"$f":"R8/R24","v":0.71397120971123196},0.62184706890885311]
[null,null,null,null,null,null,null,"Estado de México",0.69126093420983115,0.53487493295626309,null,0.70874305772605972,0.52712465247992391,null,0.68182246735492391,0.51117396905968171,null,0.66631712003809118,0.52990971203094472]
[null,null,null,null,null,null,null,"Lerma y alrededores*",0.80541758494786353,0.5785020066727915,null,0.78794232493124872,0.53945827804230739,null,0.77352656401286812,0.53142019271051533,null,0.7460354375917555,0.51684820225128414]
[null,null,null,null,null,null,null,"*Capulhuac, Huixquilucan, Lerma, Naucalpan, Ocoyoacac, Otzolotepec, San Mateo Atenco y Toluca"]
[]
[null,null,null,null,null,null,null,"Fuente: http://www.anuies.mx/informacion-y-servicios/informacion-estadistica-de-educacion-superior/anuario-estadistico-de-educacion-superior"]

{"sheet":"Aspirantes plan","index":4,"n_rows":21,"n_cols":23,"rows_kept":21,"cut":false,"hidden":false,"merged":[[16,3,17,3],[20,3,20,4],[16,16,17,16],[20,16,20,17],[13,18,13,22],[19,16,19,17],[19,3,19,4],[13,5,13,9],[2,14,2,16],[2,11,2,13],[2,1,3,1],[2,5,2,7],[6,0,7,0],[2,0,3,0],[2,8,2,10],[2,2,2,4]]}
["INDICE"]
["ASPIRANTES A LICENCIATURA POR TRIMESTRE DE INGRESO"]
["DIV","PLAN DE ESTUDIOS",2011,null,null,2012,null,null,2013,null,null,2014,null,null,2015]
[null,null,"P","O","Total","P","O","Total","P","O","Total","P","O","Total","P","O","Total"]
["CBI","Ingeniería en Recursos Hídricos",21,46,{"$f":"SUM(C5:D5)","v":67},null,33,{"$f":"SUM(F5:G5)","v":33},20,40,{"$f":"SUM(I5:J5)","v":60},21,45,{"$f":"SUM(L5:M5)","v":66},23,56,{"$f":"SUM(O5:P5)","v":79}]
["CBS","Biología Ambiental",34,133,{"$f":"SUM(C6:D6)","v":167},null,63,{"$f":"SUM(F6:G6)","v":63},32,115,{"$f":"SUM(I6:J6)","v":147},43,39,{"$f":"SUM(L6:M6)","v":82},38,133,{"$f":"SUM(O6:P6)","v":171}]
["CSH","Políticas Públicas",49,119,{"$f":"SUM(C7:D7)","v":168},null,67,{"$f":"SUM(F7:G7)","v":67},30,79,{"$f":"SUM(I7:J7)","v":109},null,93,{"$f":"SUM(L7:M7)","v":93},null,141,{"$f":"SUM(O7:P7)","v":141}]
[null,"Arte y Comunicación Digitales",null,null,null,null,null,null,null,85,{"$f":"SUM(I8:J8)","v":85},null,192,{"$f":"SUM(L8:M8)","v":192},null,254,{"$f":"SUM(O8:P8)","v":254}]
[null,"Total Unidad",{"$f":"SUM(C5:C8)","v":104},298,402,0,163,163,82,319,401,64,369,433,61,584,645]
["La categoría aspirantes considera a los que presentan el examen de admisión."]
["FUENTE: Coordinación General de Información Institucional. Departamento de Admisión"]
[]
[null,"Total UAM",25150,53877,{"$f":"SUM(C13:D13)","v":79027},25485,61584,{"$f":"SUM(F13:G13)","v":87069},23871,64247,{"$f":"SUM(I13:J13)","v":88118},21515,64638,{"$f":"SUM(L13:M13)","v":86153},23957,68733,{"$f":"SUM(O13:P13)","v":92690}]
[null,null,null,null,null,"Aspirantes Anual","Aspirantes Anual",null,null,null,null,null,null,null,null,null,null,null,"Otoño / Total"]
[null,null,null,null,null,2011,2012,2013,2014,2015,null,null,null,null,null,null,null,null,2011,2012,2013,2014,2015]
[null,null,null,"CBI","IRH",{"$f":"E5","v":67},{"$f":"H5","v":33},{"$f":"K5","v":60},{"$f":"N5","v":66},{"$f":"Q5","v":79},null,null,null,null,null,null,"CBI","IRH",{"$f":"D5/E5","v":0.68656716417910446},null,{"$f":"J5/K5","v":0.66666666666666663},{"$f":"M5/N5","v":0.68181818181818177},{"$f":"P5/Q5","v":0.70886075949367089}]
[null,null,null,"CSH","PP",{"$f":"E7","v":168},{"$f":"H7","v":67},{"$f":"K7","v":109},{"$f":"N7","v":93},{"$f":"Q7","v":141},null,null,null,null,null,null,"CSH","PP",{"$f":"D7/E7","v":0.70833333333333337},null,{"$f":"J7/K7","v":0.72477064220183485}]
[null,null,null,null,"ACD",null,null,{"$f":"K8","v":85},{"$f":"N8","v":192},{"$f":"Q8","v":254},null,null,null,null,null,null,null,"ACD"]
[null,null,null,"CBS","BA",{"$f":"E6","v":167},{"$f":"H6","v":63},{"$f":"K6","v":147},{"$f":"N6","v":82},{"$f":"Q6","v":171},null,null,null,null,null,null,"CBS","BA",{"$f":"D6/E6","v":0.79640718562874246},null,{"$f":"J6/K6","v":0.78231292517006801},{"$f":"M6/N6","v":0.47560975609756095},{"$f":"P6/Q6","v":0.77777777777777779}]
[null,null,null,null,null,2011,2012,2013,2014,2015,null,null,null,null,null,null,null,null,2011,2012,2013,2014,2015]
[null,null,null,"Total UAML",null,{"$f":"SUM(F16:F19)","v":402},{"$f":"SUM(G16:G19)","v":163},{"$f":"SUM(H16:H19)","v":401},{"$f":"SUM(I16:I19)","v":433},{"$f":"SUM(J16:J19)","v":645},null,null,null,null,null,null,"Total UAML",null,{"$f":"D9/E9","v":0.74129353233830841},null,{"$f":"(J9-J8)/(K9-K8)","v":0.740506329113924},{"$f":"(M5+M6)/(N5+N6)","v":0.56756756756756754},{"$f":"(P5+P6)/(Q5+Q6)","v":0.75600000000000001}]

{"sheet":"Aspirantes Div","index":5,"n_rows":14,"n_cols":11,"rows_kept":14,"cut":false,"hidden":false,"merged":[[2,3,2,4],[2,1,2,2],[2,9,2,10],[2,7,2,8],[2,5,2,6]]}
["INDICE"]
["ASPIRANTES A LICENCIATURA POR AÑO DE INGRESO"]
["DIVISIÓN",2011,null,2012,null,2013,null,2014,null,2015]
["CBI",67,{"$f":"B4/B$7","v":0.16666666666666666},33,{"$f":"D4/D$7","v":0.20245398773006135},60,{"$f":"F4/F$7","v":0.14962593516209477},66,{"$f":"H4/H$7","v":0.15242494226327943},79,{"$f":"J4/J$7","v":0.12248062015503876}]
["CBS",167,{"$f":"B5/B$7","v":0.4154228855721393},63,{"$f":"D5/D$7","v":0.38650306748466257},147,{"$f":"F5/F$7","v":0.36658354114713215},82,{"$f":"H5/H$7","v":0.18937644341801385},171,{"$f":"J5/J$7","v":0.26511627906976742}]
["CSH",168,{"$f":"B6/B$7","v":0.41791044776119401},67,{"$f":"D6/D$7","v":0.41104294478527609},194,{"$f":"F6/F$7","v":0.48379052369077308},285,{"$f":"H6/H$7","v":0.65819861431870674},395,{"$f":"J6/J$7","v":0.61240310077519378}]
["TOTAL",402,{"$f":"B7/B$7","v":1},163,{"$f":"D7/D$7","v":1},401,{"$f":"F7/F$7","v":1},433,{"$f":"H7/H$7","v":1},645,{"$f":"J7/J$7","v":1}]
["FUENTE: Coordinación General de Información Institucional. Departamento de Admisión"]
[]
[]
[{"$f":"A3","v":"DIVISIÓN"},2011,2012,2013,2014,2015]
["CBI",67,33,60,66,79]
["CBS",167,63,147,82,171]
["CSH",168,67,194,285,395]

{"sheet":"Asp x gen","index":6,"n_rows":19,"n_cols":16,"rows_kept":19,"cut":false,"hidden":false,"merged":[[14,9,14,10],[14,0,15,0],[14,1,14,2],[14,3,14,4],[14,5,14,6],[14,7,14,8],[2,0,3,0],[2,13,2,15],[2,10,2,12],[2,1,2,3],[2,4,2,6],[2,7,2,9]]}
["INDICE"]
["ASPIRANTES POR GÉNERO "]
["DIVISIÓN",2011,null,null,2012,null,null,2013,null,null,2014,null,null,2015]
[null,"Femenino","Masculino","Total","Femenino","Masculino","Total","Femenino","Masculino","Total","Femenino","Masculino","Total","Femenino","Masculino","Total"]
["CBI",20,47,67,15,18,33,20,40,60,32,34,66,33,46,79]
["CBS",107,60,167,39,24,63,100,47,147,50,32,82,113,58,171]
["CSH",99,69,168,34,33,67,106,88,194,150,135,285,219,176,395]
["TOTAL",226,176,402,88,75,163,226,175,401,232,201,433,365,280,645]
[null,{"$f":"B8/$D8","v":0.56218905472636815},{"$f":"C8/$D8","v":0.43781094527363185},null,{"$f":"E8/$G8","v":0.53987730061349692},{"$f":"F8/$G8","v":0.46012269938650308},null,{"$f":"H8/$J8","v":0.56359102244389025},{"$f":"I8/$J8","v":0.43640897755610975},null,{"$f":"K8/$M8","v":0.53579676674364896},{"$f":"L8/$M8","v":0.46420323325635104},null,{"$f":"N8/$P8","v":0.56589147286821706},{"$f":"O8/$P8","v":0.43410852713178294}]
["TOTAL UAM",42701,36326,79027,46619,40450,87069,47411,40707,88118,46359,39794,86153,50302,42388,92690]
[null,{"$f":"B10/$D10","v":0.5403343161198072},{"$f":"C10/$D10","v":0.45966568388019285},null,{"$f":"E10/$G10","v":0.53542592656398946},{"$f":"F10/$G10","v":0.46457407343601054},null,{"$f":"H10/$J10","v":0.5380399010417849},{"$f":"I10/$J10","v":0.4619600989582151},null,{"$f":"K10/$M10","v":0.53810082063305975},{"$f":"L10/$M10","v":0.46189917936694019},null,{"$f":"N10/$P10","v":0.54269068939475673},{"$f":"O10/$P10","v":0.45730931060524327}]
["FUENTE: Coordinación General de Información Institucional. Departamento de Admisión"]
[]
[]
[null,2011,null,2012,null,2013,null,2014,null,2015]
[null,"Femenino","Masculino","Femenino","Masculino","Femenino","Masculino","Femenino","Masculino","Femenino","Masculino"]
["CBI",{"$f":"B5","v":20},47,{"$f":"E5","v":15},18,{"$f":"H5","v":20},40,{"$f":"K5","v":32},34,{"$f":"N5","v":33},46]
["CBS",107,60,39,24,100,47,50,32,113,58]
["CSH",99,69,34,33,106,88,150,135,219,176]

{"sheet":"Aspirantes Comp","index":7,"n_rows":22,"n_cols":8,"rows_kept":22,"cut":false,"hidden":false,"merged":[[3,0,5,0],[17,0,19,0],[8,0,10,0],[1,0,1,6]]}
["INDICE"]
["ASPIRANTES A LICENCIATURA"]
[null,null,2011,2012,2013,2014,2015]
["LER","Total",402,163,401,433,645]
[null,"Licenciaturas",3,3,4,4,4]
[null,"Prom/Lic",{"$f":"C4/C5","v":134},{"$f":"D4/D5","v":54.333333333333336},{"$f":"E4/E5","v":100.25},{"$f":"F4/F5","v":108.25},{"$f":"G4/G5","v":161.25}]
[]
[null,null,2005,2006,2007,2008,2009,2010]
["CUA","Total Unidad",826,286,927,1153,1362,1844]
[null,"Licenciaturas",5,4,8,9,9,10]
[null,"Prom/Lic",{"$f":"C9/C10","v":165.2},71.5,115.875,128.11111111111111,151.33333333333334,184.4]
[null,null,2011,2012,2013,2014,2015]
[null,"Total Unidad",1712,1698,3373,3920,4469]
[null,"Licenciaturas",10,10,10,10,11]
[null,"Prom/Lic",{"$f":"C13/C14","v":171.2},{"$f":"D13/D14","v":169.8},{"$f":"E13/E14","v":337.3},{"$f":"F13/F14","v":392},{"$f":"G13/G14","v":406.27272727272725}]
[]
[null,null,2011,2012,2013,2014,2015]
["UAM","Total UAM",79027,87069,88118,86153,92690]
[null,"Licenciaturas",76,74,75,75,76]
[null,"Prom/Lic",{"$f":"C18/C19","v":1039.828947368421},{"$f":"D18/D19","v":1176.6081081081081},{"$f":"E18/E19","v":1174.9066666666668},{"$f":"F18/F19","v":1148.7066666666667},{"$f":"G18/G19","v":1219.6052631578948}]
["La categoría aspirantes considera a los que presentan el examen de admisión."]
["FUENTE: Coordinación General de Información Institucional. Departamento de Admisión"]

{"sheet":"Admitidos Plan Trimestre","index":8,"n_rows":45,"n_cols":18,"rows_kept":45,"cut":false,"hidden":false,"merged":[[18,0,19,0],[43,0,44,0],[2,14,2,16],[6,0,7,0],[10,0,10,1],[2,0,3,0],[2,1,3,1],[2,2,2,4],[2,5,2,7],[2,8,2,10],[2,11,2,13]]}
["INDICE"]
["ADMITIDOS A LICENCIATURA POR TRIMESTRE DE INGRESO "]
["DIV","PLAN DE ESTUDIO",2011,null,null,2012,null,null,2013,null,null,2014,null,null,2015]
[null,null,"P","O","Tot","P","O","Tot","P","O","Tot","P","O","Tot","P","O","Tot"]
["CBI","Ingeniería en Recursos Hídricos",37,40,77,null,32,32,35,38,73,21,35,56,23,56,79]
["CBS","Biología Ambiental",39,41,80,null,38,38,25,48,73,35,31,66,38,47,85]
["CSH","Políticas Públicas",38,43,81,null,37,37,27,39,66,null,40,40,null,50,50]
[null,"Arte y Comunicación Digitales",null,null,null,null,null,null,null,22,22,null,25,25,null,26,26]
[null,"Total Unidad",114,124,238,0,107,107,87,147,234,56,131,187,61,179,240]
[]
["Total UAM",null,5043,7670,12713,4467,7760,12227,4498,7912,12410,4288,7623,11911,4392,7693,12085]
[null,"UAML/UAM",{"$f":"C9/C11","v":2.2605591909577633E-2},{"$f":"D9/D11","v":1.6166883963494132E-2},1.8720994257846298E-2,0,1.3788659793814433E-2,8.7511245603991168E-3,1.9341929746554024E-2,1.8579373104145602E-2,1.8855761482675263E-2,1.3059701492537313E-2,1.7184835366653547E-2,1.569977331878096E-2,1.3888888888888888E-2,2.3267905888470039E-2,{"$f":"Q9/Q11","v":1.9859329747621019E-2}]
["La categoría admitidos comprende a los elegidos en los procesos de selección. A partir del 2004 se incluyen los datos de admitidos por lista complementaria"]
["FUENTE: Coordinación General de Información Institucional. Departamento de Admisión"]
[]
[null,null,2011,2012,2013,2014,2015,null,null,null,null,null,null,2011,2012,2013,2014,2015]
["CBI","IRH",{"$f":"E5","v":77},{"$f":"H5","v":32},{"$f":"K5","v":73},{"$f":"N5","v":56},{"$f":"Q5","v":79},null,null,null,null,null,"UAM-L",{"$f":"E9","v":238},{"$f":"H9","v":107},{"$f":"K9","v":234},{"$f":"N9","v":187},{"$f":"Q9","v":240}]
["CBS","BS",{"$f":"E6","v":80},{"$f":"H6","v":38},{"$f":"K6","v":73},{"$f":"N6","v":66},{"$f":"Q6","v":85}]
["CSH","PP",{"$f":"E7","v":81},{"$f":"H7","v":37},{"$f":"K7","v":66},{"$f":"N7","v":40},{"$f":"Q7","v":50}]
[null,"ACD",null,null,{"$f":"K8","v":22},{"$f":"N8","v":25},{"$f":"Q8","v":26}]
[]
[]
[]
[]
[]
[]
[]
[]
[]
[]
[]
[]
[]
[]
[]
[]
[]
[]
[]
[]
[null,null,2011,2012,2013,2014,2015]
["CBI","IRH",{"$f":"E5/$E$9","v":0.3235294117647059},{"$f":"H5/H$9","v":0.29906542056074764},{"$f":"K5/K$9","v":0.31196581196581197},{"$f":"N5/N$9","v":0.29946524064171121},{"$f":"Q5/Q$9","v":0.32916666666666666}]
["CBS","BS",{"$f":"E6/$E$9","v":0.33613445378151263},{"$f":"H6/H$9","v":0.35514018691588783},{"$f":"K6/K$9","v":0.31196581196581197},{"$f":"N6/N$9","v":0.35294117647058826},{"$f":"Q6/Q$9","v":0.35416666666666669}]
["CSH","PP",{"$f":"E7/$E$9","v":0.34033613445378152},{"$f":"H7/H$9","v":0.34579439252336447},{"$f":"K7/K$9","v":0.28205128205128205},{"$f":"N7/N$9","v":0.21390374331550802},{"$f":"Q7/Q$9","v":0.20833333333333334}]
[null,"ACD",null,null,{"$f":"K8/K$9","v":9.4017094017094016E-2},{"$f":"N8/N$9","v":0.13368983957219252},{"$f":"Q8/Q$9","v":0.10833333333333334}]

{"sheet":"Admitidos Div","index":9,"n_rows":38,"n_cols":11,"rows_kept":38,"cut":false,"hidden":false,"merged":[[13,1,13,2],[13,3,13,4],[10,1,10,2],[10,3,10,4],[11,1,11,2],[11,3,11,4],[12,1,12,2],[12,3,12,4],[2,1,2,2],[2,3,2,4],[2,5,2,6],[2,7,2,8],[2,9,2,10]]}
["INDICE"]
["ADMITIDOS A LICENCIATURA POR DIVISIÓN"]
["DIVISIÓN",2011,null,2012,null,2013,null,2014,null,2015]
["CBI",77,{"$f":"B4/B$7","v":0.3235294117647059},32,{"$f":"D4/D$7","v":0.29906542056074764},73,{"$f":"F4/F$7","v":0.31196581196581197},56,{"$f":"H4/H$7","v":0.29946524064171121},79,{"$f":"J4/J$7","v":0.32916666666666666}]
["CBS",80,{"$f":"B5/B$7","v":0.33613445378151263},38,{"$f":"D5/D$7","v":0.35514018691588783},73,{"$f":"F5/F$7","v":0.31196581196581197},66,{"$f":"H5/H$7","v":0.35294117647058826},85,{"$f":"J5/J$7","v":0.35416666666666669}]
["CSH",81,{"$f":"B6/B$7","v":0.34033613445378152},37,{"$f":"D6/D$7","v":0.34579439252336447},88,{"$f":"F6/F$7","v":0.37606837606837606},65,{"$f":"H6/H$7","v":0.34759358288770054},76,{"$f":"J6/J$7","v":0.31666666666666665}]
["TOTAL",238,{"$f":"B7/B$7","v":1},107,{"$f":"D7/D$7","v":1},234,{"$f":"F7/F$7","v":1},187,{"$f":"H7/H$7","v":1},240,{"$f":"J7/J$7","v":1}]
["La categoría admitidos comprende a los elegidos en los procesos de selección. A partir del 2004 se incluyen los datos de admitidos por lista complementaria"]
["FUENTE: Coordinación General de Información Institucional. Departamento de Admisión"]
[]
[null,2011,2012,2013,2014,2015]
["CBI",{"$f":"B4","v":77},{"$f":"D4","v":32},{"$f":"F4","v":73},{"$f":"H4","v":56},{"$f":"J4","v":79}]
["CBS",{"$f":"B5","v":80},{"$f":"D5","v":38},{"$f":"F5","v":73},{"$f":"H5","v":66},{"$f":"J5","v":85}]
["CSH",{"$f":"B6","v":81},{"$f":"D6","v":37},{"$f":"F6","v":88},{"$f":"H6","v":65},{"$f":"J6","v":76}]
[]
[]
[]
[]
[]
[]
[]
[]
[]
[]
[]
[]
[]
[]
[]
[]
[]
[]
[]
[]
[null,2011,2012,2013,2014,2015]
["CBI",{"$f":"C4","v":0.3235294117647059},{"$f":"E4","v":0.29906542056074764},{"$f":"G4","v":0.31196581196581197},{"$f":"I4","v":0.29946524064171121},{"$f":"K4","v":0.32916666666666666}]
["CBS",{"$f":"C5","v":0.33613445378151263},{"$f":"E5","v":0.35514018691588783},{"$f":"G5","v":0.31196581196581197},{"$f":"I5","v":0.35294117647058826},{"$f":"K5","v":0.35416666666666669}]
["CSH",{"$f":"C6","v":0.34033613445378152},{"$f":"E6","v":0.34579439252336447},{"$f":"G6","v":0.37606837606837606},{"$f":"I6","v":0.34759358288770054},{"$f":"K6","v":0.31666666666666665}]

{"sheet":"Admitidos x gen","index":10,"n_rows":28,"n_cols":16,"rows_kept":28,"cut":false,"hidden":false,"merged":[[25,1,25,2],[25,3,25,4],[25,5,25,6],[25,7,25,8],[25,9,25,10],[14,1,14,2],[14,3,14,4],[14,5,14,6],[14,7,14,8],[14,9,14,10],[2,13,2,15],[2,0,3,0],[2,1,2,3],[2,4,2,6],[2,7,2,9],[2,10,2,12]]}
["INDICE"]
["ADMITIDOS POR GÉNERO"]
["DIVISIÓN",2011,null,null,2012,null,null,2013,null,null,2014,null,null,2015]
[null,"Femenino","Masculino","Total","Femenino","Masculino","Total","Femenino","Masculino","Total","Femenino","Masculino","Total","Femenino","Masculino","Total"]
["CBI",24,53,77,15,17,32,31,42,73,27,29,56,33,46,79]
["CBS",54,26,80,23,15,38,52,21,73,42,24,66,59,26,85]
["CSH",47,34,81,18,19,37,45,43,88,32,33,65,46,30,76]
["TOTAL",125,113,238,56,51,107,128,106,234,101,86,187,138,102,240]
[null,{"$f":"B8/$D8","v":0.52521008403361347},{"$f":"C8/$D8","v":0.47478991596638653},null,{"$f":"E8/$G8","v":0.52336448598130836},{"$f":"F8/$G8","v":0.47663551401869159},null,{"$f":"H8/$J8","v":0.54700854700854706},{"$f":"I8/$J8","v":0.45299145299145299},null,{"$f":"K8/$M8","v":0.5401069518716578},{"$f":"L8/$M8","v":0.45989304812834225},null,{"$f":"N8/$P8","v":0.57499999999999996},{"$f":"O8/$P8","v":0.42499999999999999}]
["TOTAL UAM",5878,6835,12713,5723,6504,12227,5871,6539,12410,5699,6212,11911,5845,6240,12085]
[null,{"$f":"B10/$D10","v":0.46236136238496028},{"$f":"C10/$D10","v":0.53763863761503972},null,{"$f":"E10/$G10","v":0.46806248466508549},{"$f":"F10/$G10","v":0.53193751533491451},null,{"$f":"H10/$J10","v":0.47308622078968576},{"$f":"I10/$J10","v":0.52691377921031424},null,{"$f":"K10/$M10","v":0.47846528419108386},{"$f":"L10/$M10","v":0.52153471580891608},null,{"$f":"N10/$P10","v":0.48365742656185357},{"$f":"O10/$P10","v":0.51634257343814649}]
["La categoría admitidos comprende a los elegidos en los procesos de selección. A partir del 2004 se incluyen los datos de admitidos por lista complementaria"]
["FUENTE: Coordinación General de Información Institucional. Departamento de Admisión"]
[]
[null,2011,null,2012,null,2013,null,2014,null,2015]
[null,"Femenino","Masculino","Femenino","Masculino","Femenino","Masculino","Femenino","Masculino","Femenino","Masculino"]
["CBI",{"$f":"B5","v":24},53,{"$f":"E5","v":15},17,{"$f":"H5","v":31},42,{"$f":"K5","v":27},29,{"$f":"N5","v":33},46]
["CBS",54,26,23,15,52,21,42,24,59,26]
["CSH",47,34,18,19,45,43,32,33,46,30]
[]
[]
[]
[]
[]
[]
[null,2011,null,2012,null,2013,null,2014,null,2015]
[null,"Femenino","Masculino","Femenino","Masculino","Femenino","Masculino","Femenino","Masculino","Femenino","Masculino"]
[null,{"$f":"B8","v":125},{"$f":"C8","v":113},{"$f":"E8","v":56},{"$f":"F8","v":51},{"$f":"H8","v":128},{"$f":"I8","v":106},{"$f":"K8","v":101},{"$f":"L8","v":86},{"$f":"N8","v":138},{"$f":"O8","v":102}]

{"sheet":"Adms x Aspir ","index":11,"n_rows":34,"n_cols":17,"rows_kept":34,"cut":false,"hidden":false,"merged":[[17,0,18,0],[2,14,2,16],[6,0,7,0],[10,0,10,1],[2,0,3,0],[2,1,3,1],[2,2,2,4],[2,5,2,7],[2,8,2,10],[2,11,2,13]]}
["INDICE"]
["Admitidos / Aspirantes"]
["DIV","PLAN DE ESTUDIO",2011,null,null,2012,null,null,2013,null,null,2014,null,null,2015]
[null,null,"P","O","Total","P","O","Total","P","O","Total","P","O","Total","P","O","Total"]
["CBI","Ingeniería en Recursos Hídricos",{"$f":"'Admitidos Plan Trimestre'!C5/'Aspirantes plan'!C5","v":1.7619047619047619},{"$f":"'Admitidos Plan Trimestre'!D5/'Aspirantes plan'!D5","v":0.86956521739130432},{"$f":"'Admitidos Plan Trimestre'!E5/'Aspirantes plan'!E5","v":1.1492537313432836},null,{"$f":"'Admitidos Plan Trimestre'!G5/'Aspirantes plan'!G5","v":0.96969696969696972},{"$f":"'Admitidos Plan Trimestre'!H5/'Aspirantes plan'!H5","v":0.96969696969696972},{"$f":"'Admitidos Plan Trimestre'!I5/'Aspirantes plan'!I5","v":1.75},{"$f":"'Admitidos Plan Trimestre'!J5/'Aspirantes plan'!J5","v":0.95},{"$f":"'Admitidos Plan Trimestre'!K5/'Aspirantes plan'!K5","v":1.2166666666666666},{"$f":"'Admitidos Plan Trimestre'!L5/'Aspirantes plan'!L5","v":1},{"$f":"'Admitidos Plan Trimestre'!M5/'Aspirantes plan'!M5","v":0.77777777777777779},{"$f":"'Admitidos Plan Trimestre'!N5/'Aspirantes plan'!N5","v":0.84848484848484851},{"$f":"'Admitidos Plan Trimestre'!O5/'Aspirantes plan'!O5","v":1},{"$f":"'Admitidos Plan Trimestre'!P5/'Aspirantes plan'!P5","v":1},{"$f":"'Admitidos Plan Trimestre'!Q5/'Aspirantes plan'!Q5","v":1}]
["CBS","Biología Ambiental",{"$f":"'Admitidos Plan Trimestre'!C6/'Aspirantes plan'!C6","v":1.1470588235294117},{"$f":"'Admitidos Plan Trimestre'!D6/'Aspirantes plan'!D6","v":0.30827067669172931},{"$f":"'Admitidos Plan Trimestre'!E6/'Aspirantes plan'!E6","v":0.47904191616766467},null,{"$f":"'Admitidos Plan Trimestre'!G6/'Aspirantes plan'!G6","v":0.60317460317460314},{"$f":"'Admitidos Plan Trimestre'!H6/'Aspirantes plan'!H6","v":0.60317460317460314},{"$f":"'Admitidos Plan Trimestre'!I6/'Aspirantes plan'!I6","v":0.78125},{"$f":"'Admitidos Plan Trimestre'!J6/'Aspirantes plan'!J6","v":0.41739130434782606},{"$f":"'Admitidos Plan Trimestre'!K6/'Aspirantes plan'!K6","v":0.49659863945578231},{"$f":"'Admitidos Plan Trimestre'!L6/'Aspirantes plan'!L6","v":0.81395348837209303},{"$f":"'Admitidos Plan Trimestre'!M6/'Aspirantes plan'!M6","v":0.79487179487179482},{"$f":"'Admitidos Plan Trimestre'!N6/'Aspirantes plan'!N6","v":0.80487804878048785},{"$f":"'Admitidos Plan Trimestre'!O6/'Aspirantes plan'!O6","v":1},{"$f":"'Admitidos Plan Trimestre'!P6/'Aspirantes plan'!P6","v":0.35338345864661652},{"$f":"'Admitidos Plan Trimestre'!Q6/'Aspirantes plan'!Q6","v":0.49707602339181284}]
["CSH","Políticas Públicas",{"$f":"'Admitidos Plan Trimestre'!C7/'Aspirantes plan'!C7","v":0.77551020408163263},{"$f":"'Admitidos Plan Trimestre'!D7/'Aspirantes plan'!D7","v":0.36134453781512604},{"$f":"'Admitidos Plan Trimestre'!E7/'Aspirantes plan'!E7","v":0.48214285714285715},null,{"$f":"'Admitidos Plan Trimestre'!G7/'Aspirantes plan'!G7","v":0.55223880597014929},{"$f":"'Admitidos Plan Trimestre'!H7/'Aspirantes plan'!H7","v":0.55223880597014929},{"$f":"'Admitidos Plan Trimestre'!I7/'Aspirantes plan'!I7","v":0.9},{"$f":"'Admitidos Plan Trimestre'!J7/'Aspirantes plan'!J7","v":0.49367088607594939},{"$f":"'Admitidos Plan Trimestre'!K7/'Aspirantes plan'!K7","v":0.60550458715596334},null,{"$f":"'Admitidos Plan Trimestre'!M7/'Aspirantes plan'!M7","v":0.43010752688172044},{"$f":"'Admitidos Plan Trimestre'!N7/'Aspirantes plan'!N7","v":0.43010752688172044},null,{"$f":"'Admitidos Plan Trimestre'!P7/'Aspirantes plan'!P7","v":0.3546099290780142},{"$f":"'Admitidos Plan Trimestre'!Q7/'Aspirantes plan'!Q7","v":0.3546099290780142}]
[null,"Arte y Comunicación Digitales",null,null,null,null,null,null,null,{"$f":"'Admitidos Plan Trimestre'!J8/'Aspirantes plan'!J8","v":0.25882352941176473},{"$f":"'Admitidos Plan Trimestre'!K8/'Aspirantes plan'!K8","v":0.25882352941176473},null,{"$f":"'Admitidos Plan Trimestre'!M8/'Aspirantes plan'!M8","v":0.13020833333333334},{"$f":"'Admitidos Plan Trimestre'!N8/'Aspirantes plan'!N8","v":0.13020833333333334},null,{"$f":"'Admitidos Plan Trimestre'!P8/'Aspirantes plan'!P8","v":0.10236220472440945},{"$f":"'Admitidos Plan Trimestre'!Q8/'Aspirantes plan'!Q8","v":0.10236220472440945}]
[null,"Total Unidad",{"$f":"'Admitidos Plan Trimestre'!C9/'Aspirantes plan'!C9","v":1.0961538461538463},{"$f":"'Admitidos Plan Trimestre'!D9/'Aspirantes plan'!D9","v":0.41610738255033558},{"$f":"'Admitidos Plan Trimestre'!E9/'Aspirantes plan'!E9","v":0.59203980099502485},null,{"$f":"'Admitidos Plan Trimestre'!G9/'Aspirantes plan'!G9","v":0.65644171779141103},{"$f":"'Admitidos Plan Trimestre'!H9/'Aspirantes plan'!H9","v":0.65644171779141103},{"$f":"'Admitidos Plan Trimestre'!I9/'Aspirantes plan'!I9","v":1.0609756097560976},{"$f":"'Admitidos Plan Trimestre'!J9/'Aspirantes plan'!J9","v":0.46081504702194359},{"$f":"'Admitidos Plan Trimestre'!K9/'Aspirantes plan'!K9","v":0.58354114713216954},{"$f":"'Admitidos Plan Trimestre'!L9/'Aspirantes plan'!L9","v":0.875},{"$f":"'Admitidos Plan Trimestre'!M9/'Aspirantes plan'!M9","v":0.35501355013550134},{"$f":"'Admitidos Plan Trimestre'!N9/'Aspirantes plan'!N9","v":0.43187066974595845},{"$f":"'Admitidos Plan Trimestre'!O9/'Aspirantes plan'!O9","v":1},{"$f":"'Admitidos Plan Trimestre'!P9/'Aspirantes plan'!P9","v":0.3065068493150685},{"$f":"'Admitidos Plan Trimestre'!Q9/'Aspirantes plan'!Q9","v":0.37209302325581395}]
[]
["Total UAM",null,{"$f":"'Aspirantes plan'!C13","v":25150},{"$f":"'Aspirantes plan'!D13","v":53877},{"$f":"'Aspirantes plan'!E13","v":79027},{"$f":"'Aspirantes plan'!F13","v":25485},{"$f":"'Aspirantes plan'!G13","v":61584},{"$f":"'Aspirantes plan'!H13","v":87069},{"$f":"'Aspirantes plan'!I13","v":23871},{"$f":"'Aspirantes plan'!J13","v":64247},{"$f":"'Aspirantes plan'!K13","v":88118},{"$f":"'Aspirantes plan'!L13","v":21515},{"$f":"'Aspirantes plan'!M13","v":64638},{"$f":"'Aspirantes plan'!N13","v":86153},{"$f":"'Aspirantes plan'!O13","v":23957},{"$f":"'Aspirantes plan'!P13","v":68733},{"$f":"'Aspirantes plan'!Q13","v":92690}]
[null,"UAML/UAM",{"$f":"C9/C11","v":4.358464597033186E-5},{"$f":"D9/D11","v":7.7232841945604905E-6},7.4916142710089567E-6,0,1.0659290039481213E-5,7.5393276343062516E-6,4.4446215481383172E-5,7.1725535359151957E-6,6.6222695378035082E-6,4.0669300488031606E-5,5.4923350062734206E-6,5.0128337927403393E-6,4.1741453437408693E-5,{"$f":"P9/P11","v":4.4593841286582649E-6},{"$f":"Q9/Q11","v":4.014381521801855E-6}]
[]
[]
[null,null,2011,2012,2013,2014,2015]
["CBI","IRH",{"$f":"E5","v":1.1492537313432836},{"$f":"H5","v":0.96969696969696972},{"$f":"K5","v":1.2166666666666666},{"$f":"N5","v":0.84848484848484851},{"$f":"Q5","v":1}]
["CBS","BA",{"$f":"E6","v":0.47904191616766467},{"$f":"H6","v":0.60317460317460314},{"$f":"K6","v":0.49659863945578231},{"$f":"N6","v":0.80487804878048785},{"$f":"Q6","v":0.49707602339181284}]
["CSH","PP",{"$f":"E7","v":0.48214285714285715},{"$f":"H7","v":0.55223880597014929},{"$f":"K7","v":0.60550458715596334},{"$f":"N7","v":0.43010752688172044},{"$f":"Q7","v":0.3546099290780142}]
[null,"ACD",null,null,{"$f":"K8","v":0.25882352941176473},{"$f":"N8","v":0.13020833333333334},{"$f":"Q8","v":0.10236220472440945}]
[]
[]
[]
[]
[]
[]
[]
[]
[]
[]
[]
[]
[]
[null,null,2011,2012,2013,2014,2015]
[null,"UAM-L",{"$f":"E9","v":0.59203980099502485},{"$f":"H9","v":0.65644171779141103},{"$f":"K9","v":0.58354114713216954},{"$f":"N9","v":0.43187066974595845},{"$f":"Q9","v":0.37209302325581395}]

{"sheet":"Perfil SE Admit","index":12,"n_rows":69,"n_cols":27,"rows_kept":69,"cut":false,"hidden":false,"merged":[[42,0,54,1],[55,0,67,1],[8,0,9,1],[10,0,21,0],[10,1,15,1],[16,1,21,1],[22,0,31,1],[32,0,41,1],[2,3,2,26],[3,3,3,8],[3,9,3,14],[3,15,3,20],[3,21,3,26],[5,0,7,1]]}
[null,null,"INDICE"]
[]
[null,null,null,"PERFIL SOCIOECONÓMICO DE LOS ALUMNOS ADMITIDOS"]
[null,null,null,"IRH",null,null,null,null,null,"PP",null,null,null,null,null,"ACD",null,null,null,null,null,"BA"]
[null,null,null,2011,2012,2013,2014,2015,2016,2011,2012,2013,2014,2015,2016,2011,2012,2013,2014,2015,2016,2011,2012,2013,2014,2015,2016]
["Estado\nlaboral",null,"Trabajan",32,15,31,26,22,29,26,18,29,17,19,29,0,0,7,9,7,8,24,15,17,22,39,33]
[null,null,"No trabajan",44,17,42,30,57,33,55,18,37,23,31,45,0,0,15,16,19,23,56,23,56,44,46,66]
[null,null,"Total",{"$f":"SUM(D6:D7)","v":76},{"$f":"SUM(E6:E7)","v":32},{"$f":"SUM(F6:F7)","v":73},{"$f":"SUM(G6:G7)","v":56},{"$f":"SUM(H6:H7)","v":79},{"$f":"SUM(I6:I7)","v":62},{"$f":"SUM(J6:J7)","v":81},{"$f":"SUM(K6:K7)","v":36},{"$f":"SUM(L6:L7)","v":66},{"$f":"SUM(M6:M7)","v":40},{"$f":"SUM(N6:N7)","v":50},{"$f":"SUM(O6:O7)","v":74},0,0,{"$f":"SUM(R6:R7)","v":22},25,26,31,80,38,73,66,85,99]
[null,null,"de 1 a 20 hrs",{"$f":"D11+D12+D17+D18","v":10},7,12,11,13,13,12,{"$f":"K11+K12+K17+K18","v":10},10,11,{"$f":"N11+N12+N17+N18","v":11},{"$f":"O11+O12+O17+O18","v":12},0,0,2,4,{"$f":"T11+T17","v":3},{"$f":"U11+U17","v":1},10,8,8,10,{"$f":"Z11+Z12+Z17+Z18","v":18},{"$f":"AA11+AA12+AA17+AA18","v":15}]
[null,null,"más de 20 horas",{"$f":"D16+D22-D9","v":22},8,19,15,9,16,{"$f":"J16+J22-J9","v":14},{"$f":"K16+K22-K9","v":8},19,6,{"$f":"N16+N22-N9","v":8},{"$f":"O16+O22-O9","v":17},0,0,5,5,{"$f":"T16+T22-T9","v":4},{"$f":"U16+U22-U9","v":7},14,7,9,12,{"$f":"Z16+Z22-Z9","v":21},{"$f":"AA16+AA22-AA9","v":18}]
["Horas semanales de dedicación","Permanente","De 1 a 10 hrs",1,2,1,1,3,2,2,1,0,1,0,1,0,0,0,0,1,0,1,0,1,2,3,1]
[null,null,"De 11 a 20 hrs",1,0,1,0,1,0,3,1,0,0,0,2,0,0,0,0,0,0,1,0,0,1,1,2]
[null,null,"De 21 a 30 hrs",4,0,2,2,1,3,2,0,1,3,0,3,0,0,0,1,0,0,0,0,3,0,0,1]
[null,null,"De 31 a 40 hrs",1,0,4,1,1,4,3,0,4,0,3,2,0,0,0,0,1,1,3,0,0,3,2,1]
[null,null,"Más de 40 hrs.",6,1,5,1,0,0,3,2,2,1,0,4,0,0,2,1,2,2,3,3,2,0,8,4]
[null,null,"Total",{"$f":"SUM(D11:D15)","v":13},{"$f":"SUM(E11:E15)","v":3},13,5,{"$f":"SUM(H11:H15)","v":6},{"$f":"SUM(I11:I15)","v":9},13,4,7,5,{"$f":"SUM(N11:N15)","v":3},{"$f":"SUM(O11:O15)","v":12},0,0,2,2,4,{"$f":"SUM(U11:U15)","v":3},8,3,6,6,14,9]
[null,"Eventual","De 1 a 10 hrs",5,5,6,7,6,6,6,4,6,5,6,7,0,0,1,2,2,1,4,4,5,6,11,8]
[null,null,"De 11 a 20 hrs",3,0,4,3,3,5,1,4,4,5,5,2,0,0,1,2,0,0,4,4,2,1,3,4]
[null,null,"De 21 a 30 hrs",5,3,4,5,3,1,2,3,5,0,1,4,0,0,2,1,0,0,1,1,1,3,3,3]
[null,null,"De 31 a 40 hrs",3,4,3,4,3,4,1,1,2,0,1,3,0,0,1,1,1,2,6,0,3,4,5,4]
[null,null,"Más de 40 hrs.",3,0,1,2,1,4,3,2,5,2,3,1,0,0,0,1,0,2,1,3,0,2,3,5]
[null,null,"Total",{"$f":"SUM(D17:D21)","v":19},12,18,21,{"$f":"SUM(H17:H21)","v":16},{"$f":"SUM(I17:I21)","v":20},13,14,22,12,{"$f":"SUM(N17:N21)","v":16},{"$f":"SUM(O17:O21)","v":17},0,0,5,7,3,{"$f":"SUM(U17:U21)","v":5},16,12,11,16,25,24]
["Ingreso personal mensual",null,"Menos de 1,000",12,8,8,10,9,12,9,8,11,6,9,11,0,0,1,1,3,1,6,7,4,13,20,12]
[null,null,"De 1,000 a 1,999",5,4,8,6,8,6,3,2,5,4,6,6,0,0,2,2,0,2,8,4,4,3,6,13]
[null,null,"De 2,000 a 2, 999",5,0,1,4,1,1,4,3,7,2,2,1,0,0,3,0,1,3,3,2,3,3,8,2]
[null,null,"De 3,000 a 3,999",3,2,7,4,3,8,3,2,3,3,1,5,0,0,0,4,1,2,6,0,5,2,2,1]
[null,null,"De 4,000 a 4,999",3,1,5,0,1,1,2,2,2,1,1,4,0,0,0,2,1,0,1,1,0,0,2,2]
[null,null,"De 5,000 a 6,999",4,0,0,0,0,1,2,1,0,1,0,1,0,0,0,0,1,0,0,0,1,0,0,2]
[null,null,"De 7,000 a 9,999",0,0,1,1,0,0,2,0,1,0,0,1,0,0,0,0,0,0,0,1,0,1,1,0]
[null,null,"De 10,000 a 14,999",0,0,1,1,0,0,0,0,0,0,0,0,0,0,1,0,0,0,0,0,0,0,0,0]
[null,null,"De 15,000 ó más",0,0,0,0,0,0,1,0,0,0,0,0,0,0,0,0,0,0,0,0,0,0,0,1]
[null,null,"Total",{"$f":"SUM(D23:D31)","v":32},{"$f":"SUM(E23:E31)","v":15},{"$f":"SUM(F23:F31)","v":31},{"$f":"SUM(G23:G31)","v":26},{"$f":"SUM(H23:H31)","v":22},{"$f":"SUM(I23:I31)","v":29},{"$f":"SUM(J23:J31)","v":26},{"$f":"SUM(K23:K31)","v":18},{"$f":"SUM(L23:L31)","v":29},17,{"$f":"SUM(N23:N31)","v":19},{"$f":"SUM(O23:O31)","v":29},0,0,{"$f":"SUM(R23:R31)","v":7},9,7,8,24,15,17,22,{"$f":"SUM(Z23:Z31)","v":39},{"$f":"SUM(AA23:AA31)","v":33}]
["Ingreso familiar mensual*",null,"Menos de 1,000",0,0,0,1,2,1,2,1,0,1,2,2,0,0,0,0,0,0,2,0,2,3,5,0]
[null,null,"De 1,000 a 1,999",6,5,5,5,6,7,6,0,10,1,3,4,0,0,0,0,1,0,3,3,2,4,8,4]
[null,null,"De 2,000 a 2, 999",6,6,5,6,9,6,9,4,6,3,2,6,0,0,2,1,0,4,4,6,9,8,9,5]
[null,null,"De 3,000 a 3,999",14,8,7,13,15,15,10,6,17,8,19,9,0,0,5,2,4,5,15,4,14,20,23,21]
[null,null,"De 4,000 a 4,999",14,6,11,10,15,11,23,6,9,10,10,12,0,0,5,4,3,5,9,8,12,8,12,16]
[null,null,"De 5,000 a 6,999",11,1,15,7,10,7,8,9,6,7,5,13,0,0,5,3,2,4,12,5,11,5,9,13]
[null,null,"De 7,000 a 9,999",10,2,18,8,13,6,11,7,10,4,5,17,0,0,3,6,5,5,17,4,10,10,12,13]
[null,null,"De 10,000 a 14,999",10,2,7,5,8,8,6,2,3,3,4,9,0,0,1,5,5,6,12,5,10,6,4,16]
[null,null,"De 15,000 ó más",5,2,5,1,1,1,6,1,5,3,0,2,0,0,1,4,6,2,6,3,3,2,3,11]
[null,null,"Total",{"$f":"SUM(D33:D41)","v":76},{"$f":"SUM(E33:E41)","v":32},{"$f":"SUM(F33:F41)","v":73},{"$f":"SUM(G33:G41)","v":56},{"$f":"SUM(H33:H41)","v":79},{"$f":"SUM(I33:I41)","v":62},{"$f":"SUM(J33:J41)","v":81},{"$f":"SUM(K33:K41)","v":36},{"$f":"SUM(L33:L41)","v":66},{"$f":"SUM(M33:M41)","v":40},{"$f":"SUM(N33:N41)","v":50},{"$f":"SUM(O33:O41)","v":74},{"$f":"SUM(P23:P31)","v":0},{"$f":"SUM(Q23:Q31)","v":0},{"$f":"SUM(R33:R41)","v":22},{"$f":"SUM(S33:S41)","v":25},{"$f":"SUM(T33:T41)","v":26},{"$f":"SUM(U33:U41)","v":31},{"$f":"SUM(V33:V41)","v":80},{"$f":"SUM(W33:W41)","v":38},{"$f":"SUM(X33:X41)","v":73},{"$f":"SUM(Y33:Y41)","v":66},{"$f":"SUM(Z33:Z41)","v":85},{"$f":"SUM(AA33:AA41)","v":99}]
["Nivel de estudios del Padre",null,"Ninguno",6,2,4,2,1,2,3,0,1,0,1,1,0,0,0,0,0,2,2,1,4,3,3,5]
[null,null,"Primaria incompleta",9,1,4,2,4,2,3,3,3,1,1,3,0,0,0,1,0,1,3,1,2,3,2,4]
[null,null,"Primaria completa",3,2,4,11,9,10,7,2,6,4,2,2,0,0,0,2,3,1,5,2,3,5,4,5]
[null,null,"Secundaria incompleta",2,1,7,1,2,5,1,0,3,3,5,1,0,0,0,0,2,0,1,2,2,2,9,1]
[null,null,"Secundaria completa",18,10,16,10,17,8,21,13,22,8,9,26,0,0,4,3,0,7,18,6,13,15,23,17]
[null,null,"Técnica incompleta",0,2,1,2,2,0,2,0,3,2,1,3,0,0,1,3,0,1,0,0,3,2,1,1]
[null,null,"Técnica completa",9,4,5,3,10,8,8,6,6,5,7,9,0,0,3,3,2,2,6,3,5,6,12,10]
[null,null,"Media superior incompleta",4,2,7,7,6,7,8,1,3,4,8,5,0,0,0,3,1,3,4,4,5,4,7,7]
[null,null,"Media superior completa",7,2,8,3,11,4,6,5,4,5,4,13,0,0,2,2,3,3,14,3,11,2,8,10]
[null,null,"Superior incompleta",3,4,7,5,6,6,6,2,4,2,2,6,0,0,6,1,3,1,6,7,8,7,6,10]
[null,null,"Superior completa",14,2,10,9,11,9,13,2,9,5,9,3,0,0,5,6,8,7,16,8,11,14,8,19]
[null,null,"Posgrado",1,0,0,1,0,1,3,2,2,1,1,2,0,0,1,1,4,3,5,1,6,3,2,10]
[null,null,"Total",{"$f":"SUM(D43:D54)","v":76},{"$f":"SUM(E43:E54)","v":32},{"$f":"SUM(F43:F54)","v":73},{"$f":"SUM(G43:G54)","v":56},{"$f":"SUM(H43:H54)","v":79},{"$f":"SUM(I43:I54)","v":62},{"$f":"SUM(J43:J54)","v":81},{"$f":"SUM(K43:K54)","v":36},66,{"$f":"SUM(M43:M54)","v":40},{"$f":"SUM(N43:N54)","v":50},{"$f":"SUM(O43:O54)","v":74},0,0,{"$f":"SUM(R43:R54)","v":22},25,26,31,80,38,73,{"$f":"SUM(Y43:Y54)","v":66},{"$f":"SUM(Z43:Z54)","v":85},{"$f":"SUM(AA43:AA54)","v":99}]
["Nivel de estudios de la Madre",null,"ninguno",1,3,0,0,4,2,0,1,1,0,0,1,0,0,0,0,0,0,1,1,0,0,2,2]
[null,null,"primaria incompleta",11,1,7,4,4,8,5,5,7,0,3,3,0,0,0,1,1,0,8,3,2,5,7,3]
[null,null,"primaria completa",13,7,12,13,11,5,11,4,7,4,5,5,0,0,1,0,0,2,8,2,10,7,11,7]
[null,null,"Secundaria incompleta",1,1,0,5,4,5,1,4,5,0,1,2,0,0,1,0,1,1,1,2,3,3,5,4]
[null,null,"Secundaria completa",12,5,13,12,21,16,20,9,18,11,11,24,0,0,2,7,2,4,15,9,14,15,22,20]
[null,null,"Técnica incompleta",2,0,4,1,4,0,3,2,4,2,3,1,0,0,0,1,0,1,2,2,4,1,3,1]
[null,null,"Técnica completa",13,8,15,7,11,12,17,2,10,7,16,12,0,0,3,6,3,5,11,5,13,14,14,8]
[null,null,"Media superior incompleta",3,1,3,4,6,1,3,0,2,2,0,5,0,0,2,0,2,1,1,2,5,5,6,7]
[null,null,"Media superior completa",4,3,8,3,6,6,9,4,3,4,4,10,0,0,4,4,5,5,6,5,6,6,5,13]
[null,null,"Superior incompleta",4,1,2,1,0,2,2,2,2,5,0,3,0,0,2,4,2,3,6,2,1,3,3,5]
[null,null,"Superior completa",11,2,8,4,8,3,8,3,5,5,6,8,0,0,5,2,7,6,17,4,11,5,6,22]
[null,null,"Posgrado",1,0,1,2,0,2,2,0,2,0,1,0,0,0,2,0,3,3,4,1,4,2,1,7]
[null,null,"Total",{"$f":"SUM(D56:D67)","v":76},{"$f":"SUM(E56:E67)","v":32},{"$f":"SUM(F56:F67)","v":73},56,{"$f":"SUM(H56:H67)","v":79},{"$f":"SUM(I56:I67)","v":62},{"$f":"SUM(J56:J67)","v":81},{"$f":"SUM(K56:K67)","v":36},{"$f":"SUM(L56:L67)","v":66},{"$f":"SUM(M56:M67)","v":40},{"$f":"SUM(N56:N67)","v":50},{"$f":"SUM(O56:O67)","v":74},0,0,{"$f":"SUM(R56:R67)","v":22},25,26,31,80,38,73,{"$f":"SUM(Y56:Y67)","v":66},{"$f":"SUM(Z56:Z67)","v":85},{"$f":"SUM(AA56:AA67)","v":99}]
[null,null,"Fuente: Departamento de Admisión UAM"]

{"sheet":"Admitidos Comp","index":13,"n_rows":22,"n_cols":8,"rows_kept":22,"cut":false,"hidden":false,"merged":[[3,0,5,0],[8,0,14,0],[17,0,19,0]]}
["INDICE"]
["ADMITIDOS A LICENCIATURA"]
[null,null,2011,2012,2013,2014,2015]
["LER","Total",238,107,234,187,240]
[null,"Licenciaturas",3,3,4,4,4]
[null,"Prom/Lic",{"$f":"C4/C5","v":79.333333333333329},{"$f":"D4/D5","v":35.666666666666664},{"$f":"E4/E5","v":58.5},{"$f":"F4/F5","v":46.75},{"$f":"G4/G5","v":60}]
[]
[null,null,2005,2006,2007,2008,2009,2010]
["CUA","Total Unidad",252,123,382,403,315,399]
[null,"Licenciaturas",5,4,8,9,9,10]
[null,"Prom/Lic",{"$f":"C9/C10","v":50.4},30.75,47.75,44.777777777777779,35,39.9]
[null,null,2011,2012,2013,2014,2015]
[null,"Total Unidad",429,434,503,709,792]
[null,"Licenciaturas",10,10,10,10,11]
[null,"Prom/Lic",{"$f":"C13/C14","v":42.9},{"$f":"D13/D14","v":43.4},{"$f":"E13/E14","v":50.3},{"$f":"F13/F14","v":70.900000000000006},{"$f":"G13/G14","v":72}]
[]
[null,null,2011,2012,2013,2014,2015]
["UAM","Total UAM",12713,12227,12410,11911,12085]
[null,"Licenciaturas",76,74,75,75,76]
[null,"Prom/Lic",{"$f":"C18/C19","v":167.27631578947367},{"$f":"D18/D19","v":165.22972972972974},{"$f":"E18/E19","v":165.46666666666667},{"$f":"F18/F19","v":158.81333333333333},{"$f":"G18/G19","v":159.01315789473685}]
["La categoría admitidos comprende a los elegidos en los procesos de selección. A partir del 2004 se incluyen los datos de admitidos por lista complementaria"]
["FUENTE: Coordinación General de Información Institucional. Departamento de Admisión"]

{"sheet":"Inscritos Plan Trimestre","index":14,"n_rows":19,"n_cols":17,"rows_kept":19,"cut":false,"hidden":false,"merged":[[17,0,18,0],[2,14,2,16],[6,0,7,0],[10,0,10,1],[2,0,3,0],[2,1,3,1],[2,2,2,4],[2,5,2,7],[2,8,2,10],[2,11,2,13]]}
["INDICE"]
["INSCRITOS DE PRIMER INGRESO A LICENCIATURA POR TRIMESTRE "]
["DIV","PLAN DE ESTUDIO",2011,null,null,2012,null,null,2013,null,null,2014,null,null,2015]
[null,null,"P","O","Total","P","O","Total","P","O","Total","P","O","Total","P","O","Total"]
["CBI","Ingeniería en Recursos Hídricos",26,33,59,null,30,30,26,26,52,21,28,49,22,46,68]
["CBS","Biología Ambiental",30,26,56,null,26,26,19,36,55,30,17,47,37,41,78]
["CSH","Políticas Públicas",29,29,58,null,33,33,22,29,51,null,30,30,null,37,37]
[null,"Arte y Comunicación Digitales",null,null,null,null,null,null,null,18,18,null,18,18,null,18,18]
[null,"Total Unidad",85,88,173,0,89,89,67,109,176,51,93,144,59,142,201]
[]
["Total UAM",null,4336,5356,9692,3839,5564,9403,4079,5779,9858,4075,5798,9873,3865,5984,9849]
[null,"UAML/UAM",{"$f":"C9/C11","v":1.9603321033210334E-2},{"$f":"D9/D11","v":1.6430171769977596E-2},1.7849773008666941E-2,0,1.599568655643422E-2,9.4650643411677126E-3,1.6425594508457955E-2,1.8861394704966256E-2,1.7853519983769526E-2,1.2515337423312883E-2,1.6040013797861331E-2,1.4585232452142206E-2,1.5265200517464425E-2,2.3729946524064172E-2,2.0408163265306121E-2]
["La categoría de inscritos de primer ingreso incluye a todos los alumnos admitidos que realizaron la inscripción a su primer al trimestre."]
["FUENTE: Dirección de Sistemas Escolares."]
[null,null,2011,2012,2013,2014,2015,null,null,2011,2012,2013,2014,2015]
["CBI","IRH",{"$f":"E5","v":59},{"$f":"H5","v":30},{"$f":"K5","v":52},{"$f":"N5","v":49},{"$f":"Q5","v":68},null,"UAM-L",{"$f":"E9","v":173},{"$f":"H9","v":89},{"$f":"K9","v":176},{"$f":"N9","v":144},{"$f":"Q9","v":201}]
["CBS","BA",{"$f":"E6","v":56},{"$f":"H6","v":26},{"$f":"K6","v":55},{"$f":"N6","v":47},{"$f":"Q6","v":78}]
["CSH","PP",{"$f":"E7","v":58},{"$f":"H7","v":33},{"$f":"K7","v":51},{"$f":"N7","v":30},{"$f":"Q7","v":37}]
[null,"ACD",{"$f":"E8","v":0},{"$f":"H8","v":0},{"$f":"K8","v":18},{"$f":"N8","v":18},{"$f":"Q8","v":18}]

{"sheet":"Inscritos Div","index":15,"n_rows":13,"n_cols":18,"rows_kept":13,"cut":false,"hidden":false,"merged":[[2,1,2,2],[2,3,2,4],[2,5,2,6],[2,7,2,8],[2,9,2,10]]}
["INDICE"]
["INSCRITOS A LICENCIATURA POR AÑO"]
["DIVISIÓN",2011,null,2012,null,2013,null,2014,null,2015]
["CBI",59,{"$f":"B4/B$7","v":0.34104046242774566},30,{"$f":"D4/D$7","v":0.33707865168539325},52,{"$f":"F4/F$7","v":0.29545454545454547},49,{"$f":"H4/H$7","v":0.34027777777777779},68,{"$f":"J4/J$7","v":0.3383084577114428}]
["CBS",56,{"$f":"B5/B$7","v":0.32369942196531792},26,{"$f":"D5/D$7","v":0.29213483146067415},55,{"$f":"F5/F$7","v":0.3125},47,{"$f":"H5/H$7","v":0.3263888888888889},78,{"$f":"J5/J$7","v":0.38805970149253732}]
["CSH",58,{"$f":"B6/B$7","v":0.33526011560693642},33,{"$f":"D6/D$7","v":0.3707865168539326},69,{"$f":"F6/F$7","v":0.39204545454545453},48,{"$f":"H6/H$7","v":0.33333333333333331},55,{"$f":"J6/J$7","v":0.27363184079601988}]
["TOTAL",173,{"$f":"B7/B$7","v":1},89,{"$f":"D7/D$7","v":1},176,{"$f":"F7/F$7","v":1},144,{"$f":"H7/H$7","v":1},201,{"$f":"J7/J$7","v":1}]
["FUENTE: Dirección de Sistemas Escolares."]
[]
[null,2011,2012,2013,2014,2015,null,null,null,null,null,null,null,2011,2012,2013,2014,2015]
["CBI",{"$f":"B4","v":59},{"$f":"D4","v":30},{"$f":"F4","v":52},{"$f":"H4","v":49},{"$f":"J4","v":68},null,null,null,null,null,null,"CBI",{"$f":"C4","v":0.34104046242774566},{"$f":"E4","v":0.33707865168539325},{"$f":"G4","v":0.29545454545454547},{"$f":"I4","v":0.34027777777777779},{"$f":"K4","v":0.3383084577114428}]
["CBS",{"$f":"B5","v":56},{"$f":"D5","v":26},{"$f":"F5","v":55},{"$f":"H5","v":47},{"$f":"J5","v":78},null,null,null,null,null,null,"CBS",{"$f":"C5","v":0.32369942196531792},{"$f":"E5","v":0.29213483146067415},{"$f":"G5","v":0.3125},{"$f":"I5","v":0.3263888888888889},{"$f":"K5","v":0.38805970149253732}]
["CSH",{"$f":"B6","v":58},{"$f":"D6","v":33},{"$f":"F6","v":69},{"$f":"H6","v":48},{"$f":"J6","v":55},null,null,null,null,null,null,"CSH",{"$f":"C6","v":0.33526011560693642},{"$f":"E6","v":0.3707865168539326},{"$f":"G6","v":0.39204545454545453},{"$f":"I6","v":0.33333333333333331},{"$f":"K6","v":0.27363184079601988}]

{"sheet":"Incritos Acumulado","index":16,"n_rows":39,"n_cols":12,"rows_kept":39,"cut":false,"hidden":false,"merged":[[32,8,32,9],[32,10,32,11],[36,0,37,0],[26,0,27,0],[32,0,33,0],[32,1,33,1],[32,2,32,3],[32,4,32,5],[32,6,32,7],[17,0,18,0],[13,10,13,11],[22,0,23,0],[22,1,23,1],[22,2,22,3],[22,4,22,5],[22,6,22,7],[22,8,22,9],[22,10,22,11],[3,8,3,9],[3,10,3,11],[13,0,14,0],[13,1,14,1],[13,2,13,3],[13,4,13,5],[13,6,13,7],[13,8,13,9],[3,0,4,0],[3,1,4,1],[7,0,8,0],[3,2,3,3],[3,4,3,5],[3,6,3,7]]}
["INDICE"]
[]
["INSCRITOS ACUMULADO"]
["DIV","PLAN DE ESTUDIO",2011,null,2012,null,2013,null,2014,null,2015]
[null,null,"P","O","P","O","P","O","P","O","P","O"]
["CBI","Ingeniería en Recursos Hídricos",{"$f":"'Inscritos Plan Trimestre'!C5","v":26},{"$f":"'Inscritos Plan Trimestre'!D5+'Inscritos Plan Trimestre'!C5","v":59},{"$f":"D6+'Inscritos Plan Trimestre'!F5","v":59},{"$f":"E6+'Inscritos Plan Trimestre'!G5","v":89},{"$f":"F6+'Inscritos Plan Trimestre'!I5","v":115},{"$f":"G6+'Inscritos Plan Trimestre'!J5","v":141},{"$f":"H6+'Inscritos Plan Trimestre'!L5","v":162},{"$f":"I6+'Inscritos Plan Trimestre'!M5","v":190},{"$f":"J6+'Inscritos Plan Trimestre'!O5","v":212},{"$f":"K6+'Inscritos Plan Trimestre'!P5","v":258}]
["CBS","Biología Ambiental",{"$f":"'Inscritos Plan Trimestre'!C6","v":30},{"$f":"'Inscritos Plan Trimestre'!D6+'Inscritos Plan Trimestre'!C6","v":56},{"$f":"D7+'Inscritos Plan Trimestre'!F6","v":56},{"$f":"E7+'Inscritos Plan Trimestre'!G6","v":82},{"$f":"F7+'Inscritos Plan Trimestre'!I6","v":101},{"$f":"G7+'Inscritos Plan Trimestre'!J6","v":137},{"$f":"H7+'Inscritos Plan Trimestre'!L6","v":167},{"$f":"I7+'Inscritos Plan Trimestre'!M6","v":184},{"$f":"J7+'Inscritos Plan Trimestre'!O6","v":221},{"$f":"K7+'Inscritos Plan Trimestre'!P6","v":262}]
["CSH","Políticas Públicas",{"$f":"'Inscritos Plan Trimestre'!C7","v":29},{"$f":"'Inscritos Plan Trimestre'!D7+'Inscritos Plan Trimestre'!C7","v":58},{"$f":"D8+'Inscritos Plan Trimestre'!F7","v":58},{"$f":"E8+'Inscritos Plan Trimestre'!G7","v":91},{"$f":"F8+'Inscritos Plan Trimestre'!I7","v":113},{"$f":"G8+'Inscritos Plan Trimestre'!J7","v":142},{"$f":"H8+'Inscritos Plan Trimestre'!L7","v":142},{"$f":"I8+'Inscritos Plan Trimestre'!M7","v":172},{"$f":"J8+'Inscritos Plan Trimestre'!O7","v":172},{"$f":"K8+'Inscritos Plan Trimestre'!P7","v":209}]
[null,"Arte y Comunicación Digitales",{"$f":"'Inscritos Plan Trimestre'!C8","v":0},{"$f":"'Inscritos Plan Trimestre'!D8+'Inscritos Plan Trimestre'!C8","v":0},{"$f":"D9+'Inscritos Plan Trimestre'!F8","v":0},{"$f":"E9+'Inscritos Plan Trimestre'!G8","v":0},{"$f":"F9+'Inscritos Plan Trimestre'!I8","v":0},{"$f":"G9+'Inscritos Plan Trimestre'!J8","v":18},{"$f":"H9+'Inscritos Plan Trimestre'!L8","v":18},{"$f":"I9+'Inscritos Plan Trimestre'!M8","v":36},{"$f":"J9+'Inscritos Plan Trimestre'!O8","v":36},{"$f":"K9+'Inscritos Plan Trimestre'!P8","v":54}]
[null,"Total Unidad",{"$f":"SUM(C6:C9)","v":85},173,173,262,329,438,489,{"$f":"SUM(J6:J9)","v":582},{"$f":"SUM(K6:K9)","v":641},{"$f":"SUM(L6:L9)","v":783}]
[]
[]
["INSCRITAS ACUMULADO"]
["DIV","PLAN DE ESTUDIO",2011,null,2012,null,2013,null,2014,null,2015]
[null,null,"P","O","P","O","P","O","P","O","P","O"]
["CBI","Ingeniería en Recursos Hídricos",{"$f":"'Inscritos Plan x gen'!C14","v":9},{"$f":"C16+'Inscritos Plan x gen'!D14","v":20},{"$f":"D16+'Inscritos Plan x gen'!E14","v":20},{"$f":"E16+'Inscritos Plan x gen'!F14","v":35},{"$f":"F16+'Inscritos Plan x gen'!G14","v":45},{"$f":"G16+'Inscritos Plan x gen'!H14","v":56},{"$f":"H16+'Inscritos Plan x gen'!I14","v":64},{"$f":"I16+'Inscritos Plan x gen'!J14","v":79},{"$f":"J16+'Inscritos Plan x gen'!K14","v":89},{"$f":"K16+'Inscritos Plan x gen'!L14","v":110}]
["CBS","Biología Ambiental",{"$f":"'Inscritos Plan x gen'!C15","v":20},{"$f":"C17+'Inscritos Plan x gen'!D15","v":39},{"$f":"D17+'Inscritos Plan x gen'!E15","v":39},{"$f":"E17+'Inscritos Plan x gen'!F15","v":54},{"$f":"F17+'Inscritos Plan x gen'!G15","v":68},{"$f":"G17+'Inscritos Plan x gen'!H15","v":94},{"$f":"H17+'Inscritos Plan x gen'!I15","v":113},{"$f":"I17+'Inscritos Plan x gen'!J15","v":124},{"$f":"J17+'Inscritos Plan x gen'!K15","v":149},{"$f":"K17+'Inscritos Plan x gen'!L15","v":178}]
["CSH","Políticas Públicas",{"$f":"'Inscritos Plan x gen'!C16","v":16},{"$f":"C18+'Inscritos Plan x gen'!D16","v":35},{"$f":"D18+'Inscritos Plan x gen'!E16","v":35},{"$f":"E18+'Inscritos Plan x gen'!F16","v":50},{"$f":"F18+'Inscritos Plan x gen'!G16","v":58},{"$f":"G18+'Inscritos Plan x gen'!H16","v":77},{"$f":"H18+'Inscritos Plan x gen'!I16","v":77},{"$f":"I18+'Inscritos Plan x gen'!J16","v":92},{"$f":"J18+'Inscritos Plan x gen'!K16","v":92},{"$f":"K18+'Inscritos Plan x gen'!L16","v":116}]
[null,"Arte y Comunicación Digitales",{"$f":"'Inscritos Plan x gen'!C17","v":0},{"$f":"C19+'Inscritos Plan x gen'!D17","v":0},{"$f":"D19+'Inscritos Plan x gen'!E17","v":0},{"$f":"E19+'Inscritos Plan x gen'!F17","v":0},{"$f":"F19+'Inscritos Plan x gen'!G17","v":0},{"$f":"G19+'Inscritos Plan x gen'!H17","v":9},{"$f":"H19+'Inscritos Plan x gen'!I17","v":9},{"$f":"I19+'Inscritos Plan x gen'!J17","v":18},{"$f":"J19+'Inscritos Plan x gen'!K17","v":18},{"$f":"K19+'Inscritos Plan x gen'!L17","v":27}]
[null,"Total Unidad",{"$f":"SUM(C16:C19)","v":45},94,94,139,171,236,263,{"$f":"SUM(J16:J19)","v":313},{"$f":"SUM(K16:K19)","v":348},{"$f":"SUM(L16:L19)","v":431}]
[]
["INSCRITOS ACUMULADO"]
["DIV","PLAN DE ESTUDIO",2011,null,2012,null,2013,null,2014,null,2015]
[null,null,"P","O","P","O","P","O","P","O","P","O"]
["CBI","Ingeniería en Recursos Hídricos",{"$f":"C6-C16","v":17},{"$f":"D6-D16","v":39},39,54,70,85,98,{"$f":"J6-J16","v":111},{"$f":"K6-K16","v":123},{"$f":"L6-L16","v":148}]
["CBS","Biología Ambiental",{"$f":"C7-C17","v":10},17,17,28,33,43,54,60,72,84]
["CSH","Políticas Públicas",13,23,23,41,55,65,65,80,80,93]
[null,"Arte y Comunicación Digitales",0,0,0,0,0,9,9,18,18,27]
[null,"Total Unidad",{"$f":"SUM(C25:C28)","v":40},79,79,123,158,202,226,269,{"$f":"K10-K20","v":293},{"$f":"L10-L20","v":352}]
[]
[]
["INSCRITAS ACUMULADO"]
["DIV","PLAN DE ESTUDIO",2011,null,2012,null,2013,null,2014,null,2015]
[null,null,"P","O","P","O","P","O","P","O","P","O"]
["CBI","Ingeniería en Recursos Hídricos",{"$f":"C16/C6","v":0.34615384615384615},{"$f":"D16/D6","v":0.33898305084745761},0.33898305084745761,0.39325842696629215,0.39130434782608697,0.3971631205673759,0.39506172839506171,0.41578947368421054,0.419811320754717,0.4263565891472868]
["CBS","Biología Ambiental",{"$f":"C17/C7","v":0.66666666666666663},0.6964285714285714,0.6964285714285714,0.65853658536585369,0.67326732673267331,0.68613138686131392,0.67664670658682635,0.67391304347826086,0.67420814479638014,0.67938931297709926]
["CSH","Políticas Públicas",0.55172413793103448,0.60344827586206895,0.60344827586206895,0.5494505494505495,0.51327433628318586,0.54225352112676062,0.54225352112676062,0.53488372093023251,0.53488372093023251,0.55502392344497609]
[null,"Arte y Comunicación Digitales",null,null,null,null,null,0.5,0.5,0.5,0.5,{"$f":"L19/L9","v":0.5}]
[null,"Total Unidad",0.52941176470588236,0.54335260115606931,0.54335260115606931,0.53053435114503822,0.51975683890577506,0.53881278538812782,0.53783231083844585,0.53780068728522334,0.54290171606864279,{"$f":"L20/L10","v":0.55044699872286074}]

{"sheet":"Inscritos Plan x gen","index":17,"n_rows":38,"n_cols":12,"rows_kept":38,"cut":false,"hidden":false,"merged":[[20,4,20,5],[17,0,17,1],[34,0,35,0],[20,8,20,9],[20,10,20,11],[24,0,25,0],[30,0,31,0],[30,1,31,1],[30,2,30,3],[30,4,30,5],[30,6,30,7],[30,8,30,9],[30,10,30,11],[20,6,20,7],[26,0,26,1],[8,0,8,1],[15,0,16,0],[20,0,21,0],[20,1,21,1],[20,2,20,3],[36,0,36,1],[2,10,2,11],[6,0,7,0],[11,0,12,0],[11,1,12,1],[11,2,11,3],[11,4,11,5],[11,6,11,7],[11,8,11,9],[11,10,11,11],[2,0,3,0],[2,1,3,1],[2,2,2,3],[2,4,2,5],[2,6,2,7],[2,8,2,9]]}
["INDICE"]
["INSCRITAS E INSCRITOS DE PRIMER INGRESO "]
["DIVISIÓN","PLAN DE ESTUDIO",2011,null,2012,null,2013,null,2014,null,2015]
[null,null,"P","O","P","O","P","O","P","O","P","O"]
["CBI","Ingeniería en Recursos Hídricos",{"$f":"'Inscritos Plan Trimestre'!C5","v":26},{"$f":"'Inscritos Plan Trimestre'!D5","v":33},{"$f":"'Inscritos Plan Trimestre'!F5","v":0},{"$f":"'Inscritos Plan Trimestre'!G5","v":30},{"$f":"'Inscritos Plan Trimestre'!I5","v":26},{"$f":"'Inscritos Plan Trimestre'!J5","v":26},{"$f":"'Inscritos Plan Trimestre'!L5","v":21},{"$f":"'Inscritos Plan Trimestre'!M5","v":28},{"$f":"'Inscritos Plan Trimestre'!O5","v":22},{"$f":"'Inscritos Plan Trimestre'!P5","v":46}]
["CBS","Biología Ambiental",{"$f":"'Inscritos Plan Trimestre'!C6","v":30},{"$f":"'Inscritos Plan Trimestre'!D6","v":26},{"$f":"'Inscritos Plan Trimestre'!F6","v":0},{"$f":"'Inscritos Plan Trimestre'!G6","v":26},{"$f":"'Inscritos Plan Trimestre'!I6","v":19},{"$f":"'Inscritos Plan Trimestre'!J6","v":36},{"$f":"'Inscritos Plan Trimestre'!L6","v":30},{"$f":"'Inscritos Plan Trimestre'!M6","v":17},{"$f":"'Inscritos Plan Trimestre'!O6","v":37},{"$f":"'Inscritos Plan Trimestre'!P6","v":41}]
["CSH","Políticas Públicas",{"$f":"'Inscritos Plan Trimestre'!C7","v":29},{"$f":"'Inscritos Plan Trimestre'!D7","v":29},{"$f":"'Inscritos Plan Trimestre'!F7","v":0},{"$f":"'Inscritos Plan Trimestre'!G7","v":33},{"$f":"'Inscritos Plan Trimestre'!I7","v":22},{"$f":"'Inscritos Plan Trimestre'!J7","v":29},{"$f":"'Inscritos Plan Trimestre'!L7","v":0},{"$f":"'Inscritos Plan Trimestre'!M7","v":30},{"$f":"'Inscritos Plan Trimestre'!O7","v":0},{"$f":"'Inscritos Plan Trimestre'!P7","v":37}]
[null,"Arte y Comunicación Digitales",{"$f":"'Inscritos Plan Trimestre'!C8","v":0},{"$f":"'Inscritos Plan Trimestre'!D8","v":0},{"$f":"'Inscritos Plan Trimestre'!F8","v":0},{"$f":"'Inscritos Plan Trimestre'!G8","v":0},{"$f":"'Inscritos Plan Trimestre'!I8","v":0},{"$f":"'Inscritos Plan Trimestre'!J8","v":18},{"$f":"'Inscritos Plan Trimestre'!L8","v":0},{"$f":"'Inscritos Plan Trimestre'!M8","v":18},{"$f":"'Inscritos Plan Trimestre'!O8","v":0},{"$f":"'Inscritos Plan Trimestre'!P8","v":18}]
["Total Unidad",null,{"$f":"SUM(C5:C8)","v":85},88,0,89,67,109,51,93,59,142]
["FUENTE: Dirección de Sistemas Escolares."]
["INSCRITAS DE PRIMER INGRESO"]
["DIVISIÓN","PLAN DE ESTUDIO",2011,null,2012,null,2013,null,2014,null,2015]
[null,null,"P","O","P","O","P","O","P","O","P","O"]
["CBI","Ingeniería en Recursos Hídricos",9,11,0,15,10,11,8,15,10,21]
["CBS","Biología Ambiental",20,19,0,15,14,26,19,11,25,29]
["CSH","Políticas Públicas",16,19,0,15,8,19,0,15,0,24]
[null,"Arte y Comunicación Digitales",0,0,0,0,0,9,0,9,0,9]
["Total Unidad",null,{"$f":"SUM(C14:C17)","v":45},49,0,45,32,65,27,50,{"$f":"SUM(K14:K17)","v":35},{"$f":"SUM(L14:L17)","v":83}]
["FUENTE: Dirección de Sistemas Escolares."]
[" INSCRITOS DE PRIMER INGRESO "]
["DIVISIÓN","PLAN DE ESTUDIO",2011,null,2012,null,2013,null,2014,null,2015]
[null,null,"P","O","P","O","P","O","P","O","P","O"]
["CBI","Ingeniería en Recursos Hídricos",{"$f":"C5-C14","v":17},{"$f":"D5-D14","v":22},0,15,16,15,13,13,{"$f":"K5-K14","v":12},25]
["CBS","Biología Ambiental",10,7,0,11,5,10,11,6,12,12]
["CSH","Políticas Públicas",13,10,0,18,14,10,0,15,0,13]
[null,"Arte y Comunicación Digitales",0,0,0,0,0,9,0,9,0,9]
["Total Unidad",null,{"$f":"SUM(C23:C26)","v":40},39,0,44,35,44,24,43,{"$f":"SUM(K23:K26)","v":24},{"$f":"SUM(L23:L26)","v":59}]
["FUENTE: Dirección de Sistemas Escolares."]
[]
["INSCRITAS DE PRIMER INGRESO"]
["DIVISIÓN","PLAN DE ESTUDIO",2011,null,2012,null,2013,null,2014,null,2015]
[null,null,"P","O","P","O","P","O","P","O","P","O"]
["CBI","Ingeniería en Recursos Hídricos",{"$f":"C14/C5","v":0.34615384615384615},{"$f":"D14/D5","v":0.33333333333333331},0,0.5,0.38461538461538464,0.42307692307692307,0.38095238095238093,0.5357142857142857,{"$f":"K14/K5","v":0.45454545454545453},{"$f":"L14/L5","v":0.45652173913043476}]
["CBS","Biología Ambiental",{"$f":"C15/C6","v":0.66666666666666663},0.73076923076923073,0,0.57692307692307687,0.73684210526315785,0.72222222222222221,0.6333333333333333,0.6470588235294118,0.67567567567567566,0.70731707317073167]
["CSH","Políticas Públicas",0,{"$f":"D16/D7","v":0.65517241379310343},0,0.45454545454545453,0.36363636363636365,0.65517241379310343,0,0.5,0,0.64864864864864868]
[null,"Arte y Comunicación Digitales",0,0,0,0,0,{"$f":"H17/H8","v":0.5},0,{"$f":"J17/J8","v":0.5},0,{"$f":"L17/L8","v":0.5}]
["Total Unidad",null,{"$f":"C18/C9","v":0.52941176470588236},{"$f":"D18/D9","v":0.55681818181818177},{"$f":"SUM(E33:E36)","v":0},0.5056179775280899,0.47761194029850745,0.59633027522935778,0.52941176470588236,{"$f":"J18/J9","v":0.5376344086021505},{"$f":"K18/K9","v":0.59322033898305082},{"$f":"L18/L9","v":0.58450704225352113}]
["FUENTE: Dirección de Sistemas Escolares."]

{"sheet":"Incritos x Aspir","index":18,"n_rows":36,"n_cols":17,"rows_kept":36,"cut":false,"hidden":false,"merged":[[2,14,2,16],[6,0,7,0],[10,0,10,1],[18,0,19,0],[2,0,3,0],[2,1,3,1],[2,2,2,4],[2,5,2,7],[2,8,2,10],[2,11,2,13]]}
["INDICE"]
["INSCRITOS DE PRIMER INGRESO / ASPIRANTES"]
["DIV","PLAN DE ESTUDIO",2011,null,null,2012,null,null,2013,null,null,2014,null,null,2015]
[null,null,"P","O","Total","P","O","Total","P","O","Total","P","O","Total","P","O","Total"]
["CBI","Ingeniería en Recursos Hídricos",{"$f":"'Inscritos Plan Trimestre'!C5/'Aspirantes plan'!C5","v":1.2380952380952381},{"$f":"'Inscritos Plan Trimestre'!D5/'Aspirantes plan'!D5","v":0.71739130434782605},{"$f":"'Inscritos Plan Trimestre'!E5/'Aspirantes plan'!E5","v":0.88059701492537312},null,{"$f":"'Inscritos Plan Trimestre'!G5/'Aspirantes plan'!G5","v":0.90909090909090906},{"$f":"'Inscritos Plan Trimestre'!H5/'Aspirantes plan'!H5","v":0.90909090909090906},{"$f":"'Inscritos Plan Trimestre'!I5/'Aspirantes plan'!I5","v":1.3},{"$f":"'Inscritos Plan Trimestre'!J5/'Aspirantes plan'!J5","v":0.65},{"$f":"'Inscritos Plan Trimestre'!K5/'Aspirantes plan'!K5","v":0.8666666666666667},{"$f":"'Inscritos Plan Trimestre'!L5/'Aspirantes plan'!L5","v":1},{"$f":"'Inscritos Plan Trimestre'!M5/'Aspirantes plan'!M5","v":0.62222222222222223},{"$f":"'Inscritos Plan Trimestre'!N5/'Aspirantes plan'!N5","v":0.74242424242424243},{"$f":"'Inscritos Plan Trimestre'!O5/'Aspirantes plan'!O5","v":0.95652173913043481},{"$f":"'Inscritos Plan Trimestre'!P5/'Aspirantes plan'!P5","v":0.8214285714285714},{"$f":"'Inscritos Plan Trimestre'!Q5/'Aspirantes plan'!Q5","v":0.86075949367088611}]
["CBS","Biología Ambiental",{"$f":"'Inscritos Plan Trimestre'!C6/'Aspirantes plan'!C6","v":0.88235294117647056},{"$f":"'Inscritos Plan Trimestre'!D6/'Aspirantes plan'!D6","v":0.19548872180451127},{"$f":"'Inscritos Plan Trimestre'!E6/'Aspirantes plan'!E6","v":0.33532934131736525},null,{"$f":"'Inscritos Plan Trimestre'!G6/'Aspirantes plan'!G6","v":0.41269841269841268},{"$f":"'Inscritos Plan Trimestre'!H6/'Aspirantes plan'!H6","v":0.41269841269841268},{"$f":"'Inscritos Plan Trimestre'!I6/'Aspirantes plan'!I6","v":0.59375},{"$f":"'Inscritos Plan Trimestre'!J6/'Aspirantes plan'!J6","v":0.31304347826086959},{"$f":"'Inscritos Plan Trimestre'!K6/'Aspirantes plan'!K6","v":0.37414965986394561},{"$f":"'Inscritos Plan Trimestre'!L6/'Aspirantes plan'!L6","v":0.69767441860465118},{"$f":"'Inscritos Plan Trimestre'!M6/'Aspirantes plan'!M6","v":0.4358974358974359},{"$f":"'Inscritos Plan Trimestre'!N6/'Aspirantes plan'!N6","v":0.57317073170731703},{"$f":"'Inscritos Plan Trimestre'!O6/'Aspirantes plan'!O6","v":0.97368421052631582},{"$f":"'Inscritos Plan Trimestre'!P6/'Aspirantes plan'!P6","v":0.30827067669172931},{"$f":"'Inscritos Plan Trimestre'!Q6/'Aspirantes plan'!Q6","v":0.45614035087719296}]
["CSH","Políticas Públicas",{"$f":"'Inscritos Plan Trimestre'!C7/'Aspirantes plan'!C7","v":0.59183673469387754},{"$f":"'Inscritos Plan Trimestre'!D7/'Aspirantes plan'!D7","v":0.24369747899159663},{"$f":"'Inscritos Plan Trimestre'!E7/'Aspirantes plan'!E7","v":0.34523809523809523},null,{"$f":"'Inscritos Plan Trimestre'!G7/'Aspirantes plan'!G7","v":0.4925373134328358},{"$f":"'Inscritos Plan Trimestre'!H7/'Aspirantes plan'!H7","v":0.4925373134328358},{"$f":"'Inscritos Plan Trimestre'!I7/'Aspirantes plan'!I7","v":0.73333333333333328},{"$f":"'Inscritos Plan Trimestre'!J7/'Aspirantes plan'!J7","v":0.36708860759493672},{"$f":"'Inscritos Plan Trimestre'!K7/'Aspirantes plan'!K7","v":0.46788990825688076},null,{"$f":"'Inscritos Plan Trimestre'!M7/'Aspirantes plan'!M7","v":0.32258064516129031},{"$f":"'Inscritos Plan Trimestre'!N7/'Aspirantes plan'!N7","v":0.32258064516129031},null,{"$f":"'Inscritos Plan Trimestre'!P7/'Aspirantes plan'!P7","v":0.26241134751773049},{"$f":"'Inscritos Plan Trimestre'!Q7/'Aspirantes plan'!Q7","v":0.26241134751773049}]
[null,"Arte y Comunicación Digitales",null,null,null,null,null,null,null,{"$f":"'Inscritos Plan Trimestre'!J8/'Aspirantes plan'!J8","v":0.21176470588235294},{"$f":"'Inscritos Plan Trimestre'!K8/'Aspirantes plan'!K8","v":0.21176470588235294},null,{"$f":"'Inscritos Plan Trimestre'!M8/'Aspirantes plan'!M8","v":9.375E-2},{"$f":"'Inscritos Plan Trimestre'!N8/'Aspirantes plan'!N8","v":9.375E-2},null,{"$f":"'Inscritos Plan Trimestre'!P8/'Aspirantes plan'!P8","v":7.0866141732283464E-2},{"$f":"'Inscritos Plan Trimestre'!Q8/'Aspirantes plan'!Q8","v":7.0866141732283464E-2}]
[null,"Total Unidad",{"$f":"'Inscritos Plan Trimestre'!C9/'Aspirantes plan'!C9","v":0.81730769230769229},{"$f":"'Inscritos Plan Trimestre'!D9/'Aspirantes plan'!D9","v":0.29530201342281881},{"$f":"'Inscritos Plan Trimestre'!E9/'Aspirantes plan'!E9","v":0.43034825870646765},null,{"$f":"'Inscritos Plan Trimestre'!G9/'Aspirantes plan'!G9","v":0.54601226993865026},{"$f":"'Inscritos Plan Trimestre'!H9/'Aspirantes plan'!H9","v":0.54601226993865026},{"$f":"'Inscritos Plan Trimestre'!I9/'Aspirantes plan'!I9","v":0.81707317073170727},{"$f":"'Inscritos Plan Trimestre'!J9/'Aspirantes plan'!J9","v":0.34169278996865204},{"$f":"'Inscritos Plan Trimestre'!K9/'Aspirantes plan'!K9","v":0.43890274314214461},{"$f":"'Inscritos Plan Trimestre'!L9/'Aspirantes plan'!L9","v":0.796875},{"$f":"'Inscritos Plan Trimestre'!M9/'Aspirantes plan'!M9","v":0.25203252032520324},{"$f":"'Inscritos Plan Trimestre'!N9/'Aspirantes plan'!N9","v":0.33256351039260967},{"$f":"'Inscritos Plan Trimestre'!O9/'Aspirantes plan'!O9","v":0.96721311475409832},{"$f":"'Inscritos Plan Trimestre'!P9/'Aspirantes plan'!P9","v":0.24315068493150685},{"$f":"'Inscritos Plan Trimestre'!Q9/'Aspirantes plan'!Q9","v":0.3116279069767442}]
[]
["Total UAM",null,4336,5356,9692,3839,5564,9403,4079,5779,9858,4075,5798,9873,3865,5984,9849]
[null,"UAML/UAM",{"$f":"C9/C11","v":1.8849347147317625E-4},{"$f":"D9/D11","v":5.5134804597240258E-5},4.4402420419569505E-5,0,9.8133046358492136E-5,5.806787939366694E-5,2.0031212815192626E-4,5.9126629169173218E-5,4.4522493725111039E-5,1.9555214723926379E-4,4.3468872080925016E-5,3.3684139612337653E-5,2.5024918881089218E-4,4.0633470075452348E-5,3.1640563202024997E-5]
["La categoría de inscritos de primer ingreso incluye a todos los alumnos admitidos que realizaron la inscripción a su primer al trimestre."]
["FUENTE: Dirección de Sistemas Escolares."]
[]
[null,null,2011,2012,2013,2014,2015]
["CBI","IRH",{"$f":"E5","v":0.88059701492537312},{"$f":"H5","v":0.90909090909090906},{"$f":"K5","v":0.8666666666666667},{"$f":"N5","v":0.74242424242424243},{"$f":"Q5","v":0.86075949367088611}]
["CBS","BA",{"$f":"E6","v":0.33532934131736525},{"$f":"H6","v":0.41269841269841268},{"$f":"K6","v":0.37414965986394561},{"$f":"N6","v":0.57317073170731703},{"$f":"Q6","v":0.45614035087719296}]
["CSH","PP",{"$f":"E7","v":0.34523809523809523},{"$f":"H7","v":0.4925373134328358},{"$f":"K7","v":0.46788990825688076},{"$f":"N7","v":0.32258064516129031},{"$f":"Q7","v":0.26241134751773049}]
[null,"ACD",null,null,{"$f":"K8","v":0.21176470588235294},{"$f":"N8","v":9.375E-2},{"$f":"Q8","v":7.0866141732283464E-2}]
[]
[]
[]
[]
[]
[]
[]
[]
[]
[]
[]
[]
[]
[]
[null,null,2011,2012,2013,2014,2015]
[null,"UAM-L",{"$f":"E9","v":0.43034825870646765},{"$f":"H9","v":0.54601226993865026},{"$f":"K9","v":0.43890274314214461},{"$f":"N9","v":0.33256351039260967},{"$f":"Q9","v":0.3116279069767442}]

{"sheet":"Inscritos x Adms Plan","index":19,"n_rows":36,"n_cols":17,"rows_kept":36,"cut":false,"hidden":false,"merged":[[18,0,19,0],[2,14,2,16],[6,0,7,0],[10,0,10,1],[2,0,3,0],[2,1,3,1],[2,2,2,4],[2,5,2,7],[2,8,2,10],[2,11,2,13]]}
["INDICE"]
["INSCRITOS DE PRIMER INGRESO / ADMITIDOS "]
["DIV","PLAN DE ESTUDIO",2011,null,null,2012,null,null,2013,null,null,2014,null,null,2015]
[null,null,"P","O","Total","P","O","Total","P","O","Total","P","O","Total","P","O","Total"]
["CBI","Ingeniería en Recursos Hídricos",{"$f":"'Inscritos Plan Trimestre'!C5/'Admitidos Plan Trimestre'!C5","v":0.70270270270270274},{"$f":"'Inscritos Plan Trimestre'!D5/'Admitidos Plan Trimestre'!D5","v":0.82499999999999996},{"$f":"'Inscritos Plan Trimestre'!E5/'Admitidos Plan Trimestre'!E5","v":0.76623376623376627},null,{"$f":"'Inscritos Plan Trimestre'!G5/'Admitidos Plan Trimestre'!G5","v":0.9375},{"$f":"'Inscritos Plan Trimestre'!H5/'Admitidos Plan Trimestre'!H5","v":0.9375},{"$f":"'Inscritos Plan Trimestre'!I5/'Admitidos Plan Trimestre'!I5","v":0.74285714285714288},{"$f":"'Inscritos Plan Trimestre'!J5/'Admitidos Plan Trimestre'!J5","v":0.68421052631578949},{"$f":"'Inscritos Plan Trimestre'!K5/'Admitidos Plan Trimestre'!K5","v":0.71232876712328763},{"$f":"'Inscritos Plan Trimestre'!L5/'Admitidos Plan Trimestre'!L5","v":1},{"$f":"'Inscritos Plan Trimestre'!M5/'Admitidos Plan Trimestre'!M5","v":0.8},{"$f":"'Inscritos Plan Trimestre'!N5/'Admitidos Plan Trimestre'!N5","v":0.875},{"$f":"'Inscritos Plan Trimestre'!O5/'Admitidos Plan Trimestre'!O5","v":0.95652173913043481},{"$f":"'Inscritos Plan Trimestre'!P5/'Admitidos Plan Trimestre'!P5","v":0.8214285714285714},{"$f":"'Inscritos Plan Trimestre'!Q5/'Admitidos Plan Trimestre'!Q5","v":0.86075949367088611}]
["CBS","Biología Ambiental",{"$f":"'Inscritos Plan Trimestre'!C6/'Admitidos Plan Trimestre'!C6","v":0.76923076923076927},{"$f":"'Inscritos Plan Trimestre'!D6/'Admitidos Plan Trimestre'!D6","v":0.63414634146341464},{"$f":"'Inscritos Plan Trimestre'!E6/'Admitidos Plan Trimestre'!E6","v":0.7},null,{"$f":"'Inscritos Plan Trimestre'!G6/'Admitidos Plan Trimestre'!G6","v":0.68421052631578949},{"$f":"'Inscritos Plan Trimestre'!H6/'Admitidos Plan Trimestre'!H6","v":0.68421052631578949},{"$f":"'Inscritos Plan Trimestre'!I6/'Admitidos Plan Trimestre'!I6","v":0.76},{"$f":"'Inscritos Plan Trimestre'!J6/'Admitidos Plan Trimestre'!J6","v":0.75},{"$f":"'Inscritos Plan Trimestre'!K6/'Admitidos Plan Trimestre'!K6","v":0.75342465753424659},{"$f":"'Inscritos Plan Trimestre'!L6/'Admitidos Plan Trimestre'!L6","v":0.8571428571428571},{"$f":"'Inscritos Plan Trimestre'!M6/'Admitidos Plan Trimestre'!M6","v":0.54838709677419351},{"$f":"'Inscritos Plan Trimestre'!N6/'Admitidos Plan Trimestre'!N6","v":0.71212121212121215},{"$f":"'Inscritos Plan Trimestre'!O6/'Admitidos Plan Trimestre'!O6","v":0.97368421052631582},{"$f":"'Inscritos Plan Trimestre'!P6/'Admitidos Plan Trimestre'!P6","v":0.87234042553191493},{"$f":"'Inscritos Plan Trimestre'!Q6/'Admitidos Plan Trimestre'!Q6","v":0.91764705882352937}]
["CSH","Políticas Públicas",{"$f":"'Inscritos Plan Trimestre'!C7/'Admitidos Plan Trimestre'!C7","v":0.76315789473684215},{"$f":"'Inscritos Plan Trimestre'!D7/'Admitidos Plan Trimestre'!D7","v":0.67441860465116277},{"$f":"'Inscritos Plan Trimestre'!E7/'Admitidos Plan Trimestre'!E7","v":0.71604938271604934},null,{"$f":"'Inscritos Plan Trimestre'!G7/'Admitidos Plan Trimestre'!G7","v":0.89189189189189189},{"$f":"'Inscritos Plan Trimestre'!H7/'Admitidos Plan Trimestre'!H7","v":0.89189189189189189},{"$f":"'Inscritos Plan Trimestre'!I7/'Admitidos Plan Trimestre'!I7","v":0.81481481481481477},{"$f":"'Inscritos Plan Trimestre'!J7/'Admitidos Plan Trimestre'!J7","v":0.74358974358974361},{"$f":"'Inscritos Plan Trimestre'!K7/'Admitidos Plan Trimestre'!K7","v":0.77272727272727271},null,{"$f":"'Inscritos Plan Trimestre'!M7/'Admitidos Plan Trimestre'!M7","v":0.75},{"$f":"'Inscritos Plan Trimestre'!N7/'Admitidos Plan Trimestre'!N7","v":0.75},null,{"$f":"'Inscritos Plan Trimestre'!P7/'Admitidos Plan Trimestre'!P7","v":0.74},{"$f":"'Inscritos Plan Trimestre'!Q7/'Admitidos Plan Trimestre'!Q7","v":0.74}]
[null,"Arte y Comunicación Digitales",null,null,null,null,null,null,null,{"$f":"'Inscritos Plan Trimestre'!J8/'Admitidos Plan Trimestre'!J8","v":0.81818181818181823},{"$f":"'Inscritos Plan Trimestre'!K8/'Admitidos Plan Trimestre'!K8","v":0.81818181818181823},null,{"$f":"'Inscritos Plan Trimestre'!M8/'Admitidos Plan Trimestre'!M8","v":0.72},{"$f":"'Inscritos Plan Trimestre'!N8/'Admitidos Plan Trimestre'!N8","v":0.72},null,{"$f":"'Inscritos Plan Trimestre'!P8/'Admitidos Plan Trimestre'!P8","v":0.69230769230769229},{"$f":"'Inscritos Plan Trimestre'!Q8/'Admitidos Plan Trimestre'!Q8","v":0.69230769230769229}]
[null,"Total Unidad",{"$f":"'Inscritos Plan Trimestre'!C9/'Admitidos Plan Trimestre'!C9","v":0.74561403508771928},{"$f":"'Inscritos Plan Trimestre'!D9/'Admitidos Plan Trimestre'!D9","v":0.70967741935483875},{"$f":"'Inscritos Plan Trimestre'!E9/'Admitidos Plan Trimestre'!E9","v":0.72689075630252098},null,{"$f":"'Inscritos Plan Trimestre'!G9/'Admitidos Plan Trimestre'!G9","v":0.83177570093457942},{"$f":"'Inscritos Plan Trimestre'!H9/'Admitidos Plan Trimestre'!H9","v":0.83177570093457942},{"$f":"'Inscritos Plan Trimestre'!I9/'Admitidos Plan Trimestre'!I9","v":0.77011494252873558},{"$f":"'Inscritos Plan Trimestre'!J9/'Admitidos Plan Trimestre'!J9","v":0.74149659863945583},{"$f":"'Inscritos Plan Trimestre'!K9/'Admitidos Plan Trimestre'!K9","v":0.75213675213675213},{"$f":"'Inscritos Plan Trimestre'!L9/'Admitidos Plan Trimestre'!L9","v":0.9107142857142857},{"$f":"'Inscritos Plan Trimestre'!M9/'Admitidos Plan Trimestre'!M9","v":0.70992366412213737},{"$f":"'Inscritos Plan Trimestre'!N9/'Admitidos Plan Trimestre'!N9","v":0.77005347593582885},{"$f":"'Inscritos Plan Trimestre'!O9/'Admitidos Plan Trimestre'!O9","v":0.96721311475409832},{"$f":"'Inscritos Plan Trimestre'!P9/'Admitidos Plan Trimestre'!P9","v":0.79329608938547491},{"$f":"'Inscritos Plan Trimestre'!Q9/'Admitidos Plan Trimestre'!Q9","v":0.83750000000000002}]
[]
["Total UAM",null,4336,5356,9692,3839,5564,9403,4079,5779,9858,4075,5798,9873,3865,5984,9849]
[null,"UAML/UAM",{"$f":"C9/C11","v":1.7195895643166956E-4},{"$f":"D9/D11","v":1.3250138524175479E-4},7.4999046254903111E-5,0,1.4949239772368429E-4,8.8458545244558053E-5,1.8879993687882706E-4,1.2830880751677726E-4,7.6297093947733021E-5,2.2348816827344434E-4,1.2244285341878879E-4,7.7995895466001101E-5,2.5024918881089218E-4,1.3256953365398978E-4,8.5034013605442185E-5]
["La categoría de inscritos de primer ingreso incluye a todos los alumnos admitidos que realizaron la inscripción a su primer al trimestre."]
["FUENTE: Dirección de Sistemas Escolares."]
[]
[null,null,2011,2012,2013,2014,2015]
["CBI","IRH",{"$f":"E5","v":0.76623376623376627},{"$f":"H5","v":0.9375},{"$f":"K5","v":0.71232876712328763},{"$f":"N5","v":0.875},{"$f":"Q5","v":0.86075949367088611}]
["CBS","BA",{"$f":"E6","v":0.7},{"$f":"H6","v":0.68421052631578949},{"$f":"K6","v":0.75342465753424659},{"$f":"N6","v":0.71212121212121215},{"$f":"Q6","v":0.91764705882352937}]
["CSH","PP",{"$f":"E7","v":0.71604938271604934},{"$f":"H7","v":0.89189189189189189},{"$f":"K7","v":0.77272727272727271},{"$f":"N7","v":0.75},{"$f":"Q7","v":0.74}]
[null,"ACD",null,null,{"$f":"K8","v":0.81818181818181823},{"$f":"N8","v":0.72},{"$f":"Q8","v":0.69230769230769229}]
[]
[]
[]
[]
[]
[]
[]
[]
[]
[]
[]
[]
[]
[]
[null,null,2011,2012,2013,2014,2015]
[null,"UAM-L",{"$f":"E9","v":0.72689075630252098},{"$f":"H9","v":0.83177570093457942},{"$f":"K9","v":0.75213675213675213},{"$f":"N9","v":0.77005347593582885},{"$f":"Q9","v":0.83750000000000002}]

{"sheet":"Aspir Admi Incritos","index":20,"n_rows":47,"n_cols":7,"rows_kept":47,"cut":false,"hidden":false,"merged":[[27,1,31,1],[37,0,46,0],[42,1,46,1],[37,1,41,1],[32,1,36,1],[27,0,31,0],[32,0,36,0]]}
["INDICE"]
["RELACIÓN: ASPIRANTES, ADMITIDOS E INCRITOS A 1er INGRESO"]
[null,null,2011,2012,2013,2014,2015]
[null,"Aspirantes",{"$f":"'Aspirantes plan'!F21","v":402},{"$f":"'Aspirantes plan'!G21","v":163},{"$f":"'Aspirantes plan'!H21","v":401},{"$f":"'Aspirantes plan'!I21","v":433},{"$f":"'Aspirantes plan'!J21","v":645}]
[null,"Admitidos ",{"$f":"'Admitidos Plan Trimestre'!N17","v":238},{"$f":"'Admitidos Plan Trimestre'!O17","v":107},{"$f":"'Admitidos Plan Trimestre'!P17","v":234},{"$f":"'Admitidos Plan Trimestre'!Q17","v":187},{"$f":"'Admitidos Plan Trimestre'!R17","v":240}]
[null,"Inscritos 1er Ingreso",{"$f":"'Inscritos Plan Trimestre'!J16","v":173},{"$f":"'Inscritos Plan Trimestre'!K16","v":89},{"$f":"'Inscritos Plan Trimestre'!L16","v":176},{"$f":"'Inscritos Plan Trimestre'!M16","v":144},{"$f":"'Inscritos Plan Trimestre'!N16","v":201}]
[]
[]
[]
[]
[]
[]
[]
[]
[]
[]
[]
[]
[]
[]
[]
[]
[]
[]
[]
[]
[null,null,null,"Aspirantes","Admitidos ","Inscritos 1er Ingreso"]
["CBI","IRH",2011,{"$f":"'Aspirantes plan'!E5","v":67},{"$f":"'Admitidos Plan Trimestre'!E5","v":77},{"$f":"'Inscritos Plan Trimestre'!E5","v":59}]
[null,null,2012,{"$f":"'Aspirantes plan'!H5","v":33},{"$f":"'Admitidos Plan Trimestre'!H5","v":32},{"$f":"'Inscritos Plan Trimestre'!H5","v":30}]
[null,null,2013,{"$f":"'Aspirantes plan'!K5","v":60},{"$f":"'Admitidos Plan Trimestre'!K5","v":73},{"$f":"'Inscritos Plan Trimestre'!K5","v":52}]
[null,null,2014,{"$f":"'Aspirantes plan'!N5","v":66},{"$f":"'Admitidos Plan Trimestre'!N5","v":56},{"$f":"'Inscritos Plan Trimestre'!N5","v":49}]
[null,null,2015,{"$f":"'Aspirantes plan'!Q5","v":79},{"$f":"'Admitidos Plan Trimestre'!Q5","v":79},{"$f":"'Inscritos Plan Trimestre'!Q5","v":68}]
["CBS","BA",2011,{"$f":"'Aspirantes plan'!E6","v":167},{"$f":"'Admitidos Plan Trimestre'!E6","v":80},{"$f":"'Inscritos Plan Trimestre'!E6","v":56}]
[null,null,2012,{"$f":"'Aspirantes plan'!H6","v":63},{"$f":"'Admitidos Plan Trimestre'!H6","v":38},{"$f":"'Inscritos Plan Trimestre'!H6","v":26}]
[null,null,2013,{"$f":"'Aspirantes plan'!K6","v":147},{"$f":"'Admitidos Plan Trimestre'!K6","v":73},{"$f":"'Inscritos Plan Trimestre'!K6","v":55}]
[null,null,2014,{"$f":"'Aspirantes plan'!N6","v":82},{"$f":"'Admitidos Plan Trimestre'!N6","v":66},{"$f":"'Inscritos Plan Trimestre'!N6","v":47}]
[null,null,2015,{"$f":"'Aspirantes plan'!Q6","v":171},{"$f":"'Admitidos Plan Trimestre'!Q6","v":85},{"$f":"'Inscritos Plan Trimestre'!Q6","v":78}]
["CSH","PP",2011,{"$f":"'Aspirantes plan'!E7","v":168},{"$f":"'Admitidos Plan Trimestre'!E7","v":81},{"$f":"'Inscritos Plan Trimestre'!E7","v":58}]
[null,null,2012,{"$f":"'Aspirantes plan'!H7","v":67},{"$f":"'Admitidos Plan Trimestre'!H7","v":37},{"$f":"'Inscritos Plan Trimestre'!H7","v":33}]
[null,null,2013,{"$f":"'Aspirantes plan'!K7","v":109},{"$f":"'Admitidos Plan Trimestre'!K7","v":66},{"$f":"'Inscritos Plan Trimestre'!K7","v":51}]
[null,null,2014,{"$f":"'Aspirantes plan'!N7","v":93},{"$f":"'Admitidos Plan Trimestre'!N7","v":40},{"$f":"'Inscritos Plan Trimestre'!N7","v":30}]
[null,null,2015,{"$f":"'Aspirantes plan'!Q7","v":141},{"$f":"'Admitidos Plan Trimestre'!Q7","v":50},{"$f":"'Inscritos Plan Trimestre'!Q7","v":37}]
[null,"ACD",2011]
[null,null,2012]
[null,null,2013,{"$f":"'Aspirantes plan'!K8","v":85},{"$f":"'Admitidos Plan Trimestre'!K8","v":22},{"$f":"'Inscritos Plan Trimestre'!K8","v":18}]
[null,null,2014,{"$f":"'Aspirantes plan'!N8","v":192},{"$f":"'Admitidos Plan Trimestre'!N8","v":25},{"$f":"'Inscritos Plan Trimestre'!N8","v":18}]
[null,null,2015,{"$f":"'Aspirantes plan'!Q8","v":254},{"$f":"'Admitidos Plan Trimestre'!Q8","v":26},{"$f":"'Inscritos Plan Trimestre'!Q8","v":18}]

{"sheet":"Inscritos Comp","index":21,"n_rows":21,"n_cols":8,"rows_kept":21,"cut":false,"hidden":false,"merged":[[3,0,5,0],[8,0,14,0],[17,0,19,0]]}
["INDICE"]
["INSCRITOS A LICENCIATURA"]
[null,null,2011,2012,2013,2014,2015]
["LER","Total",173,89,176,144,201]
[null,"Licenciaturas",3,3,4,4,4]
[null,"Prom/Lic",{"$f":"C4/C5","v":57.666666666666664},{"$f":"D4/D5","v":29.666666666666668},{"$f":"E4/E5","v":44},{"$f":"F4/F5","v":36},{"$f":"G4/G5","v":50.25}]
[]
[null,null,2005,2006,2007,2008,2009,2010]
["CUA","Total Unidad",203,101,316,355,260,319]
[null,"Licenciaturas",5,4,8,9,9,10]
[null,"Prom/Lic",{"$f":"C9/C10","v":40.6},25.25,39.5,39.444444444444443,28.888888888888889,31.9]
[null,null,2011,2012,2013,2014,2015]
[null,"Total Unidad",322,356,361,580,608]
[null,"Licenciaturas",10,10,10,10,11]
[null,"Prom/Lic",{"$f":"C13/C14","v":32.200000000000003},{"$f":"D13/D14","v":35.6},{"$f":"E13/E14","v":36.1},{"$f":"F13/F14","v":58},{"$f":"G13/G14","v":55.272727272727273}]
[]
[null,null,2011,2012,2013,2014,2015]
["UAM","Total UAM",9692,9403,9858,9873,9849]
[null,"Licenciaturas",76,74,75,75,76]
[null,"Prom/Lic",{"$f":"C18/C19","v":127.52631578947368},{"$f":"D18/D19","v":127.06756756756756},{"$f":"E18/E19","v":131.44},{"$f":"F18/F19","v":131.63999999999999},{"$f":"G18/G19","v":129.59210526315789}]
["FUENTE: Dirección de Sistemas Escolares."]

{"sheet":"Matricula Plan","index":22,"n_rows":13,"n_cols":17,"rows_kept":13,"cut":false,"hidden":false,"merged":[[2,14,2,16],[6,0,7,0],[10,0,10,1],[2,0,3,0],[2,1,3,1],[2,2,2,4],[2,5,2,7],[2,8,2,10],[2,11,2,13]]}
["INDICE"]
["INSCRITOS DE PRIMER INGRESO Y REINSCRITOS POR LICENCIATURA Y TRIMESTRE "]
["DIVISIÓN","PLAN DE ESTUDIO",2011,null,null,2012,null,null,2013,null,null,2014,null,null,2015]
[null,null,"I","P","O","I","P","O","I","P","O","I","P","O","I","P","O"]
["CBI","Ingeniería en Recursos Hídricos",null,26,57,50,46,78,72,90,106,89,100,118,99,113,146]
["CBS","Biología Ambiental",null,30,53,46,39,66,59,76,110,98,125,135,127,154,175]
["CSH","Políticas Públicas",null,29,51,45,41,76,69,90,114,113,104,132,125,114,128]
[null,"Arte y Comunicación Digitales",null,null,null,null,null,null,null,null,18,15,15,31,29,28,46]
[null,"Total Unidad",null,85,161,141,126,220,200,256,348,315,344,416,380,409,495]
[]
["Total UAM",null,37381,39436,41235,38652,40425,42242,39886,41530,43762,39805,41649,44301,40889,41926,44712]
[null,"UAML/UAM",{"$f":"C9/C11","v":0},{"$f":"D9/D11","v":2.1553910132873517E-3},3.904450103067782E-3,3.6479354237814341E-3,3.1168831168831169E-3,5.2080867383173142E-3,5.0142907285764425E-3,6.1642186371297855E-3,7.9521045656048631E-3,7.9135786961437009E-3,8.2595020288602373E-3,9.3903072165413878E-3,9.2934530069211773E-3,9.7552831178743492E-3,1.1070853462157811E-2]
["FUENTE: Dirección de Sistemas Escolares."]

{"sheet":"Matricula Div","index":23,"n_rows":17,"n_cols":31,"rows_kept":17,"cut":false,"hidden":false,"merged":[[16,23,16,24],[16,25,16,26],[16,27,16,28],[16,29,16,30],[16,13,16,14],[16,15,16,16],[16,17,16,18],[16,19,16,20],[16,21,16,22],[16,3,16,4],[16,5,16,6],[16,7,16,8],[16,9,16,10],[16,11,16,12],[15,27,15,28],[15,29,15,30],[11,1,11,6],[11,7,11,12],[11,13,11,18],[11,19,11,24],[11,25,11,30],[14,23,14,24],[14,25,14,26],[14,27,14,28],[14,29,14,30],[15,3,15,4],[15,5,15,6],[15,7,15,8],[15,9,15,10],[15,11,15,12],[15,23,15,24],[15,25,15,26],[14,13,14,14],[14,15,14,16],[14,17,14,18],[14,19,14,20],[14,21,14,22],[15,13,15,14],[15,15,15,16],[15,17,15,18],[15,19,15,20],[15,21,15,22],[14,3,14,4],[14,5,14,6],[14,7,14,8],[14,9,14,10],[14,11,14,12],[12,29,12,30],[13,3,13,4],[13,5,13,6],[13,7,13,8],[13,9,13,10],[13,11,13,12],[13,13,13,14],[13,15,13,16],[13,17,13,18],[13,19,13,20],[13,21,13,22],[13,23,13,24],[13,25,13,26],[13,27,13,28],[13,29,13,30],[12,19,12,20],[12,21,12,22],[12,23,12,24],[12,25,12,26],[12,27,12,28],[12,9,12,10],[12,11,12,12],[12,13,12,14],[12,15,12,16],[12,17,12,18],[11,0,12,0],[12,1,12,2],[12,3,12,4],[12,5,12,6],[12,7,12,8],[3,7,3,8],[3,9,3,10],[3,11,3,12],[2,7,2,12],[2,0,3,0],[2,1,2,6],[3,1,3,2],[3,3,3,4],[3,5,3,6],[2,25,2,30],[3,13,3,14],[3,15,3,16],[3,17,3,18],[3,19,3,20],[3,21,3,22],[3,23,3,24],[3,25,3,26],[3,27,3,28],[3,29,3,30],[2,19,2,24],[2,13,2,18]]}
["INDICE"]
["INSCRITOS DE PRIMER INGRESO Y REINSCRITOS POR DIVISIÓN Y TRIMESTRE "]
["DIVISIÓN",2011,null,null,null,null,null,2012,null,null,null,null,null,2013,null,null,null,null,null,2014,null,null,null,null,null,2015]
[null,"I",null,"P",null,"O",null,"I",null,"P",null,"O",null,"I",null,"P",null,"O",null,"I",null,"P",null,"O",null,"I",null,"P",null,"O"]
["CBI",null,null,26,{"$f":"D5/D$8","v":0.30588235294117649},57,{"$f":"F5/F$8","v":0.35403726708074534},50,{"$f":"H5/H$8","v":0.3546099290780142},46,{"$f":"J5/J$8","v":0.36507936507936506},78,{"$f":"L5/L$8","v":0.35454545454545455},72,{"$f":"N5/N$8","v":0.36},90,{"$f":"P5/P$8","v":0.3515625},106,{"$f":"R5/R$8","v":0.3045977011494253},89,{"$f":"T5/T$8","v":0.28253968253968254},100,{"$f":"V5/V$8","v":0.29069767441860467},118,{"$f":"X5/X$8","v":0.28365384615384615},99,{"$f":"Z5/Z$8","v":0.26052631578947366},113,{"$f":"AB5/AB$8","v":0.27628361858190709},146,{"$f":"AD5/AD$8","v":0.29494949494949496}]
["CBS",null,null,30,{"$f":"D6/D$8","v":0.35294117647058826},53,{"$f":"F6/F$8","v":0.32919254658385094},46,{"$f":"H6/H$8","v":0.32624113475177308},39,{"$f":"J6/J$8","v":0.30952380952380953},66,{"$f":"L6/L$8","v":0.3},59,{"$f":"N6/N$8","v":0.29499999999999998},76,{"$f":"P6/P$8","v":0.296875},110,{"$f":"R6/R$8","v":0.31609195402298851},98,{"$f":"T6/T$8","v":0.31111111111111112},125,{"$f":"V6/V$8","v":0.36337209302325579},135,{"$f":"X6/X$8","v":0.32451923076923078},127,{"$f":"Z6/Z$8","v":0.33421052631578946},154,{"$f":"AB6/AB$8","v":0.37652811735941322},175,{"$f":"AD6/AD$8","v":0.35353535353535354}]
["CSH",null,null,29,{"$f":"D7/D$8","v":0.3411764705882353},51,{"$f":"F7/F$8","v":0.31677018633540371},45,{"$f":"H7/H$8","v":0.31914893617021278},41,{"$f":"J7/J$8","v":0.32539682539682541},76,{"$f":"L7/L$8","v":0.34545454545454546},69,{"$f":"N7/N$8","v":0.34499999999999997},90,{"$f":"P7/P$8","v":0.3515625},132,{"$f":"R7/R$8","v":0.37931034482758619},128,{"$f":"T7/T$8","v":0.40634920634920635},119,{"$f":"V7/V$8","v":0.34593023255813954},163,{"$f":"X7/X$8","v":0.39182692307692307},154,{"$f":"Z7/Z$8","v":0.40526315789473683},142,{"$f":"AB7/AB$8","v":0.3471882640586797},174,{"$f":"AD7/AD$8","v":0.3515151515151515}]
["TOTAL",null,null,85,{"$f":"D8/D$8","v":1},161,{"$f":"F8/F$8","v":1},141,{"$f":"H8/H$8","v":1},126,{"$f":"J8/J$8","v":1},220,{"$f":"L8/L$8","v":1},200,{"$f":"N8/N$8","v":1},256,{"$f":"P8/P$8","v":1},348,{"$f":"R8/R$8","v":1},315,{"$f":"T8/T$8","v":1},344,{"$f":"V8/V$8","v":1},416,{"$f":"X8/X$8","v":1},380,{"$f":"Z8/Z$8","v":1},409,{"$f":"AB8/AB$8","v":1},495,{"$f":"AD8/AD$8","v":1}]
["FUENTE: Dirección de Sistemas Escolares."]
[]
[]
["DIVISIÓN",2011,null,null,null,null,null,2012,null,null,null,null,null,2013,null,null,null,null,null,2014,null,null,null,null,null,2015]
[null,"I",null,"P",null,"O",null,"I",null,"P",null,"O",null,"I",null,"P",null,"O",null,"I",null,"P",null,"O",null,"I",null,"P",null,"O"]
["CBI",null,null,{"$f":"D5","v":26},null,{"$f":"F5","v":57},null,{"$f":"H5","v":50},null,{"$f":"J5","v":46},null,{"$f":"L5","v":78},null,{"$f":"N5","v":72},null,{"$f":"P5","v":90},null,{"$f":"R5","v":106},null,{"$f":"T5","v":89},null,{"$f":"V5","v":100},null,{"$f":"X5","v":118},null,{"$f":"Z5","v":99},null,{"$f":"AB5","v":113},null,{"$f":"AD5","v":146}]
["CBS",null,null,{"$f":"D6","v":30},null,{"$f":"F6","v":53},null,{"$f":"H6","v":46},null,{"$f":"J6","v":39},null,{"$f":"L6","v":66},null,{"$f":"N6","v":59},null,{"$f":"P6","v":76},null,{"$f":"R6","v":110},null,{"$f":"T6","v":98},null,{"$f":"V6","v":125},null,{"$f":"X6","v":135},null,{"$f":"Z6","v":127},null,{"$f":"AB6","v":154},null,{"$f":"AD6","v":175}]
["CSH",null,null,{"$f":"D7","v":29},null,{"$f":"F7","v":51},null,{"$f":"H7","v":45},null,{"$f":"J7","v":41},null,{"$f":"L7","v":76},null,{"$f":"N7","v":69},null,{"$f":"P7","v":90},null,{"$f":"R7","v":132},null,{"$f":"T7","v":128},null,{"$f":"V7","v":119},null,{"$f":"X7","v":163},null,{"$f":"Z7","v":154},null,{"$f":"AB7","v":142},null,{"$f":"AD7","v":174}]
["TOTAL",null,null,{"$f":"D8","v":85},null,{"$f":"F8","v":161},null,{"$f":"H8","v":141},null,{"$f":"J8","v":126},null,{"$f":"L8","v":220},null,{"$f":"N8","v":200},null,{"$f":"P8","v":256},null,{"$f":"R8","v":348},null,{"$f":"T8","v":315},null,{"$f":"V8","v":344},null,{"$f":"X8","v":416},null,{"$f":"Z8","v":380},null,{"$f":"AB8","v":409},null,{"$f":"AD8","v":495}]

{"sheet":"Matricula Gen","index":24,"n_rows":38,"n_cols":17,"rows_kept":38,"cut":false,"hidden":false,"merged":[[34,0,35,0],[21,11,21,13],[21,14,21,16],[25,0,26,0],[30,0,31,0],[30,1,31,1],[30,2,30,4],[30,5,30,7],[30,8,30,10],[30,11,30,13],[30,14,30,16],[21,8,21,10],[16,0,17,0],[21,0,22,0],[21,1,22,1],[21,2,21,4],[21,5,21,7],[18,0,18,1],[2,14,2,16],[6,0,7,0],[12,0,13,0],[12,1,13,1],[12,2,12,4],[12,5,12,7],[12,8,12,10],[12,11,12,13],[12,14,12,16],[2,0,3,0],[2,1,3,1],[2,2,2,4],[2,5,2,7],[2,8,2,10],[2,11,2,13],[8,0,8,1]]}
["INDICE"]
["INSCRITAS E INSCRITOS DE PRIMER INGRESO Y REINSCRITOS POR LICENCIATURA Y TRIMESTRE "]
["DIVISIÓN","PLAN DE ESTUDIO",2011,null,null,2012,null,null,2013,null,null,2014,null,null,2015]
[null,null,"I","P","O","I","P","O","I","P","O","I","P","O","I","P","O"]
["CBI","Ingeniería en Recursos Hídricos",null,26,57,50,46,78,72,90,106,89,100,118,99,113,146]
["CBS","Biología Ambiental",null,30,53,46,39,66,59,76,110,98,125,135,127,154,175]
["CSH","Políticas Públicas",null,29,51,45,41,76,69,90,114,113,104,132,125,114,128]
[null,"Arte y Comunicación Digitales",null,null,null,null,null,null,null,null,18,15,15,31,29,28,46]
["Total Unidad",null,null,85,161,141,126,220,200,256,348,315,344,416,380,409,495]
[]
[]
["INSCRITAS DE PRIMER INGRESO Y REINSCRITOS POR LICENCIATURA Y TRIMESTRE "]
["DIVISIÓN","PLAN DE ESTUDIO",2011,null,null,2012,null,null,2013,null,null,2014,null,null,2015]
[null,null,"I","P","O","I","P","O","I","P","O","I","P","O","I","P","O"]
["CBI","Ingeniería en Recursos Hídricos",0,9,19,17,15,30,29,35,45,36,41,52,41,46,63]
["CBS","Biología Ambiental",0,20,37,31,27,43,39,50,75,68,85,93,86,102,113]
["CSH","Políticas Públicas",0,16,29,26,26,42,38,46,63,64,60,73,71,66,73]
[null,"Arte y Comunicación Digitales",0,0,0,0,0,0,0,0,9,7,7,14,11,13,22]
["Total Unidad",null,{"$f":"SUM(C15:C18)","v":0},45,85,74,68,115,106,131,192,175,193,232,{"$f":"SUM(O15:O18)","v":209},{"$f":"SUM(P15:P18)","v":227},{"$f":"SUM(Q15:Q18)","v":271}]
["FUENTE: Dirección de Sistemas Escolares."]
["INSCRITOS DE PRIMER INGRESO Y REINSCRITOS POR LICENCIATURA Y TRIMESTRE "]
["DIVISIÓN","PLAN DE ESTUDIO",2011,null,null,2012,null,null,2013,null,null,2014,null,null,2015]
[null,null,"I","P","O","I","P","O","I","P","O","I","P","O","I","P","O"]
["CBI","Ingeniería en Recursos Hídricos",{"$f":"C5-C15","v":0},{"$f":"D5-D15","v":17},38,33,31,48,43,55,61,53,59,66,58,67,83]
["CBS","Biología Ambiental",{"$f":"C6-C16","v":0},10,{"$f":"E6-E16","v":16},15,12,23,20,26,35,30,40,42,41,52,62]
["CSH","Políticas Públicas",{"$f":"C7-C17","v":0},13,22,19,15,34,31,44,51,49,44,59,54,48,55]
[null,"Arte y Comunicación Digitales",{"$f":"C8-C18","v":0},0,0,0,0,0,0,0,9,8,8,17,18,15,24]
[null,"Total Unidad",{"$f":"SUM(C24:C27)","v":0},40,76,67,58,105,94,125,156,140,151,184,{"$f":"SUM(O24:O27)","v":171},{"$f":"SUM(P24:P27)","v":182},{"$f":"SUM(Q24:Q27)","v":224}]
["FUENTE: Dirección de Sistemas Escolares."]
["% INSCRITAS DE PRIMER INGRESO Y REINSCRITAS POR LICENCIATURA Y TRIMESTRE "]
["DIVISIÓN","PLAN DE ESTUDIO",2011,null,null,2012,null,null,2013,null,null,2014,null,null,2015]
[null,null,"I","P","O","I","P","O","I","P","O","I","P","O","I","P","O"]
["CBI","Ingeniería en Recursos Hídricos",null,{"$f":"D15/D5","v":0.34615384615384615},0.33333333333333331,0.34,0.32608695652173914,0.38461538461538464,0.40277777777777779,0.3888888888888889,0.42452830188679247,0.4044943820224719,0.41,0.44067796610169491,0.41414141414141414,0.40707964601769914,0.4315068493150685]
["CBS","Biología Ambiental",null,{"$f":"D16/D6","v":0.66666666666666663},0.69811320754716977,0.67391304347826086,0.69230769230769229,0.65151515151515149,0.66101694915254239,0.65789473684210531,0.68181818181818177,0.69387755102040816,0.68,0.68888888888888888,0.67716535433070868,0.66233766233766234,0.64571428571428569]
["CSH","Políticas Públicas",null,0.55172413793103448,0.56862745098039214,0.57777777777777772,0.63414634146341464,0.55263157894736847,0.55072463768115942,0.51111111111111107,0.55263157894736847,0.5663716814159292,0.57692307692307687,0.55303030303030298,0.56799999999999995,0.57894736842105265,0.5703125]
[null,"Arte y Comunicación Digitales",null,null,null,null,null,null,null,null,0.5,0.46666666666666667,0.46666666666666667,0.45161290322580644,0.37931034482758619,0.4642857142857143,0.47826086956521741]
[null,"Total Unidad",null,0.52941176470588236,0.52795031055900621,0.52482269503546097,0.53968253968253965,0.52272727272727271,0.53,0.51171875,0.55172413793103448,0.55555555555555558,0.56104651162790697,0.55769230769230771,0.55000000000000004,0.55501222493887525,0.54747474747474745]
["FUENTE: Dirección de Sistemas Escolares."]

{"sheet":"Matricula Comp","index":25,"n_rows":21,"n_cols":8,"rows_kept":21,"cut":false,"hidden":false,"merged":[[3,0,5,0],[8,0,14,0],[17,0,19,0]]}
["INDICE"]
["INSCRITOS DE PRIMER INGRESO Y REINSCRITOS (promedio I-P-O)"]
[null,null,2011,2012,2013,2014,2015]
["LER","Total",82,162.33333333333334,268,358.33333333333331,428]
[null,"Licenciaturas",3,3,4,4,4]
[null,"Prom/Lic",{"$f":"C4/C5","v":27.333333333333332},{"$f":"D4/D5","v":54.111111111111114},{"$f":"E4/E5","v":67},{"$f":"F4/F5","v":89.583333333333329},{"$f":"G4/G5","v":107}]
[]
[null,null,2005,2006,2007,2008,2009,2010]
["CUA","Total Unidad",203,205,339,604,826.33333333333337,934]
[null,"Licenciaturas",5,4,8,9,9,10]
[null,"Prom/Lic",{"$f":"C9/C10","v":40.6},51.25,42.375,67.111111111111114,91.814814814814824,93.4]
[null,null,2011,2012,2013,2014,2015]
[null,"Total Unidad",1078.3333333333333,1190.3333333333333,1308,1516.3333333333333,1792.6666666666667]
[null,"Licenciaturas",10,10,10,10,11]
[null,"Prom/Lic",{"$f":"C13/C14","v":107.83333333333333},{"$f":"D13/D14","v":119.03333333333333},{"$f":"E13/E14","v":130.80000000000001},{"$f":"F13/F14","v":151.63333333333333},{"$f":"G13/G14","v":162.96969696969697}]
[]
[null,null,2011,2012,2013,2014,2015]
["UAM","Total UAM",39350.666666666664,40439.666666666664,41726,41918.333333333336,42509]
[null,"Licenciaturas",76,74,75,75,76]
[null,"Prom/Lic",{"$f":"C18/C19","v":517.77192982456143},{"$f":"D18/D19","v":546.4819819819819},{"$f":"E18/E19","v":556.34666666666669},{"$f":"F18/F19","v":558.91111111111115},{"$f":"G18/G19","v":559.32894736842104}]
["FUENTE: Dirección de Sistemas Escolares."]

{"sheet":"Activos Plan","index":26,"n_rows":38,"n_cols":7,"rows_kept":38,"cut":false,"hidden":false,"merged":[[35,0,36,0],[5,0,6,0],[9,0,9,1],[19,0,20,0],[27,0,28,0]]}
["INDICE"]
["ALUMNAS Y ALUMNOS QUE REGISTRARON ACTIVIDAD ACADÉMICA A NIVEL LICENCIATURA "]
["DIVISIÓN","PLAN DE ESTUDIO",2011,2012,2013,2014,2015]
["CBI","Ingeniería en Recursos Hídricos",60,79,123,139,173]
["CBS","Biología Ambiental",55,69,116,147,208]
["CSH","Políticas Públicas",58,80,120,140,163]
[null,"Arte y Comunicación Digitales",null,null,18,32,50]
[null,"Total Unidad",{"$f":"SUM(C4:C7)","v":173},{"$f":"SUM(D4:D7)","v":228},{"$f":"SUM(E4:E7)","v":377},{"$f":"SUM(F4:F7)","v":458},{"$f":"SUM(G4:G7)","v":594}]
[]
["Total UAM",null,49508,50598,52459,52898,53374]
[null,"UAML/UAM",{"$f":"C8/C10","v":3.4943847458996525E-3},{"$f":"D8/D10","v":4.5061069607494368E-3},{"$f":"E8/E10","v":7.1865647458014834E-3},{"$f":"F8/F10","v":8.6581723316571518E-3},{"$f":"G8/G10","v":1.112901412672837E-2}]
[]
["Los alumnos que registraron actividad académica son aquellos que se inscribieron al menos una vez en el año de referencia."]
["FUENTE: Dirección de Sistemas Escolares."]
[]
["ALUMNAS REGISTRARON ACTIVIDAD ACADÉMICA A NIVEL LICENCIATURA "]
["DIVISIÓN","PLAN DE ESTUDIO",2011,2012,2013,2014,2015]
["CBI","Ingeniería en Recursos Hídricos",20,30,49,60,75]
["CBS","Biología Ambiental",39,44,79,100,143]
["CSH","Políticas Públicas",35,42,65,77,96]
[null,"Arte y Comunicación Digitales",0,0,9,15,23]
[null,"Total Unidad",{"$f":"SUM(C18:C21)","v":94},{"$f":"SUM(D18:D21)","v":116},{"$f":"SUM(E18:E21)","v":202},{"$f":"SUM(F18:F21)","v":252},{"$f":"SUM(G18:G21)","v":337}]
[]
["ALUMNOS REGISTRARON ACTIVIDAD ACADÉMICA A NIVEL LICENCIATURA "]
["DIVISIÓN","PLAN DE ESTUDIO",2011,2012,2013,2014,2015]
["CBI","Ingeniería en Recursos Hídricos",{"$f":"C4-C18","v":40},49,74,79,{"$f":"G4-G18","v":98}]
["CBS","Biología Ambiental",16,25,37,47,65]
["CSH","Políticas Públicas",23,38,55,63,67]
[null,"Arte y Comunicación Digitales",0,0,9,17,27]
[null,"Total Unidad",{"$f":"SUM(C26:C29)","v":79},{"$f":"SUM(D26:D29)","v":112},{"$f":"SUM(E26:E29)","v":175},{"$f":"SUM(F26:F29)","v":206},{"$f":"SUM(G26:G29)","v":257}]
[]
["ALUMNAS REGISTRARON ACTIVIDAD ACADÉMICA A NIVEL LICENCIATURA "]
["DIVISIÓN","PLAN DE ESTUDIO",2011,2012,2013,2014,2015]
["CBI","Ingeniería en Recursos Hídricos",{"$f":"C18/C4","v":0.33333333333333331},0.379746835443038,0.3983739837398374,0.43165467625899279,{"$f":"G18/G4","v":0.43352601156069365}]
["CBS","Biología Ambiental",0.70909090909090911,0.6376811594202898,0.68103448275862066,0.68027210884353739,0.6875]
["CSH","Políticas Públicas",0.60344827586206895,0.52500000000000002,0.54166666666666663,0.55000000000000004,0.58895705521472397]
[null,"Arte y Comunicación Digitales",null,null,{"$f":"E21/E7","v":0.5},{"$f":"F21/F7","v":0.46875},{"$f":"G21/G7","v":0.46}]
[null,"Total Unidad",{"$f":"C22/C8","v":0.54335260115606931},{"$f":"D22/D8","v":0.50877192982456143},{"$f":"E22/E8","v":0.53580901856763929},{"$f":"F22/F8","v":0.55021834061135366},{"$f":"G22/G8","v":0.56734006734006737}]

{"sheet":"Activos Div","index":27,"n_rows":17,"n_cols":11,"rows_kept":17,"cut":false,"hidden":false,"merged":[[2,1,2,2],[2,3,2,4],[2,5,2,6],[2,7,2,8],[2,9,2,10]]}
["INDICE"]
["ALUMNOS QUE REGISTRARON ACTIVIDAD ACADÉMICA A NIVEL LICENCIATURA "]
["DIVISIÓN",2011,null,2012,null,2013,null,2014,null,2015]
["CBI",60,{"$f":"B4/B$7","v":0.34682080924855491},79,{"$f":"D4/D$7","v":0.34649122807017546},123,{"$f":"F4/F$7","v":0.32625994694960214},139,{"$f":"H4/H$7","v":0.30349344978165937},173,{"$f":"J4/J$7","v":0.29124579124579125}]
["CBS",55,{"$f":"B5/B$7","v":0.31791907514450868},69,{"$f":"D5/D$7","v":0.30263157894736842},116,{"$f":"F5/F$7","v":0.30769230769230771},147,{"$f":"H5/H$7","v":0.32096069868995636},208,{"$f":"J5/J$7","v":0.35016835016835018}]
["CSH",58,{"$f":"B6/B$7","v":0.33526011560693642},80,{"$f":"D6/D$7","v":0.35087719298245612},138,{"$f":"F6/F$7","v":0.3660477453580902},172,{"$f":"H6/H$7","v":0.37554585152838427},213,{"$f":"J6/J$7","v":0.35858585858585856}]
["TOTAL",173,{"$f":"B7/B$7","v":1},228,{"$f":"D7/D$7","v":1},377,{"$f":"F7/F$7","v":1},458,{"$f":"H7/H$7","v":1},594,{"$f":"J7/J$7","v":1}]
["La categoria alumnos que registraron actividad académica durante el año esta compuesta por lo alumnos que se inscribieron al menos una vez en el año de referencia"]
["FUENTE: Dirección de Sistemas Escolares."]
[]
[]
[]
["DIVISIÓN",2011,2012,2013,2014,2015]
["CBI",60,79,123,139,173]
["CBS",55,69,116,147,208]
["CSH",58,80,138,172,213]
["TOTAL",173,228,377,458,594]

{"sheet":"Activos Gen","index":28,"n_rows":33,"n_cols":7,"rows_kept":33,"cut":false,"hidden":false,"merged":[[5,0,6,0],[13,0,14,0],[21,0,22,0],[29,0,30,0]]}
["INDICE"]
["ALUMNAS Y ALUMNOS QUE REGISTRARON ACTIVIDAD ACADÉMICA A NIVEL LICENCIATURA "]
["DIVISIÓN","PLAN DE ESTUDIO",2011,2012,2013,2014,2015]
["CBI","Ingeniería en Recursos Hídricos",{"$f":"'Activos Plan'!C4","v":60},{"$f":"'Activos Plan'!D4","v":79},{"$f":"'Activos Plan'!E4","v":123},{"$f":"'Activos Plan'!F4","v":139},{"$f":"'Activos Plan'!G4","v":173}]
["CBS","Biología Ambiental",{"$f":"'Activos Plan'!C5","v":55},{"$f":"'Activos Plan'!D5","v":69},{"$f":"'Activos Plan'!E5","v":116},{"$f":"'Activos Plan'!F5","v":147},{"$f":"'Activos Plan'!G5","v":208}]
["CSH","Políticas Públicas",{"$f":"'Activos Plan'!C6","v":58},{"$f":"'Activos Plan'!D6","v":80},{"$f":"'Activos Plan'!E6","v":120},{"$f":"'Activos Plan'!F6","v":140},{"$f":"'Activos Plan'!G6","v":163}]
[null,"Arte y Comunicación Digitales",{"$f":"'Activos Plan'!C7","v":0},{"$f":"'Activos Plan'!D7","v":0},{"$f":"'Activos Plan'!E7","v":18},{"$f":"'Activos Plan'!F7","v":32},{"$f":"'Activos Plan'!G7","v":50}]
[null,"Total Unidad",{"$f":"SUM(C4:C7)","v":173},{"$f":"SUM(D4:D7)","v":228},{"$f":"SUM(E4:E7)","v":377},{"$f":"SUM(F4:F7)","v":458},{"$f":"SUM(G4:G7)","v":594}]
["Fuente: Coordinación de Sistemas Escolares UAM Lerma"]
["ALUMNAS QUE REGISTRARON ACTIVIDAD ACADÉMICA A NIVEL LICENCIATURA "]
["DIVISIÓN","PLAN DE ESTUDIO",2011,2012,2013,2014,2015]
["CBI","Ingeniería en Recursos Hídricos",20,30,49,60,75]
["CBS","Biología Ambiental",39,44,79,100,143]
["CSH","Políticas Públicas",35,42,65,77,96]
[null,"Arte y Comunicación Digitales",{"$f":"'Activos Plan'!C15","v":0},{"$f":"'Activos Plan'!D15","v":0},9,15,23]
[null,"Total Unidad",{"$f":"SUM(C12:C15)","v":94},{"$f":"SUM(D12:D15)","v":116},{"$f":"SUM(E12:E15)","v":202},{"$f":"SUM(F12:F15)","v":252},{"$f":"SUM(G12:G15)","v":337}]
["Fuente: Coordinación de Sistemas Escolares UAM Lerma"]
["ALUMNOS QUE REGISTRARON ACTIVIDAD ACADÉMICA A NIVEL LICENCIATURA "]
["DIVISIÓN","PLAN DE ESTUDIO",2011,2012,2013,2014,2015]
["CBI","Ingeniería en Recursos Hídricos",{"$f":"C4-C12","v":40},49,74,{"$f":"F4-F12","v":79},{"$f":"G4-G12","v":98}]
["CBS","Biología Ambiental",16,25,37,47,65]
["CSH","Políticas Públicas",23,38,55,63,67]
[null,"Arte y Comunicación Digitales",0,0,9,17,27]
[null,"Total Unidad",{"$f":"SUM(C20:C23)","v":79},{"$f":"SUM(D20:D23)","v":112},{"$f":"SUM(E20:E23)","v":175},{"$f":"SUM(F20:F23)","v":206},{"$f":"SUM(G20:G23)","v":257}]
["Fuente: Coordinación de Sistemas Escolares UAM Lerma"]
["ALUMNAS QUE REGISTRARON ACTIVIDAD ACADÉMICA A NIVEL LICENCIATURA "]
["DIVISIÓN","PLAN DE ESTUDIO",2011,2012,2013,2014,2015]
["CBI","Ingeniería en Recursos Hídricos",{"$f":"C12/C4","v":0.33333333333333331},0.379746835443038,0.3983739837398374,{"$f":"F12/F4","v":0.43165467625899279},{"$f":"G12/G4","v":0.43352601156069365}]
["CBS","Biología Ambiental",0.70909090909090911,0.6376811594202898,0.68103448275862066,0.68027210884353739,0.6875]
["CSH","Políticas Públicas",0.60344827586206895,0.52500000000000002,0.54166666666666663,0.55000000000000004,0.58895705521472397]
[null,"Arte y Comunicación Digitales",null,null,{"$f":"E15/E7","v":0.5},{"$f":"F15/F7","v":0.46875},{"$f":"G15/G7","v":0.46}]
[null,"Total Unidad",{"$f":"C16/C8","v":0.54335260115606931},{"$f":"D16/D8","v":0.50877192982456143},{"$f":"E16/E8","v":0.53580901856763929},{"$f":"F16/F8","v":0.55021834061135366},{"$f":"G16/G8","v":0.56734006734006737}]
["Fuente: Coordinación de Sistemas Escolares UAM Lerma"]

{"sheet":"Activos Comp","index":29,"n_rows":22,"n_cols":11,"rows_kept":22,"cut":false,"hidden":false,"merged":[[3,0,5,0],[17,0,19,0],[8,0,10,0]]}
["INDICE"]
["ALUMNOS QUE REGISTRARON ACTIVIDAD ACADÉMICA A NIVEL LICENCIATURA "]
[null,null,2011,2012,2013,2014,2015]
["LER","Total",173,228,377,458,594]
[null,"Licenciaturas",3,3,4,4,4]
[null,"Prom/Lic",{"$f":"C4/C5","v":57.666666666666664},{"$f":"D4/D5","v":76},{"$f":"E4/E5","v":94.25},{"$f":"F4/F5","v":114.5},{"$f":"G4/G5","v":148.5}]
[]
[null,null,2005,2006,2007,2008,2009,2010]
["CUA","Total Unidad",203,287,562,871,1054,1205]
[null,"Licenciaturas",5,4,8,9,9,10]
[null,"Prom/Lic",{"$f":"C9/C10","v":40.6},71.75,70.25,96.777777777777771,117.11111111111111,120.5]
[null,null,2011,2012,2013,2014,2015]
[null,"Total Unidad",1388,1528,1654,2009,2326,null,null,null,{"$f":"G4/G13","v":0.25537403267411868}]
[null,"Licenciaturas",10,10,10,10,11]
[null,"Prom/Lic",{"$f":"C13/C14","v":138.80000000000001},{"$f":"D13/D14","v":152.80000000000001},{"$f":"E13/E14","v":165.4},{"$f":"F13/F14","v":200.9},{"$f":"G13/G14","v":211.45454545454547}]
[]
[null,null,2011,2012,2013,2014,2015]
["UAM","Total UAM",49508,50928,52459,52898,53374]
[null,"Licenciaturas",76,74,75,75,76]
[null,"Prom/Lic",{"$f":"C18/C19","v":651.42105263157896},{"$f":"D18/D19","v":688.21621621621625},{"$f":"E18/E19","v":699.45333333333338},{"$f":"F18/F19","v":705.30666666666662},{"$f":"G18/G19","v":702.28947368421052}]
["La categoria alumnos que registraron actividad académica durante el año esta compuesta por lo alumnos que se inscribieron al menos una vez en el año de referencia"]
["FUENTE: Dirección de Sistemas Escolares."]

{"sheet":"Bajas","index":30,"n_rows":26,"n_cols":11,"rows_kept":26,"cut":false,"hidden":false,"merged":[[11,1,11,2],[11,3,11,4],[11,5,11,6],[11,7,11,8],[11,9,11,10],[2,1,2,2],[2,3,2,4],[2,5,2,6],[2,7,2,8],[2,9,2,10],[20,1,20,2],[20,3,20,4],[20,5,20,6],[20,7,20,8],[20,9,20,10]]}
["INDICE"]
["BAJAS DEFINITIVAS DE ALUMNOS DE LICENCIATURA (y % de als activos)"]
["DIVISIÓN",2011,null,2012,null,2013,null,2014,null,2015]
["CBI",0,{"$f":"B4/'Activos Div'!B4","v":0},0,{"$f":"D4/'Activos Div'!D4","v":0},4,{"$f":"F4/'Activos Div'!F4","v":3.2520325203252036E-2},11,{"$f":"H4/'Activos Div'!H4","v":7.9136690647482008E-2},11,{"$f":"J4/'Activos Div'!J4","v":6.358381502890173E-2}]
["CBS",1,{"$f":"B5/'Activos Div'!B5","v":1.8181818181818181E-2},2,{"$f":"D5/'Activos Div'!D5","v":2.8985507246376812E-2},4,{"$f":"F5/'Activos Div'!F5","v":3.4482758620689655E-2},1,{"$f":"H5/'Activos Div'!H5","v":6.8027210884353739E-3},0,{"$f":"J5/'Activos Div'!J5","v":0}]
["CSH",0,{"$f":"B6/'Activos Div'!B6","v":0},0,{"$f":"D6/'Activos Div'!D6","v":0},1,{"$f":"F6/'Activos Div'!F6","v":7.246376811594203E-3},2,{"$f":"H6/'Activos Div'!H6","v":1.1627906976744186E-2},5,{"$f":"J6/'Activos Div'!J6","v":2.3474178403755867E-2}]
["TOTAL",{"$f":"SUM(B4:B6)","v":1},{"$f":"B7/'Activos Div'!B7","v":5.7803468208092483E-3},{"$f":"SUM(D4:D6)","v":2},{"$f":"D7/'Activos Div'!D7","v":8.771929824561403E-3},{"$f":"SUM(F4:F6)","v":9},{"$f":"F7/'Activos Div'!F7","v":2.3872679045092837E-2},{"$f":"SUM(H4:H6)","v":14},{"$f":"H7/'Activos Div'!H7","v":3.0567685589519649E-2},{"$f":"SUM(J4:J6)","v":16},{"$f":"J7/'Activos Div'!J7","v":2.6936026936026935E-2}]
["Baja definitiva: Es la pérdida de la calidad de alumno por renuncia expresa del interesado —es decir, del propio alumno—, e imputable al mismo (artículo 18, fracción II, del RESUAM)."]
["FUENTE: Dirección de Sistemas Escolares"]
[]
["BAJAS REGLAMENTARIAS DE ALUMNOS DE LICENCIATURA (y % de als activos)"]
["DIVISIÓN",2011,null,2012,null,2013,null,2014,null,2015]
["CBI",1,{"$f":"B13/'Activos Div'!B4","v":1.6666666666666666E-2},0,{"$f":"D13/'Activos Div'!D4","v":0},4,{"$f":"F13/'Activos Div'!F4","v":3.2520325203252036E-2},3,{"$f":"H13/'Activos Div'!H4","v":2.1582733812949641E-2},0,{"$f":"J13/'Activos Div'!J4","v":0}]
["CBS",0,{"$f":"B14/'Activos Div'!B5","v":0},0,{"$f":"D14/'Activos Div'!D5","v":0},2,{"$f":"F14/'Activos Div'!F5","v":1.7241379310344827E-2},2,{"$f":"H14/'Activos Div'!H5","v":1.3605442176870748E-2},0,{"$f":"J14/'Activos Div'!J5","v":0}]
["CSH",2,{"$f":"B15/'Activos Div'!B6","v":3.4482758620689655E-2},0,{"$f":"D15/'Activos Div'!D6","v":0},1,{"$f":"F15/'Activos Div'!F6","v":7.246376811594203E-3},1,{"$f":"H15/'Activos Div'!H6","v":5.8139534883720929E-3},0,{"$f":"J15/'Activos Div'!J6","v":0}]
["TOTAL",{"$f":"SUM(B13:B15)","v":3},{"$f":"B16/'Activos Div'!B7","v":1.7341040462427744E-2},{"$f":"SUM(D13:D15)","v":0},{"$f":"D16/'Activos Div'!D7","v":0},{"$f":"SUM(F13:F15)","v":7},{"$f":"F16/'Activos Div'!F7","v":1.8567639257294429E-2},{"$f":"SUM(H13:H15)","v":6},{"$f":"H16/'Activos Div'!H7","v":1.3100436681222707E-2},{"$f":"SUM(J13:J15)","v":0},{"$f":"J16/'Activos Div'!J7","v":0}]
["Baja reglamentaria:\nEs la perdida de la calidad de alumno como consecuencia de una sanción aplicada al estudiante, por haber incurrido en cualquiera de las causas establecidas en el artículo 18, fracciones III, IV y VII, incisos a) y b), del RESUAM.\n"]
["FUENTE: Dirección de Sistemas Escolares"]
[]
["BAJAS TOTALES DE ALUMNOS DE LICENCIATURA (y % de als activos)"]
["DIVISIÓN",2011,null,2012,null,2013,null,2014,null,2015]
["CBI",{"$f":"B13+B4","v":1},{"$f":"B22/'Activos Div'!B4","v":1.6666666666666666E-2},{"$f":"D13+D4","v":0},{"$f":"D22/'Activos Div'!D4","v":0},{"$f":"F13+F4","v":8},{"$f":"F22/'Activos Div'!F4","v":6.5040650406504072E-2},{"$f":"H13+H4","v":14},{"$f":"H22/'Activos Div'!H4","v":0.10071942446043165},{"$f":"J13+J4","v":11},{"$f":"J22/'Activos Div'!J4","v":6.358381502890173E-2}]
["CBS",{"$f":"B14+B5","v":1},{"$f":"B23/'Activos Div'!B5","v":1.8181818181818181E-2},{"$f":"D14+D5","v":2},{"$f":"D23/'Activos Div'!D5","v":2.8985507246376812E-2},{"$f":"F14+F5","v":6},{"$f":"F23/'Activos Div'!F5","v":5.1724137931034482E-2},{"$f":"H14+H5","v":3},{"$f":"H23/'Activos Div'!H5","v":2.0408163265306121E-2},{"$f":"J14+J5","v":0},{"$f":"J23/'Activos Div'!J5","v":0}]
["CSH",{"$f":"B15+B6","v":2},{"$f":"B24/'Activos Div'!B6","v":3.4482758620689655E-2},{"$f":"D15+D6","v":0},{"$f":"D24/'Activos Div'!D6","v":0},{"$f":"F15+F6","v":2},{"$f":"F24/'Activos Div'!F6","v":1.4492753623188406E-2},{"$f":"H15+H6","v":3},{"$f":"H24/'Activos Div'!H6","v":1.7441860465116279E-2},{"$f":"J15+J6","v":5},{"$f":"J24/'Activos Div'!J6","v":2.3474178403755867E-2}]
["TOTAL",{"$f":"SUM(B22:B24)","v":4},{"$f":"B25/'Activos Div'!B7","v":2.3121387283236993E-2},{"$f":"SUM(D22:D24)","v":2},{"$f":"D25/'Activos Div'!D7","v":8.771929824561403E-3},{"$f":"SUM(F22:F24)","v":16},{"$f":"F25/'Activos Div'!F7","v":4.2440318302387266E-2},{"$f":"SUM(H22:H24)","v":20},{"$f":"H25/'Activos Div'!H7","v":4.3668122270742356E-2},{"$f":"SUM(J22:J24)","v":16},{"$f":"J25/'Activos Div'!J7","v":2.6936026936026935E-2}]
["FUENTE: Dirección de Sistemas Escolares"]

{"sheet":"Deserción Acumulada","index":31,"n_rows":27,"n_cols":7,"rows_kept":27,"cut":false,"hidden":false,"merged":[[15,0,16,0],[2,5,3,5],[2,6,3,6],[11,0,12,0],[11,1,12,1],[11,2,12,2],[11,3,12,3],[11,4,12,4],[11,5,12,5],[11,6,12,6],[2,0,3,0],[2,1,3,1],[6,0,7,0],[2,2,3,2],[2,3,3,3],[2,4,3,4],[20,5,21,5],[20,6,21,6],[24,0,25,0],[20,0,21,0],[20,1,21,1],[20,2,21,2],[20,3,21,3],[20,4,21,4]]}
["INDICE"]
["DECERSIÓN ACUMULADA TOTAL"]
["DIV","PLAN DE ESTUDIO",2011,2012,2013,2014,2015]
[]
["CBI","Ingeniería en Recursos Hídricos",{"$f":"'Incritos Acumulado'!D6-'Activos Plan'!C4","v":-1},{"$f":"'Incritos Acumulado'!F6-'Activos Plan'!D4","v":10},{"$f":"'Incritos Acumulado'!H6-'Activos Plan'!E4","v":18},{"$f":"'Incritos Acumulado'!J6-'Activos Plan'!F4","v":51},{"$f":"'Incritos Acumulado'!L6-'Activos Plan'!G4","v":85}]
["CBS","Biología Ambiental",{"$f":"'Incritos Acumulado'!D7-'Activos Plan'!C5","v":1},{"$f":"'Incritos Acumulado'!F7-'Activos Plan'!D5","v":13},{"$f":"'Incritos Acumulado'!H7-'Activos Plan'!E5","v":21},{"$f":"'Incritos Acumulado'!J7-'Activos Plan'!F5","v":37},{"$f":"'Incritos Acumulado'!L7-'Activos Plan'!G5","v":54}]
["CSH","Políticas Públicas",{"$f":"'Incritos Acumulado'!D8-'Activos Plan'!C6","v":0},{"$f":"'Incritos Acumulado'!F8-'Activos Plan'!D6","v":11},{"$f":"'Incritos Acumulado'!H8-'Activos Plan'!E6","v":22},{"$f":"'Incritos Acumulado'!J8-'Activos Plan'!F6","v":32},{"$f":"'Incritos Acumulado'!L8-'Activos Plan'!G6","v":46}]
[null,"Arte y Comunicación Digitales",{"$f":"'Incritos Acumulado'!D9-'Activos Plan'!C7","v":0},{"$f":"'Incritos Acumulado'!F9-'Activos Plan'!D7","v":0},{"$f":"'Incritos Acumulado'!H9-'Activos Plan'!E7","v":0},{"$f":"'Incritos Acumulado'!J9-'Activos Plan'!F7","v":4},{"$f":"'Incritos Acumulado'!L9-'Activos Plan'!G7","v":4}]
[null,"Total Unidad",{"$f":"SUM(C5:C8)","v":0},{"$f":"SUM(D5:D8)","v":34},{"$f":"SUM(E5:E8)","v":61},{"$f":"SUM(F5:F8)","v":124},{"$f":"SUM(G5:G8)","v":189}]
[]
["DECERSIÓN ACUMULADA MUJERES"]
["DIV","PLAN DE ESTUDIO",2011,2012,2013,2014,2015]
[]
["CBI","Ingeniería en Recursos Hídricos",{"$f":"'Incritos Acumulado'!D16-'Activos Plan'!C18","v":0},{"$f":"'Incritos Acumulado'!F16-'Activos Plan'!D18","v":5},{"$f":"'Incritos Acumulado'!H16-'Activos Plan'!E18","v":7},{"$f":"'Incritos Acumulado'!J16-'Activos Plan'!F18","v":19},{"$f":"'Incritos Acumulado'!L16-'Activos Plan'!G18","v":35}]
["CBS","Biología Ambiental",0,{"$f":"'Incritos Acumulado'!F17-'Activos Plan'!D19","v":10},{"$f":"'Incritos Acumulado'!H17-'Activos Plan'!E19","v":15},{"$f":"'Incritos Acumulado'!J17-'Activos Plan'!F19","v":24},{"$f":"'Incritos Acumulado'!L17-'Activos Plan'!G19","v":35}]
["CSH","Políticas Públicas",0,{"$f":"'Incritos Acumulado'!F18-'Activos Plan'!D20","v":8},{"$f":"'Incritos Acumulado'!H18-'Activos Plan'!E20","v":12},{"$f":"'Incritos Acumulado'!J18-'Activos Plan'!F20","v":15},{"$f":"'Incritos Acumulado'!L18-'Activos Plan'!G20","v":20}]
[null,"Arte y Comunicación Digitales",{"$f":"'Incritos Acumulado'!D19-'Activos Plan'!C21","v":0},{"$f":"'Incritos Acumulado'!F19-'Activos Plan'!D21","v":0},{"$f":"'Incritos Acumulado'!H19-'Activos Plan'!E21","v":0},{"$f":"'Incritos Acumulado'!J19-'Activos Plan'!F21","v":3},{"$f":"'Incritos Acumulado'!L19-'Activos Plan'!G21","v":4}]
[null,"Total Unidad",{"$f":"SUM(C14:C17)","v":0},{"$f":"SUM(D14:D17)","v":23},{"$f":"SUM(E14:E17)","v":34},{"$f":"SUM(F14:F17)","v":61},{"$f":"SUM(G14:G17)","v":94}]
[]
["DECERSIÓN ACUMULADA MUJERES"]
["DIV","PLAN DE ESTUDIO",2011,2012,2013,2014,2015]
[]
["CBI","Ingeniería en Recursos Hídricos",{"$f":"C14/C5","v":0},0.5,0.3888888888888889,0.37254901960784315,{"$f":"G14/G5","v":0.41176470588235292}]
["CBS","Biología Ambiental",0,0.76923076923076927,0.7142857142857143,0.64864864864864868,0.64814814814814814]
["CSH","Políticas Públicas",null,{"$f":"D16/D7","v":0.72727272727272729},{"$f":"E16/E7","v":0.54545454545454541},{"$f":"F16/F7","v":0.46875},{"$f":"G16/G7","v":0.43478260869565216}]
[null,"Arte y Comunicación Digitales",null,null,null,{"$f":"F17/F8","v":0.75},1]
[null,"Total Unidad",null,{"$f":"D18/D9","v":0.67647058823529416},{"$f":"E18/E9","v":0.55737704918032782},{"$f":"F18/F9","v":0.49193548387096775},0.49735449735449733]

{"sheet":"Bajas Comp","index":32,"n_rows":21,"n_cols":8,"rows_kept":21,"cut":false,"hidden":false,"merged":[[3,0,5,0],[8,0,14,0],[17,0,19,0]]}
["INDICE"]
["BAJAS TOTALES DE ALUMNOS DE LICENCIATURA"]
[null,null,2011,2012,2013,2014,2015]
["LER","Total",4,2,16,20,16]
[null,"Licenciaturas",3,3,4,4,4]
[null,"Prom/Lic",{"$f":"C4/C5","v":1.3333333333333333},{"$f":"D4/D5","v":0.66666666666666663},{"$f":"E4/E5","v":4},{"$f":"F4/F5","v":5},{"$f":"G4/G5","v":4}]
[]
[null,null,2005,2006,2007,2008,2009,2010]
["CUA","Total Unidad",0,4,8,22,29,20]
[null,"Licenciaturas",5,4,8,9,9,10]
[null,"Prom/Lic",{"$f":"C9/C10","v":0},1,1,2.4444444444444446,3.2222222222222223,2]
[null,null,2011,2012,2013,2014,2015]
[null,"Total Unidad",18,23,30,21,105]
[null,"Licenciaturas",10,10,10,10,11]
[null,"Prom/Lic",{"$f":"C13/C14","v":1.8},{"$f":"D13/D14","v":2.2999999999999998},{"$f":"E13/E14","v":3},{"$f":"F13/F14","v":2.1},{"$f":"G13/G14","v":9.545454545454545}]
[]
[null,null,2011,2012,2013,2014,2015]
["UAM","Total UAM",4301,4264,3952,4364,4558]
[null,"Licenciaturas",76,74,75,75,76]
[null,"Prom/Lic",{"$f":"C18/C19","v":56.592105263157897},{"$f":"D18/D19","v":57.621621621621621},{"$f":"E18/E19","v":52.693333333333335},{"$f":"F18/F19","v":58.186666666666667},{"$f":"G18/G19","v":59.973684210526315}]
["FUENTE: Dirección de Sistemas Escolares."]

{"sheet":"EGRESO Plan","index":33,"n_rows":14,"n_cols":6,"rows_kept":14,"cut":false,"hidden":false,"merged":[[2,2,2,5],[6,0,7,0],[10,0,10,1],[2,0,3,0],[2,1,3,1]]}
["INDICE"]
["ESTUDIANTES QUE TERMINARON ESTUDIOS DE LICENCIATURA POR TRIMESTRE "]
["DIVISIÓN","PLAN DE ESTUDIO",2015]
[null,null,"I","P","O","Total"]
["CBI","Ingeniería en Recursos Hídricos",8,9,3,20]
["CBS","Biología Ambiental",9,14,0,23]
["CSH","Políticas Públicas",10,21,1,32]
[null,"Arte y Comunicación Digitales"]
[null,"Total Unidad",27,44,4,75]
[]
["Total UAM",null,1798,2134,1215,5147]
[null,"UAML/UAM",{"$f":"C9/C11","v":1.5016685205784204E-2},{"$f":"D9/D11","v":2.0618556701030927E-2},{"$f":"E9/E11","v":3.2921810699588477E-3},{"$f":"F9/F11","v":1.4571595103944046E-2}]
["La categoría estudiantes que terminaron estudios de licenciatura, incluye a las personas que concluyeron en el año de referencia el plan de estudios correspondiente."]
["FUENTE: AGA de Licenciatura - Dirección de Sistemas Escolares"]

{"sheet":"EGRESO Div","index":34,"n_rows":9,"n_cols":3,"rows_kept":9,"cut":false,"hidden":false,"merged":[[2,1,2,2]]}
["INDICE"]
["ESTUDIANTES QUE TERMINARON ESTUDIOS DE LICENCIATURA"]
["DIVISIÓN",2015]
["CBI",20,{"$f":"B4/B$7","v":0.26666666666666666}]
["CBS",23,{"$f":"B5/B$7","v":0.30666666666666664}]
["CSH",32,{"$f":"B6/B$7","v":0.42666666666666669}]
["Total",75,{"$f":"B7/B$7","v":1}]
["La categoría estudiantes que terminaron estudios de licenciatura, incluye a las personas que concluyeron en el año de referencia el plan de estudios correspondiente."]
["FUENTE: AGA de Licenciatura - Dirección de Sistemas Escolares"]

{"sheet":"EGRESO x gen","index":35,"n_rows":11,"n_cols":4,"rows_kept":11,"cut":false,"hidden":false,"merged":[[2,1,2,3],[2,0,3,0]]}
["INDICE"]
["EGRESADOS POR GÉNERO"]
["DIVISIÓN",2015]
[null,"Femenino","Masculino","Total"]
["CBI",9,11,20]
["CBS",21,2,23]
["CSH",22,10,32]
["TOTAL",52,23,75]
[null,{"$f":"B8/$D8","v":0.69333333333333336},{"$f":"C8/$D8","v":0.30666666666666664}]
["TOTAL UAM",2832,2315,5147]
[null,{"$f":"B10/$D10","v":0.55022343112492711},{"$f":"C10/$D10","v":0.44977656887507284}]

{"sheet":"EGRESO Comp","index":36,"n_rows":22,"n_cols":8,"rows_kept":22,"cut":false,"hidden":false,"merged":[[3,0,5,0],[8,0,14,0],[17,0,19,0]]}
["INDICE"]
["ESTUDIANTES QUE TERMINARON ESTUDIOS DE LICENCIATURA"]
[null,null,2011,2012,2013,2014,2015]
["LER","Total",null,null,null,null,75]
[null,"Licenciaturas",3,3,4,4,4]
[null,"Prom/Lic",{"$f":"C4/C5","v":0},{"$f":"D4/D5","v":0},{"$f":"E4/E5","v":0},{"$f":"F4/F5","v":0},{"$f":"G4/G5","v":18.75}]
[]
[null,null,2005,2006,2007,2008,2009,2010]
["CUA","Total Unidad",null,null,null,null,67,53]
[null,"Licenciaturas",5,4,8,9,9,10]
[null,"Prom/Lic",{"$f":"C9/C10","v":0},0,0,0,7.4444444444444446,5.3]
[null,null,2011,2012,2013,2014,2015]
[null,"Total Unidad",94,120,79,86,81]
[null,"Licenciaturas",10,10,10,10,11]
[null,"Prom/Lic",{"$f":"C13/C14","v":9.4},{"$f":"D13/D14","v":12},{"$f":"E13/E14","v":7.9},{"$f":"F13/F14","v":8.6},{"$f":"G13/G14","v":7.3636363636363633}]
[]
[null,null,2011,2012,2013,2014,2015]
["UAM","Total UAM",4448,4674,5334,5063,5147]
[null,"Licenciaturas",76,74,75,75,76]
[null,"Prom/Lic",{"$f":"C18/C19","v":58.526315789473685},{"$f":"D18/D19","v":63.162162162162161},{"$f":"E18/E19","v":71.12},{"$f":"F18/F19","v":67.506666666666661},{"$f":"G18/G19","v":67.723684210526315}]
["La categoría estudiantes que terminaron estudios de licenciatura, incluye a las personas que concluyeron en el año de referencia el plan de estudios correspondiente."]
["FUENTE: AGA de Licenciatura - Dirección de Sistemas Escolares"]

{"sheet":"TITULADOS Plan","index":37,"n_rows":12,"n_cols":3,"rows_kept":12,"cut":false,"hidden":false,"merged":[[5,0,6,0],[9,0,9,1]]}
["INDICE"]
["TITULADOS DE LICENCIATURA (Por Plan)"]
["DIVISIÓN","PLAN DE ESTUDIO",2015]
["CBI","Ingeniería en Recursos Hídricos",1]
["CBS","Biología Ambiental",6]
["CSH","Políticas Públicas",5]
[null,"Arte y Comunicación Digitales"]
[null,"Total Unidad",{"$f":"SUM(C4:C7)","v":12}]
[]
["Total UAM",null,3923]
[null,"UAML/UAM",{"$f":"C8/C10","v":3.0588835075197555E-3}]
["FUENTE: AGA de Licenciatura - Dirección de Sistemas Escolares."]

{"sheet":"TITULADOS Div","index":38,"n_rows":8,"n_cols":4,"rows_kept":8,"cut":false,"hidden":false,"merged":[[2,2,2,3]]}
["INDICE"]
["TITULADOS DE LICENCIATURA (Por División)"]
["DIVISIÓN","PLAN DE ESTUDIO",2015]
["CBI","Ingeniería en Recursos Hídricos",1,{"$f":"C4/C$7","v":8.3333333333333329E-2}]
["CBS","Biología Ambiental",6,{"$f":"C5/C$7","v":0.5}]
["CSH","Políticas Públicas",5,{"$f":"C6/C$7","v":0.41666666666666669}]
[null,"Total Unidad",{"$f":"SUM(C4:C6)","v":12},{"$f":"C7/C$7","v":1}]
["FUENTE: AGA de Licenciatura - Dirección de Sistemas Escolares."]

{"sheet":"TITULADOS Comp","index":39,"n_rows":21,"n_cols":8,"rows_kept":21,"cut":false,"hidden":false,"merged":[[3,0,5,0],[8,0,14,0],[17,0,19,0]]}
["INDICE"]
["TITULADOS DE LICENCIATURA"]
[null,null,2011,2012,2013,2014,2015]
["LER","Total",null,null,null,null,12]
[null,"Licenciaturas",3,3,4,4,4]
[null,"Prom/Lic",{"$f":"C4/C5","v":0},{"$f":"D4/D5","v":0},{"$f":"E4/E5","v":0},{"$f":"F4/F5","v":0},{"$f":"G4/G5","v":3}]
[]
[null,null,2005,2006,2007,2008,2009,2010]
["CUA","Total Unidad",null,null,null,null,null,18]
[null,"Licenciaturas",5,4,8,9,9,10]
[null,"Prom/Lic",{"$f":"C9/C10","v":0},0,0,0,0,1.8]
[null,null,2011,2012,2013,2014,2015]
[null,"Total Unidad",67,76,92,81,88]
[null,"Licenciaturas",10,10,10,10,11]
[null,"Prom/Lic",{"$f":"C13/C14","v":6.7},{"$f":"D13/D14","v":7.6},{"$f":"E13/E14","v":9.1999999999999993},{"$f":"F13/F14","v":8.1},{"$f":"G13/G14","v":8}]
[]
[null,null,2011,2012,2013,2014,2015]
["UAM","Total UAM",4539,4205,4268,4690,3923]
[null,"Licenciaturas",76,74,75,75,76]
[null,"Prom/Lic",{"$f":"C18/C19","v":59.723684210526315},{"$f":"D18/D19","v":56.824324324324323},{"$f":"E18/E19","v":56.906666666666666},{"$f":"F18/F19","v":62.533333333333331},{"$f":"G18/G19","v":51.618421052631582}]
["FUENTE: AGA de Licenciatura - Dirección de Sistemas Escolares"]

{"sheet":"TRIM EGRESO plan","index":40,"n_rows":10,"n_cols":3,"rows_kept":10,"cut":false,"hidden":false,"merged":[[7,0,7,1],[5,0,6,0]]}
["INDICE"]
["TRIMESTRES CURSADOS PROMEDIO PARA TERMINAR ESTUDIOS DE LICENCIATURA"]
["DIV","PLAN DE ESTUDIO",2015]
["CBI","Ingeniería en Recursos Hídricos",12.35]
["CBS","Biología Ambiental",12.130434782608695]
["CSH","Políticas Públicas",12.218749999999996]
[null,"Arte y Comunicación Digitales"]
["TOTAL UAM",null,15.948707985234114]
["La categoría trimestres cursados correspondiente a los trimestres donde el alumno tuvo alguna actividad académica"]
["Fuente: Dirección de Planeación."]

{"sheet":"TRIM EGRESO div","index":41,"n_rows":12,"n_cols":3,"rows_kept":12,"cut":false,"hidden":false,"merged":[[7,0,9,0],[3,0,5,0]]}
["INDICE"]
["TRIMESTRES CURSADOS PROMEDIO PARA TERMINAR ESTUDIOS DE LICENCIATURA"]
["UNIDAD","DIVISIÓN",2015]
["Lerma","CBI",12.35]
[null,"CBS",12.130434782608695]
[null,"CSH",12.218749999999996]
[]
["UAM","CBI",20.151388888888864]
[null,"CBS",15.10960670535138]
[null,"CSH",15.370656370656359]
["La categoría trimestres cursados corresponde a los trimestres donde el alumno tuvo alguna actividad académica\n"]
["FUENTE: Dirección de Planeación."]

{"sheet":"TRIM EGRESO Comp","index":42,"n_rows":16,"n_cols":8,"rows_kept":16,"cut":false,"hidden":false,"merged":[[6,0,8,0],[11,0,13,0]]}
["INDICE"]
["TRIMESTRES CURSADOS PROMEDIO PARA TERMINAR ESTUDIOS DE LICENCIATURA"]
[null,null,2011,2012,2013,2014,2015]
["LER","Total","-","-","-","-",12.226666666666667]
[]
[null,null,2005,2006,2007,2008,2009,2010]
["CUA","Total Unidad",null,null,null,null,12.61,13.584905660377357]
[null,null,2011,2012,2013,2014,2015]
[null,"Total Unidad",13.13829787234042,13.748617609527864,14.62,15.441860465116276,15.975308641975314]
[]
[null,null,1978,1979,1980,1981,1982,1983]
["UAM","Total UAM",12.143333333333333,12.463333333333333,13.26,13.203333333333333,13.633333333333333,13.796666666666667]
[null,null,2011,2012,2013,2014,2015]
[null,"Total UAM",15.648381294964095,15.57,15.751781027371603,15.858384357100615,15.948707985234114]
["La categoría trimestres cursados corresponde a los trimestres donde el alumno tuvo alguna actividad académica\n"]
["FUENTE: Dirección de Planeación."]

{"sheet":"Eficiencia terminal Div","index":43,"n_rows":8,"n_cols":2,"rows_kept":8,"cut":false,"hidden":false,"merged":[[2,0,3,0]]}
["INDICE"]
["EFICIENCIA TERMINAL"]
["DIVISIÓN","Ingreso-Egreso"]
[null,"2011-2015"]
["CBI",0.45454545454545453]
["CBS",0.51111111111111107]
["CSH",0.68085106382978722]
["Total",0.55147058823529416]

{"sheet":"Eficiencia terminal Comp","index":44,"n_rows":13,"n_cols":2,"rows_kept":13,"cut":false,"hidden":false,"merged":[[6,0,9,0]]}
["INDICE"]
["EFICIENCIA TERMINAL"]
["Unidad","Ingreso-Egreso"]
[null,"2011-2015"]
["LER",0.55147058823529416]
[]
["CUA","2005-2009"]
[null,"No hay datos"]
[null,"2011-2015"]
[null,7.0000000000000007E-2]
[]
[null,"2011-2015"]
["UAM",0.23400000000000001]

{"sheet":"Becas alumnos","index":45,"n_rows":64,"n_cols":12,"rows_kept":64,"cut":false,"hidden":false,"merged":[[11,1,12,1],[11,2,11,3],[29,2,29,4],[29,5,29,7],[32,0,33,0],[20,0,21,0],[20,1,21,1],[20,2,20,4],[20,5,20,7],[23,0,24,0],[26,0,26,1],[63,0,63,1],[48,0,49,0],[48,1,49,1],[48,2,48,4],[11,0,12,0],[51,0,52,0],[60,0,61,0],[54,0,54,1],[57,0,58,0],[57,1,58,1],[35,0,35,1],[11,4,11,5],[15,0,16,0],[45,0,45,1],[29,0,30,0],[29,1,30,1],[48,5,48,7],[57,5,57,7],[39,2,39,4],[39,5,39,7],[42,0,43,0],[39,0,40,0],[39,1,40,1],[57,2,57,4],[1,8,1,11],[2,0,3,0],[2,1,3,1],[6,0,7,0],[2,10,2,11],[2,4,2,5],[2,6,2,7],[2,2,2,3],[2,8,2,9]]}
["INDICE"]
["PRONABES SEP-UAM (a partir de 2014 cambia a Becas de Manutención)",null,null,null,null,null,null,null,"Cambia de nombre a Becas de Manutención"]
["DIVISION","LICENCIATURA",2011,null,2012,null,2013,null,2014,null,2015]
[null,null,"Asignadas","Pagadas","Asignadas","Pagadas","Asignadas","Pagadas","Asignadas","Pagadas","Asignadas","Pagadas"]
["CBI","Ingeniería en Recursos Hídricos",22,22,17,40,18,50,8,45,31,61]
["CBS","Biología Ambiental",29,26,9,28,20,34,22,50,46,89]
["CSH","Políticas Públicas",25,25,20,45,19,4,12,65,27,83]
[null,"Arte y Comunicaciones Digitales",null,null,null,null,4,57,9,12,18,27]
[null,"Total Unidad:",{"$f":"SUM(C5:C8)","v":76},73,46,113,61,145,51,172,122,260]
[]
["Becas de Excelencia"]
["DIVISION","LICENCIATURA",2014,null,2015]
[null,null,"Asignadas","Pagadas","Asignadas","Pagadas"]
["CBI","Ingeniería en Recursos Hídricos",17,17,5,22]
["CBS","Biología Ambiental",6,5,2,8]
["CSH","Políticas Públicas",30,30,6,36]
[null,"Arte y Comunicaciones Digitales"]
[null,"Total Unidad:",{"$f":"SUM(C14:C17)","v":53},{"$f":"SUM(D14:D17)","v":52},{"$f":"SUM(E14:E17)","v":13},{"$f":"SUM(F14:F17)","v":66}]
[]
["Becas para grupos vulnerables pagadas"]
["División","Plan",2014,null,null,2015]
[null,null,"Mujeres","Hombres","Total","Mujeres","Hombres","Total"]
["CBI","Ing. Recursos Hídricos",null,null,{"$f":"SUM(C23:D23)","v":0},null,1,{"$f":"SUM(F23:G23)","v":1}]
["CSH","Políticas Públicas",null,null,{"$f":"SUM(C24:D24)","v":0},null,null,{"$f":"SUM(F24:G24)","v":0}]
[null,"Arte y Comunicación Digitales",null,null,{"$f":"SUM(C25:D25)","v":0},null,null,{"$f":"SUM(F25:G25)","v":0}]
["CBS","Biología Ambiental",null,null,{"$f":"SUM(C26:D26)","v":0},null,null,{"$f":"SUM(F26:G26)","v":0}]
["Total Unidad:",null,{"$f":"SUM(C23:C26)","v":0},{"$f":"SUM(D23:D26)","v":0},{"$f":"SUM(C27:D27)","v":0},{"$f":"SUM(F23:F26)","v":0},{"$f":"SUM(G23:G26)","v":1},{"$f":"SUM(F27:G27)","v":1}]
[]
["Beca de Servicio Social"]
["División","Plan",2014,null,null,2015]
[null,null,"Mujeres","Hombres","Total","Mujeres","Hombres","Total"]
["CBI","Ing. Recursos Hídricos",2,1,{"$f":"SUM(C32:D32)","v":3},2,1,{"$f":"SUM(F32:G32)","v":3}]
["CSH","Políticas Públicas",null,null,{"$f":"SUM(C33:D33)","v":0},null,null,{"$f":"SUM(F33:G33)","v":0}]
[null,"Arte y Comunicación Digitales",null,null,{"$f":"SUM(C34:D34)","v":0},null,null,{"$f":"SUM(F34:G34)","v":0}]
["CBS","Biología Ambiental",3,1,{"$f":"SUM(C35:D35)","v":4},3,1,{"$f":"SUM(F35:G35)","v":4}]
["Total Unidad:",null,{"$f":"SUM(C32:C35)","v":5},{"$f":"SUM(D32:D35)","v":2},{"$f":"SUM(C36:D36)","v":7},{"$f":"SUM(F32:F35)","v":5},{"$f":"SUM(G32:G35)","v":2},{"$f":"SUM(F36:G36)","v":7}]
[]
["Beca para estudios de lenguas extranjeras "]
[]
["División","Plan",2014,null,null,2015]
[null,null,"Mujeres","Hombres","Total","Mujeres","Hombres","Total"]
["CBI","Ing. Recursos Hídricos",1,1,{"$f":"SUM(C42:D42)","v":2},2,null,{"$f":"SUM(F42:G42)","v":2}]
["CSH","Políticas Públicas",null,1,{"$f":"SUM(C43:D43)","v":1},5,2,{"$f":"SUM(F43:G43)","v":7}]
[null,"Arte y Comunicación Digitales",null,null,{"$f":"SUM(C44:D44)","v":0},1,1,{"$f":"SUM(F44:G44)","v":2}]
["CBS","Biología Ambiental",4,null,{"$f":"SUM(C45:D45)","v":4},5,null,{"$f":"SUM(F45:G45)","v":5}]
["Total Unidad:",null,{"$f":"SUM(C42:C45)","v":5},2,7,13,3,16]
[]
["Beca de movilidad internacional"]
["División","Plan",2014,null,null,2015]
[null,null,"Mujeres","Hombres","Total","Mujeres","Hombres","Total"]
["CBI","Ing. Recursos Hídricos",1,2,{"$f":"SUM(C51:D51)","v":3},null,1,{"$f":"SUM(F51:G51)","v":1}]
["CSH","Políticas Públicas",null,null,{"$f":"SUM(C52:D52)","v":0},3,null,{"$f":"SUM(F52:G52)","v":3}]
[null,"Arte y Comunicación Digitales",null,null,{"$f":"SUM(C53:D53)","v":0},null,null,{"$f":"SUM(F53:G53)","v":0}]
["CBS","Biología Ambiental",1,null,{"$f":"SUM(C54:D54)","v":1},1,4,{"$f":"SUM(F54:G54)","v":5}]
["Total Unidad:",null,{"$f":"SUM(C51:C54)","v":2},2,4,4,5,9]
[]
["Beca de movilidad nacional"]
["División","Plan",2014,null,null,2015]
[null,null,"Mujeres","Hombres","Total","Mujeres","Hombres","Total"]
["CBI","Ing. Recursos Hídricos",null,null,{"$f":"SUM(C60:D60)","v":0},1,3,{"$f":"SUM(F60:G60)","v":4}]
["CSH","Políticas Públicas",null,2,{"$f":"SUM(C61:D61)","v":2},1,null,{"$f":"SUM(F61:G61)","v":1}]
[null,"Arte y Comunicación Digitales",null,null,{"$f":"SUM(C62:D62)","v":0},null,null,{"$f":"SUM(F62:G62)","v":0}]
["CBS","Biología Ambiental",5,null,{"$f":"SUM(C63:D63)","v":5},3,null,{"$f":"SUM(F63:G63)","v":3}]
["Total Unidad:",null,{"$f":"SUM(C60:C63)","v":5},2,7,5,3,8]

{"sheet":"Becas Alumnos Comp1","index":46,"n_rows":20,"n_cols":8,"rows_kept":20,"cut":false,"hidden":false,"merged":[[3,0,5,0],[8,0,14,0],[17,0,19,0]]}
["INDICE"]
["PRONABES SEP-UAM PAGADAS (a partir de 2014 cambia a Becas de Manutención)"]
[null,null,2011,2012,2013,2014,2015]
["LER","Total",73,113,145,172,260]
[null,"Activos",173,228,377,458,594]
[null,"Alumnos Becados",{"$f":"C4/C5","v":0.42196531791907516},{"$f":"D4/D5","v":0.49561403508771928},{"$f":"E4/E5","v":0.38461538461538464},{"$f":"F4/F5","v":0.37554585152838427},{"$f":"G4/G5","v":0.43771043771043772}]
[]
[null,null,2005,2006,2007,2008,2009,2010]
["CUA","Total",28,99,162,225,263,283]
[null,"Activos",203,287,562,871,1054,1205]
[null,"Alumnos Becados",{"$f":"C9/C10","v":0.13793103448275862},0.34494773519163763,0.28825622775800713,0.25832376578645233,0.24952561669829221,0.23485477178423236]
[null,null,2011,2012,2013,2014,2015]
[null,"Total",339,311,326,497,614]
[null,"Activos",1388,1528,1654,2009,2326]
[null,"Alumnos Becados",{"$f":"C13/C14","v":0.24423631123919309},{"$f":"D13/D14","v":0.20353403141361257},{"$f":"E13/E14","v":0.19709794437726724},{"$f":"F13/F14","v":0.24738675958188153},{"$f":"G13/G14","v":0.26397248495270853}]
[]
[null,null,2011,2012,2013,2014,2015]
["UAM","Total",11531,11963,12043,12970,13338]
[null,"Activos",49508,50928,52459,52898,53374]
[null,"Alumnos Becados",{"$f":"C18/C19","v":0.23291185262987799},{"$f":"D18/D19","v":0.23490025133521836},{"$f":"E18/E19","v":0.22956975924054976},{"$f":"F18/F19","v":0.24518885402094598},{"$f":"G18/G19","v":0.24989695357290068}]

{"sheet":"Becas Alumnos Comp2","index":47,"n_rows":10,"n_cols":7,"rows_kept":10,"cut":false,"hidden":false,"merged":[[2,1,2,2],[2,3,2,4],[2,5,2,6]]}
["INDICE"]
["BECAS ALUMNOS (% de la matrícula activa)"]
[null,"UAML-2015",null,"UAMC-2015",null,"UAM-2015"]
["PRONABES SEP-UAM (Manutención)",260,{"$f":"B4/594","v":0.43771043771043772},614,{"$f":"D4/2326","v":0.26397248495270853},13338,{"$f":"F4/53374","v":0.24989695357290068}]
["Becas de Excelencia",66,{"$f":"B5/594","v":0.1111111111111111},111,{"$f":"D5/2326","v":4.772141014617369E-2},3783,{"$f":"F5/53374","v":7.0877206130325623E-2}]
["Becas para grupos vulnerables pagadas",1,1.6835016835016834E-3,6,2.5795356835769563E-3,64,1.1990856971559186E-3]
["Beca de Servicio Social",7,1.1784511784511785E-2,34,1.4617368873602751E-2,234,4.3841570802263278E-3]
["Beca para estudios de lenguas extranjeras ",16,2.6936026936026935E-2,65,2.7944969905417026E-2,667,1.249672125004684E-2]
["Beca de movilidad internacional",9,1.5151515151515152E-2,47,2.0206362854686157E-2,399,7.4755498932064304E-3]
["Beca de movilidad nacional",8,1.3468013468013467E-2,49,2.106620808254514E-2,122,2.2857571102034699E-3]

{"sheet":"Serv Social","index":48,"n_rows":61,"n_cols":13,"rows_kept":61,"cut":false,"hidden":false,"merged":[[45,0,60,0],[12,7,13,7],[12,6,13,6],[4,0,17,0],[19,0,43,0],[12,5,13,5],[12,4,13,4],[12,3,13,3],[12,1,13,1],[2,4,2,7],[7,2,8,2],[7,1,8,1],[7,7,8,7],[7,6,8,6],[7,5,8,5],[7,4,8,4],[7,3,8,3]]}
["INDICE"]
["PROYECTOS DE SERVICIO SOCIAL"]
[null,null,null,null,"Vigencia al 31 dic"]
["Div","Depto","Nombre del Proyecto","Responsable",2012,2013,2014,2015,"Acuerdo","Fecha","Decisión","Inic","Fin"]
["CIENCIAS BÁSICAS E INGENIERÍA",null,"Preparación de material didáctico virtual",null,null,"X","X","X","06.04","2013-03-06","aprobación"]
[null,null,"Autoequipamiento",null,null,"X","X","X","06.05","2013-03-06","aprobación"]
[null,null,"Tratamiento por Fotocatálisis de desechos de aguas residuales industriales","ININ",null,null,"X","X","18.03","2014-07-31","aprobación"]
[null,null,"Educación Hídrica, o divulgación de conceptos fundamentales de la cultura del agua",null,null,null,"X",null,"18.07","2014-07-31","aprobación"]
[null,null,null,null,null,null,null,null,"24.06","2015-02-27","cancelación"]
[null,null,"Caracterización cinética y transferencia de oxígeno en un reactor aerobio de lecho flotante alimentado con agua residual proveniente del río Lerma","Dr. Adolfo García Fontes",null,null,null,null,"24.07","2015-02-27","aprobación",null,"2015-04-10"]
[null,null,"Comisión Nacional del Agua-Dirección Local Estado de México (CONAGUA EDO, MEX.)",null,null,null,null,"X","25.04","2015-03-30","aprobación"]
[null,null,"Preservación, administración y seguridad hídrica (CONAGUA)",null,null,null,null,"X","35.06","2015-07-13","cambio de nombre"]
[null,null,"Instituto Nacional de Investigaciones Nucleares (ININ)",null,null,null,null,"X","23.10","2015-01-22","aprobación"]
[null,null,"Investigación y Desarrollo en Ciencia y Tecnología Nucleares (ININ)",null,null,null,null,null,"35.06","2015-07-13","cambio de nombre"]
[null,null,"Normatividad Ambiental (PROFEPA)",null,null,null,null,"X","35.05","2015-07-13","aprobación"]
[null,null,"Desarrollo transformador sostenible (WORLD VISION MÉXICO)",null,null,null,null,"X","35.05","2015-07-13","aprobación"]
[null,null,"Infraestructura hidráulica y saneamiento (CAEM)",null,null,null,null,"X","35.05","2015-07-13","aprobación"]
[null,null,"Centro interamericano de recursos del agua (UAEM-CIRA)",null,null,null,null,"X","35.05","2015-07-13","aprobación"]
[]
["CIENCIAS BIOLÓGICAS Y DE LA SALUD","CAM","Análisis metagenómico del resistoma y otras proteínas de interés biotecnológico en ecosistemas de especial relevancia en el Estado de México","Dr. Marcos López Pérez ",null,null,"X","X","02.14.12","2014-10-07","aprobación"]
[null,"CAM","Caracterización de las enzimas involucradas en la biosíntesis dTDP-L-ramnosa, ramnolípidos y polihidroxialcanoatos (phas) en Pseudomonas aeruginosa","Dr. Humberto García Arellano ",null,null,"X","X","02.14.12","2014-10-07","aprobación"]
[null,"CAM","Caracterización microbiana y monitoreo de contaminantes en las ciénagas de Lerma","Dr. Arturo Aburto Medina",null,null,"X","X","02.14.12","2014-10-07","aprobación"]
[null,"CAM","Conectividad del paisaje, efecto de las barreras artificiales y conservación de la vida silvestre.","Dr. Rurik Hermann List Sánchez List.",null,null,"X","X","02.14.12","2014-10-07","aprobación"]
[null,"CAM","Diversidad de macroalgas marinas mexicanas: filogenia y biogeografía","Dr. José Francisco Flores Pedroche.",null,null,"X","X","02.14.12","2014-10-07","aprobación"]
[null,"CAM","Ecología y conservación de carnívoros en ambientes modificados por el hombre","M. en C. Heliot Zarza Villanueva",null,null,"X","X","02.14.12","2014-10-07","aprobación"]
[null,"CAM","Efecto de la estructura de comunidades de competidores en la cosecha máxima","Dr. Derik Castillo Guajardo",null,null,"X","X","02.14.12","2014-10-07","aprobación"]
[null,"CAM","Evaluación experimental del efecto de los agroquímicos en la productividad, la variación morfológica de semillas y la variabilidad genética de plántulas de maiz (lea mays) en una parcela","Dr. Cesar Antonio Abarca García",null,null,"X","X","02.14.12","2014-10-07","aprobación"]
[null,"CAM","Genética de la conservación y ecologla de especies focales","Dra Karla Pelz Serrano",null,null,"X","X","02.14.12","2014-10-07","aprobación"]
[null,"CAM","Interacción y coexistencia entre depredadores similares con gran variación del tamaño corporal y dimorfismo sexual: Patrones poblacionales a gran escala y la importancia de los atributos","Dr. José Cuauhtémoc Chávez Tovar",null,null,"X","X","02.14.12","2014-10-07","aprobación"]
[null,"CAM","Microbiota: una alternativa terapéutica para la mejora de la salud y el bienestar de primates en cautiverio","Dr. Augusto J . Montiel Castro",null,null,"X","X","02.14.12","2014-10-07","aprobación"]
[null,"CAM","Obtención de enzimas de interés industrial mediante una aproximación metagenómica de la cuenca del rio Lerma.","Dr. Humberto García Arellano ",null,null,"X","X","02.14.12","2014-10-07","aprobación"]
[null,"CAM","Participación de la dinámica mitocondrial en la homeostasis celular durante la diferenciación de tejidos","Dra. Paulina Cortés Hernán",null,null,"X","X","02.14.12","2014-10-07","aprobación"]
[null,"CAM","Variación de la conducta sexual de libélulas como indicador del deterioro del hábitat entre las Ciénegas de Lerma. Estado de México","Dra. Celia Oliver Morales",null,null,"X","X","02.14.12","2014-10-07","aprobación"]
[null,"CSA","Análisis estructural y funcional de la proteína glucocinasa para entender mecanismos de la alteración en el metabolismo de la glucosa por mutaciones humanas","Dr Julio Lenin Domínguez Ramirez",null,null,"X","X","02.14.12","2014-10-07","aprobación"]
[null,"CSA","El nematodo CaenorhabiditIs elegans como modelo para la identificación y estudio de compuestos con actividad biológica sobre las vías metabólicas y mecanismos moleculares que controlan los procesos de envejecimiento y enfermedad","Dr. Silvestre De Jesús Alavez Espidio",null,null,"X","X","02.14.12","2014-10-07","aprobación"]
[null,"CAM","Diagnóstico y Soluciones para hacer de la UAM Lerma una Universidad Sostenible","Mtra. Patricia Manzano Fischer",null,null,null,"X","03.15.03","2015-03-31","aprobación","2015-04-01","2017-04-01"]
[null,null,"Ecología de la lechuza de campanario (Tyto alba) en ambientes antropogénicos del Valle de México. (Ecología de la lechuza)",null,null,null,null,"X","09.15.03","2015-05-08","aprobación"]
[null,"CAM","Conservación y restauración de áreas naturales protegidas del Estado de México (CEPANAF)","Dr. José Cuauhtémoc Chávez Tovar.",null,null,null,"X","14.15.12.01","2015-06-30","aprobación","2014-09-15","2017-09-15"]
[null,"CAM","Conservación y restauración en materia forestal (CONAFOR)","Dr. Derik Castillo Guajardo\nM. en C. Heliot Zarza Villanueva",null,null,null,"X","14.15.12.02","2015-06-30","aprobación","2014-07-01","2017-06-30"]
[null,"CAM","Proyecto genérico: normatividad ambiental (PROFEPA)","Dr. José Cuauhtémoc Chávez Tovar.\nDr. Rurik Hermann List Sánchez",null,null,null,"X","14.15.12.03","2015-06-30","aprobación","2015-04-01","2018-03-31"]
[null,"CAM","Desarrollo forestal sustentable del Estado de México (PROBOSQUE)","Dr. Adolfo Armando Rayas Amor",null,null,null,"X","14.15.12.04","2015-06-30","aprobación","2015-02-01","2018-01-31"]
[null,"CSA","Investigación y desarrollo en ciencia y tecnología nucleares (ININ)","Dr. Silvestre de Jesús Alavez Espidio",null,null,null,"X","14.15.12.05","2015-06-30","aprobación","2015-06-01","2018-06-30"]
[null,null,"Agricultura. Ambiente y Sociedad (Colpos-Monteclllo)",null,null,null,null,"X","18.15.03.01","2015-07-28","aprobación"]
[null,null,"Diseño y Difusión de Programas, Acciones y Normatividad en materia ambiental (H. Ayuntamiento Toluca",null,null,null,null,"X","18.15.03.02","2015-07-28","aprobación"]
[]
["CIENCIAS SOCIALES Y HUMANIDADES","AH","Ventanilla única. La producción web de interfaces gráficas de usuario frente a los servicios del Estado Nacional","Dra. Paz Sastre Martinez",null,null,null,"X","36.06","2015-06-09","aprobación"]
[null,"CSH","Proyecto de Servicio social con el Municipio de Lerma","Lic. Leopoldo Ruíz Calderón, Secretario Técnico del Ayuntamiento de Lerma",null,"X","X","X",15.04,"2013-10-30","aprobación"]
[null,"CSH","Laboratorio de Investigación de Políticas Públicas","Coordinador Divisional de Docencia",null,"X","X","X",16.09,"2013-11-08","aprobación"]
[null,"CSH","Apoyo en el análisis y procesamiento de la información contenida en los productos de trabajo del personal académico resguardados en el CIPA","DIPPPA de Rectoría General",null,"X","X","X","16.10","2013-11-08","aprobación"]
[null,"CSH-INT","Gestión Sustentable de Ecosistemas de Innovación Social (interdivisional)","Dra. Lidia lvonne Blásquez Martinez",null,null,null,"X","36.04","2015-06-09","aprobación"]
[null,"CSH-INT","Efectos de la Violencia en México sobre la Conservación de Especies (interdivisional)","Dra. Karla Pelz Serrano.",null,null,null,"X","36.05","2015-06-09","aprobación"]
[null,"PS","Análisis de Políticas Públicas de seguridad pública en municipios mexiquenses: el caso de SUBSEMUN","Dra. Ma. Gabriela Martínez Tíburcio",null,null,null,"X","24.11","2015-02-04","aprobación"]
[null,"PS","Gobernanza y Consejos consultivos nacionales (Gobernanza)","Mtro. Carlos Chávez Becker",null,null,null,"X","24.12","2015-02-04","aprobación"]
[null,"PS","Intercambio político entre organizaciones de la sociedad civil con el gobierno. Los casos del PDHDF y las OCS del Estado de México","Dr. Carlos Ricardo Aguilar Astorga",null,null,null,"X","24.13","2015-02-04","aprobación"]
[null,"PS","La Contraloría Social como instrumento de la rendición cuentas en la Administración Pública EstataL","Dra. Ma. Gabriela Martínez Tíburcio",null,null,null,"X","24.14","2015-02-04","aprobación"]
[null,"PS","\"Partidos políticos y Redes sociales: Estudio comparado de las plataformas legislativas y los mensajes partidistas en redes sociales en el Estado de México, 2015 (PPYRED)","Dr. Oniel Francisco Díaz Jiménez",null,null,null,"X","24.15","2015-02-04","aprobación"]
[null,"PS","El ciclo económico presupuesta! a nivel municipal","Dr. Manuel Lara Caballero",null,null,null,"X","36.07","2015-06-09","aprobación"]
[null,"PS","Condiciones territoriales, cambio estructural y crecimiento económico regional y urbano de México 1988-2014","Mtra. Mónica Adriana Sosa Juarico",null,null,null,"X","41.08","2015-10-26","aprobación"]
[null,"PS","Observatorio Metropolitano de Politicas Públicas e Incidencia (OMPPI).","Mtro. Raúl Hernández Mar.",null,null,null,"X","41.09","2015-10-26","aprobación"]
[null,"PS","Los comités comunitarios en la Cruzada Nacional contra el Hambre. Un enfoque de política pública","Dr. Manuel Lara Caballero",null,null,null,"X","41.10","2015-10-26","aprobación"]
[null,"PS","Economía regional de conocimiento; modelos y métodos de análisis y medición existentes y propuestos para México","Dr. Ryszard E. Rozga Luter.",null,null,null,"X","41.11","2015-10-26","aprobación"]

{"sheet":"Plazas Listado","index":49,"n_rows":69,"n_cols":12,"rows_kept":69,"cut":false,"hidden":false,"merged":[[2,3,2,6],[2,0,2,2],[3,5,3,6]]}
["INDICE"]
["PLAZAS UAM-LERMA (Información al 31 de Dic de 2015)"]
["PLAZA ORIGINAL",null,null,"PLAZA 2015"]
["Plaza","Año","Div","Plaza","Categoría","Profesor Definitivo",null,"Observaciones"]
[11106,2010,"CBS",1510,"TITULAR",11798,"FLORES PEDROCHE, JOSE FRANCISCO","Intercambiada con UAM-I"]
[11107,2010,"CBI",11107,"TITULAR",36019,"HERNANDEZ ZAPATA, ERNESTO"]
[11108,2010,"CBI",11108,null,null,null,null,null,null,"División","Núm plazas"]
[11109,2010,"CBI",11109,null,null,null,null,null,null,"CBI",{"$f":"COUNTIF(C5:C69,C6)","v":19}]
[11110,2010,"CBI",2822,"TITULAR",25486,"BUSSY , ANNE LAURE SABINE","Intercambiada con UAM-A",null,null,"CSH",{"$f":"COUNTIF(C5:C69,C14)","v":25}]
[11111,2010,"CBI",10335,"ASOCIADO",31092,"LOPEZ GALVAN, EDGAR","Intercambiada con UAM-A",null,null,"CBS",{"$f":"COUNTIF(C5:C69,C5)","v":21}]
[11112,2010,"CSH",11112,"TITULAR",36171,"BENITEZ DAVILA, MONICA FRANCISCA",null,null,null,"Sub Total UAM-L",{"$f":"SUM(L8:L10)","v":65}]
[11113,2010,"CSH",11113,"ASOCIADO",38204,"CHAVEZ BECKER, CARLOS GABRIEL",null,null,null,"Transferida UAM-I",1]
[11114,2010,"CSH",11114,"ASOCIADO",37911,"AGUILAR ASTORGA, CARLOS RICARDO",null,null,null,"Total UAM-L",{"$f":"L11-L12","v":64}]
[11115,2010,"CSH",11115,"ASOCIADO",35988,"BLASQUEZ MARTINEZ, LIDIA IVONNE"]
[11116,2010,"CSH",11116,"TITULAR",36007,"MARTINEZ GONZALEZ, NATAL ALEJANDRO"]
[11117,2010,"CBS",11117,"TITULAR",35805,"LIST SANCHEZ, RURIK HERMANN"]
[11118,2010,"CBS",11118,"TITULAR",36161,"PACHECO LOPEZ, GUSTAVO"]
[11119,2010,"CBS",11119]
[11120,2010,"CBS",null,null,null,null,"Transferida a UAM-I"]
[11121,2010,"CBS",11121,"TITULAR",36002,"LOPEZ PEREZ, MARCOS"]
[11122,2010,"CBS",11122,"TITULAR",35966,"CASTILLO GUAJARDO, DERIK"]
[11230,2011,"CBI",11230,"ASOCIADO",36946,"VON BULOW,  PHILIPP"]
[11231,2011,"CBI",11231,"TITULAR",36702,"PEREZ MARTINEZ, FRANCISCO"]
[11232,2011,"CBI",11232,"ASOCIADO",37016,"REYES GUTIERREZ, LAZARO RAYMUNDO"]
[11233,2011,"CSH",11233,"TITULAR",36929,"SASTRE DOMÍNGUEZ, MARÍA PAZ"]
[11234,2011,"CSH",11234,"ASOCIADO",36935,"LARA CABALLERO, MANUEL"]
[11235,2011,"CSH",11235,"TITULAR",36933,"ORTIZ HENDRESON, GLADYS"]
[11236,2011,"CBS",11236]
[11237,2011,"CBS",11237,"TITULAR",36941,"PELZ SERRANO, KARLA"]
[11238,2011,"CBS",10090,"TITULAR",22628,"JIMENEZ GUZMAN, JUDITH","Intercambiada con UAM-I"]
[11283,2012,"CBS",11283,"TITULAR",36948,"MIRANDA DE LA LAMA, GENARO CVABODNI"]
[11284,2012,"CBI",11284,"ASOCIADO",37866,"REYES MERCADO, YURI"]
[11285,2012,"CBI",11285]
[11286,2012,"CBI",11286,"ASOCIADO",34371,"LAGUNA SANCHEZ, GERARDO ABEL"]
[11287,2012,"CBI",3056,"TITULAR",18193,"PUERTA HUERTA, JOSE PEDRO ANTONIO","Intercambiada con UAM-A"]
[11288,2012,"CBI",11288,"ASOCIADO",35716,"DOMINGUEZ MARIANI, ELOISA"]
[11289,2012,"CBI",11289,"ASOCIADO",35470,"SANDOVAL GUTIERREZ, JACOBO"]
[11290,2012,"CBI",11290,"TITULAR",32841,"BERISTAIN CARDOSO, RICARDO"]
[11291,2012,"CBI",11291,"TITULAR",35091,"JARDON VALADEZ, HECTOR EDUARDO"]
[11292,2012,"CSH",11292,"ASOCIADO",32206,"FIGUEROA ROMERO, RAUL"]
[11293,2012,"CSH",11293,"TITULAR",37044,"MARTINEZ TIBURCIO, MARIA GABRIELA"]
[11294,2012,"CSH",6720,"TITULAR",27455,"ROZGA LUTER, RYSZARD EDWARD","Intercambiada con UAM-X"]
[11295,2012,"CSH",11295]
[11296,2012,"CSH",11296,"ASOCIADO",29839,"HERNANDEZ MAR, RAUL"]
[11297,2012,"CSH",11297]
[11298,2012,"CSH",11298]
[11299,2012,"CSH",11299,"ASOCIADO",40130,"GÜERECA TORRES, EVA RAQUEL"]
[11300,2012,"CBS",11300,"ASOCIADO",39547,"GUZMAN RAMOS, KIOKO RUBI"]
[11301,2012,"CBS",11301]
[11302,2012,"CBS",11302]
[11303,2012,"CBS",11303]
[11304,2012,"CBS",11304,"TITULAR",35473,"GARCIA ARELLANO, HUMBERTO"]
[11305,2012,"CBS",11305,"TITULAR",36059,"CHAVEZ TOVAR, JOSE CUAUHTEMOC"]
[11306,2012,"CBS",11306,"TITULAR",37884,"ALAVEZ ESPIDIO, SILVESTRE DE JESUS"]
[11413,2013,"CBI",9898,"TITULAR",21359,"SOTO CORTÉS, GABRIEL","Intercambiada con UAM-A"]
[11414,2013,"CBI",11414]
[11415,2013,"CBI",11415]
[11421,2013,"CBS",11421]
[11422,2013,"CBS",11422]
[11423,2013,"CBS",11423]
[11424,2013,"CSH",11424,"TITULAR",40253,"LOPEZ MORENO IGNACIO"]
[11425,2013,"CSH",11425,"ASOCIADO",39289,"SOSA JUARICO, MONICA ADRIANA"]
[11426,2013,"CSH",11426,"ASOCIADO",40118,"ARAGÓN ANDRADE, FELIPE ORLANDO"]
[11427,2013,"CSH",11427,"TITULAR",26107,"MOSQUEDA GÓMEZ, CLAUDIA"]
[11428,2013,"CSH",11428,"TITULAR",38161,"SANCHEZ CARDONA, LUZ MARIA"]
[11429,2013,"CSH",11429]
[11430,2013,"CSH",11430,"TITULAR",38518,"ROCHA ITURBIDE, MANUEL"]
[11431,2013,"CSH",11431]
[11432,2013,"CSH",11432]

{"sheet":"Plazas Div x Depto","index":50,"n_rows":23,"n_cols":42,"rows_kept":23,"cut":false,"hidden":false,"merged":[[4,35,8,35],[9,35,13,35],[14,35,18,35],[2,31,2,33],[4,17,8,17],[9,17,13,17],[14,17,18,17],[2,19,2,21],[2,22,2,24],[2,25,2,27],[2,28,2,30]]}
["INDICE"]
["Plazas UAM-Lerma por División",null,null,null,null,null,null,null,null,null,null,null,null,null,null,null,null,null,null,null,null,null,null,null,null,null,null,null,null,null,null,null,null,null,null,"Plazas UAM-Lerma por División y Departamento"]
[null,null,null,null,null,null,null,null,null,null,null,null,null,null,null,null,null,null,null,2011,null,null,2012,null,null,2013,null,null,2014,null,null,2015,null,null,null,null,null,{"$f":"T3","v":2011},{"$f":"W3","v":2012},{"$f":"Z3","v":2013},{"$f":"AC3","v":2014},{"$f":"AF3","v":2015}]
["Año",2010,2011,2012,2013,2014,2015,null,null,null,null,null,null,null,null,null,null,"División","Departamento","Aso","Tit","Total","Aso","Tit","Total","Aso","Tit","Total","Aso","Tit","Total","Aso","Tit","Total",null,"División","Departamento","Total","Total","Total","Total","Total"]
["CBI",5,8,16,19,19,19,null,null,null,null,null,null,null,null,null,null,"CBI","Procesos Productivos",1,null,{"$f":"SUM(T5:U5)","v":1},3,null,{"$f":"SUM(W5:X5)","v":3},3,null,{"$f":"SUM(Z5:AA5)","v":3},3,null,{"$f":"SUM(AC5:AD5)","v":3},3,null,{"$f":"SUM(AF5:AG5)","v":3},null,"CBI","Procesos Productivos",{"$f":"V5","v":1},{"$f":"Y5","v":3},{"$f":"AB5","v":3},{"$f":"AE5","v":3},{"$f":"AH5","v":3}]
["CBS",7,10,18,21,21,20,null,null,null,null,null,null,null,null,null,null,null,"Recursos de la Tierra",2,2,4,4,4,8,5,4,9,5,4,9,5,4,9,null,null,"Recursos de la Tierra",{"$f":"V6","v":4},{"$f":"Y6","v":8},{"$f":"AB6","v":9},{"$f":"AE6","v":9},{"$f":"AH6","v":9}]
["CSH",5,8,16,25,25,25,null,null,null,null,null,null,null,null,null,null,null,"Sist de Inf y Comunicaciones",null,1,1,1,2,3,1,2,3,1,2,3,1,2,3,null,null,"Sist de Inf y Comunicaciones",1,3,3,3,3]
["Total",{"$f":"SUM(B5:B7)","v":17},26,50,65,65,64,null,null,null,null,null,null,null,null,null,null,null,"Sin Adscripción",null,2,2,null,2,2,null,4,4,null,4,4,null,4,4,null,null,"Sin Adscripción",2,2,4,4,4]
[null,null,null,null,null,null,null,null,null,null,null,null,null,null,null,null,null,null,"Total",{"$f":"SUM(T5:T8)","v":3},{"$f":"SUM(U5:U8)","v":5},8,{"$f":"SUM(W5:W8)","v":8},{"$f":"SUM(X5:X8)","v":8},16,{"$f":"SUM(Z5:Z8)","v":9},{"$f":"SUM(AA5:AA8)","v":10},19,{"$f":"SUM(AC5:AC8)","v":9},{"$f":"SUM(AD5:AD8)","v":10},19,{"$f":"SUM(AF5:AF8)","v":9},{"$f":"SUM(AG5:AG8)","v":10},19]
[null,null,null,null,null,null,null,null,null,null,null,null,null,null,null,null,null,"CSH","Artes y Humanidades",null,1,1,null,1,1,null,1,1,null,1,1,null,1,1,null,"CSH","Artes y Humanidades",1,1,1,1,1]
[null,null,null,null,null,null,null,null,null,null,null,null,null,null,null,null,null,null,"Estudios Culturales",null,1,1,null,1,1,null,1,1,null,1,1,null,1,1,null,null,"Estudios Culturales",1,1,1,1,1]
[null,null,null,null,null,null,null,null,null,null,null,null,null,null,null,null,null,null,"Procesos Sociales",4,1,5,8,3,11,11,3,14,11,3,14,11,3,14,null,null,"Procesos Sociales",5,11,14,14,14]
[null,null,null,null,null,null,null,null,null,null,null,null,null,null,null,null,null,null,"Sin Adscripción",null,1,1,null,3,3,null,9,9,null,9,9,null,9,9,null,null,"Sin Adscripción",1,3,9,9,9]
[null,null,null,null,null,null,null,null,null,null,null,null,null,null,null,null,null,null,"Total",{"$f":"SUM(T10:T13)","v":4},{"$f":"SUM(U10:U13)","v":4},8,{"$f":"SUM(W10:W13)","v":8},{"$f":"SUM(X10:X13)","v":8},16,{"$f":"SUM(Z10:Z13)","v":11},{"$f":"SUM(AA10:AA13)","v":14},25,{"$f":"SUM(AC10:AC13)","v":11},{"$f":"SUM(AD10:AD13)","v":14},25,{"$f":"SUM(AF10:AF13)","v":11},{"$f":"SUM(AG10:AG13)","v":14},25]
[null,null,null,null,null,null,null,null,null,null,null,null,null,null,null,null,null,"CBS","Ciencias Ambientales",null,6,{"$f":"SUM(U15)","v":6},null,8,{"$f":"SUM(X15)","v":8},null,8,{"$f":"SUM(AA15)","v":8},null,8,{"$f":"SUM(AD15)","v":8},null,7,7,null,"CBS","Ciencias Ambientales",6,8,8,8,7]
[null,null,null,null,null,null,null,null,null,null,null,null,null,null,null,null,null,null,"Ciencias de la Alimentación",null,1,{"$f":"SUM(U16)","v":1},null,2,{"$f":"SUM(X16)","v":2},null,2,{"$f":"SUM(AA16)","v":2},null,2,{"$f":"SUM(AD16)","v":2},null,2,2,null,null,"Ciencias de la Alimentación",1,2,2,2,2]
[null,null,null,null,null,null,null,null,null,null,null,null,null,null,null,null,null,null,"Ciencias de la Salud",null,2,{"$f":"SUM(U17)","v":2},null,4,{"$f":"SUM(X17)","v":4},null,4,{"$f":"SUM(AA17)","v":4},null,4,{"$f":"SUM(AD17)","v":4},null,4,4,null,null,"Ciencias de la Salud",2,4,4,4,4]
[null,null,null,null,null,null,null,null,null,null,null,null,null,null,null,null,null,null,"Sin Adscripción",null,1,{"$f":"SUM(U18)","v":1},null,4,{"$f":"SUM(X18)","v":4},null,7,{"$f":"SUM(AA18)","v":7},null,7,{"$f":"SUM(AD18)","v":7},null,7,7,null,null,"Sin Adscripción",1,4,7,7,7]
[null,null,null,null,null,null,null,null,null,null,null,null,null,null,null,null,null,null,"Total ",null,{"$f":"SUM(U15:U18)","v":10},{"$f":"SUM(U19)","v":10},null,{"$f":"SUM(X15:X18)","v":18},{"$f":"SUM(X19)","v":18},null,{"$f":"SUM(AA15:AA18)","v":21},{"$f":"SUM(AA19)","v":21},null,{"$f":"SUM(AD15:AD18)","v":21},{"$f":"SUM(AD19)","v":21},{"$f":"SUM(AF15:AF18)","v":0},{"$f":"SUM(AG15:AG18)","v":20},20]
[null,null,null,null,null,null,null,null,null,null,null,null,null,null,null,null,null,null,"Total Unidad",{"$f":"T9+T14+T19","v":7},{"$f":"U9+U14+U19","v":19},26,16,34,50,20,45,65,20,45,65,20,44,{"$f":"AH9+AH14+AH19","v":64},null,null,"Total Unidad",{"$f":"SUM(AL5:AL19)","v":26},{"$f":"SUM(AM5:AM19)","v":50},{"$f":"SUM(AN5:AN19)","v":65},{"$f":"SUM(AO5:AO19)","v":65},{"$f":"SUM(AP5:AP19)","v":64}]
[]
[null,null,null,null,null,null,null,null,null,null,null,null,null,null,null,null,null,null,"Aso= Asociado"]
[null,null,null,null,null,null,null,null,null,null,null,null,null,null,null,null,null,null,"Tit= Titular"]

{"sheet":"Definitivos x plaza histórico","index":51,"n_rows":7,"n_cols":65,"rows_kept":7,"cut":false,"hidden":false,"merged":[[1,0,1,5]]}
["INDICE"]
["HISTÓRICO DE PLAZAS CON CONTRATACIÓN DEFINITIVA",null,null,null,null,null,null,null,null,null,null,null,null,null,null,null,null,null,null,null,null,null,null,null,null,null,null,null,null,null,null,null,null,null,null,null,null,null,null,null,null,null,null,null,null,null,null,null,null,null,null,null,null,null,null,null,null,null,null,null,null,null,null,null,"Total"]
["DIVISIÓN",2011,2012,2013,2014,2015]
["CBI",0.125,0.25,0.26315789473684209,0.36842105263157893,0.73684210526315785]
["CBS",0.3,0.27777777777777779,0.42857142857142855,0.52380952380952384,0.6]
["CSH",0.25,0.1875,0.28000000000000003,0.4,0.76]
["UAM-L",0.23076923076923078,0.24,0.32307692307692309,0.43076923076923079,0.703125]

{"sheet":"Concursos de Oposición","index":52,"n_rows":38,"n_cols":12,"rows_kept":38,"cut":false,"hidden":false,"merged":[[1,1,1,6],[1,8,1,11],[1,15,1,17],[1,18,1,20],[1,21,1,23],[13,13,17,13],[1,24,1,26],[1,27,1,29],[3,13,7,13],[8,13,12,13]]}
["INDICE"]
[null,"CONVOCATORIAS",null,null,null,null,null,null,"DICTÁMENES"]
["observaciones","FECHA CONVOCATORIA","CONVOCATORIA","PLAZA","DEPTO","CATEGORÍA","INICIO ACTIVIDADES SEGÚN CONVOCATORIA","HORARIO","DICTAMEN","FECHA DICTAMEN","GANADOR","NIVEL"]
[null,"2013-06-27","CO.L.CSH.c.006.13",11296,"Procesos Sociales","Asociado","2013-12-16","09:00-14:00 y 16:00-19:00","CS.006.14","2014-04-07","Raúl Hernández Mar","D"]
["Convocatoria sin Fecha de inicio de actividades","2013-06-28","CO.L.CSH.c.007.13",11234,"Procesos Sociales","Asociado",null,"09:00-14:00 y 16:00-19:00","CEA.009.14","2014-07-14","Manuel Lara Caballero","D"]
[null,"2013-09-05","CO.L.CSH.c.011.13",11425,"Procesos Sociales","Asociado","2014-01-02","09:00-14:00 y 16:00-19:00","CEA.011.14","2014-12-08","Mónica Adriana Sosa Juarico","D"]
[null,"2013-10-08","CO.L.CSH.c.012.13",11426,"Procesos Sociales","Asociado","2014-01-02","09:00-14:00 y 16:00-19:00","CS.016.14","2014-07-14","Desierta"]
[null,"2013-10-13","CO.L.CBI.b.004.13",11284,"Recursos de la Tierra","Asociado","2014-04-07","09:00-17:00","CB.004.14","2014-03-31","Desierta"]
[null,"2013-11-08","CO.L.CBS.a.003.13",11121,"Ciencias Ambientales","Titular","2014-07-07","09:00-17:00","BIOL.011.14","2014-04-14","Marcos López Pérez","B"]
[null,"2013-11-08","CO.L.CBS.c.002.13",11236,"Ciencias de la Salud","Titular","2014-04-16","09:00-17:00","SAL.002.14","2014-02-17","Desierta"]
[null,"2013-11-12","CO.L.CBS.c.003.13",11300,"Ciencias de la Salud","Titular","2014-09-01","09:00-17:00","SAL.003.14","2014-02-17","Desierta"]
["Ganada pero no ocupada por el profesor","2013-11-15","CO.L.CBI.b.005.13",11414,"Recursos de la Tierra","Asociado","2014-01-06","09:00-17:00","CB.005.14","2014-04-14","Juan Manuel Germán Acacio","D"]
[null,"2013-11-18","CO.L.CBI.a.003.13",11289,"Procesos Productivos","Asociado","2014-03-10","09:00-17:00","ING.008.14","2014-04-28","Desierta"]
[null,"2014-09-22","CO.L.CBI.b.004.14",11232,"Recursos de la Tierra","Asociado","2015-01-12","10:00-18:00","ING.002.15","2015-02-02","Lázaro Raymundo Reyes Gutiérrez","D"]
[null,"2014-09-22","CO.L.CBI.b.001.14",11284,"Recursos de la Tierra","Asociado","2015-01-12","10:00-18:00","CB.002.15","2015-02-02","Yuri Reyes Mercado","D"]
[null,"2014-09-22","CO.L.CBI.b.003.14",11288,"Recursos de la Tierra","Asociado","2015-01-12","10:00-18:00","ING.004.15","2015-02-23","Eloísa Domínguez Mariani","D"]
[null,"2014-09-22","CO.L.CBI.b.002.14",11291,"Recursos de la Tierra","Titular","2015-01-12","10:00-18:00","BIOL.008.15","2015-03-23","Héctor Eduardo Jardón Valadez","C"]
[null,"2014-09-29","CO.L.CBI.a.001.14",11289,"Procesos Productivos","Asociado","2015-01-19","10:00-18:00","ING.003.15","2015-02-16","Jacobo Sandoval Gutiérrez","D"]
[null,"2014-12-01","CO.L.CBS.b.001.14",11303,"Ciencias de la Alimentación","Titular","2015-03-23","09:00-17:00","BIOL.011.15","2015-04-13","Desierta"]
[null,"2015-01-26","CO.L.CSH.b.001.15",11297,"Estudios Culturales","Asociado","2015-09-01","09:00-14:00 y 15:00-18:00","HUM.005.15","2015-07-20","Desierta"]
[null,"2015-02-16","CO.L.CSH.a.002.15",11233,"Artes y Humanidades","Titular","2015-09-03","09:00-17:00","HUM.012.15","2015-10-06","María Paz Sastre Domínguez","C"]
[null,"2015-02-16","CO.L.CSH.a.001.15",11427,"Artes y Humanidades","Titular","2015-09-02","09:00-17:00","HUM.014.15","2015-10-06","Claudia Mosqueda Gómez","B"]
[null,"2015-02-16","CO.L.CSH.a.003.15",11430,"Artes y Humanidades","Titular","2015-09-02","09:00-17:00","HUM.015.15","2015-11-10","Manuel Rocha Iturbide","C"]
[null,"2015-02-16","CO.L.CSH.b.002.15",11432,"Estudios Culturales","Titular","2015-08-31","09:00-14:00 y 15:00-18:00","CS.008.15","2015-06-08","Desierta"]
[null,"2015-03-09","CO.L.CBS.c.001.15",11300,"Ciencias de la Salud","Asociado","2015-06-22","09:00-17:00","SAL.001.15","2015-05-25","Guzmán Ramos Kioko Rubí","D"]
[null,"2015-03-23","CO.L.CSH.c.002.15",11295,"Procesos Sociales","Titular","2015-09-07","09:00-14:00 y 16:00-19:00","CS.011.15","2015-10-13","Desierta"]
[null,"2015-03-23","CO.L.CSH.c.003.15",11298,"Procesos Sociales","Asociado","2015-09-07","09:00-14:00 y 16:00-19:00","CS.012.15","2015-10-13","Desierta"]
[null,"2015-03-23","CO.L.CSH.c.001.15",11299,"Procesos Sociales","Asociado","2015-09-07","09:00-14:00 y 16:00-19:00","CS.015.15","2015-11-16","Güereca Torres Eva Raquel","D"]
[null,"2015-03-23","CO.L.CSH.c.004.15",11426,"Procesos Sociales","Asociado","2015-09-07","09:00-14:00 y 16:00-19:00","CS.014.15","2015-11-16","Aragón Andrade Felipe Orlando","D"]
[null,"2015-06-22","CO.L.CSH.c.005.15",11424,"Procesos Sociales","Titular","2015-10-26","09:00-14:00 y 16:00-19:00","CS.016.15","2015-11-30","López Moreno Ignacio","B"]
[null,"2015-07-06","CO.L.CBS.b.001.15",11303,"Ciencias de la Alimentación","Asociado","2015-11-16","09:00-17:00","BIOL.023.15","2015-11-30","Desierta"]
[null,"2015-07-20","CO.L.CBS.c.003.15",11236,"Ciencias de la Salud","Asociado","2016-05-01","09:00-17:00","SAL.003.15","2015-11-03","Desierta"]
[null,"2015-07-20","CO.L.CBI.c.001.15",11285,"Sistemas de Información y Comunicaciones","Titular","2015-12-01","09:00-17:00","na","na","Se reconvocó el 20/07/2015"]
[null,"2015-07-20","CO.L.CBS.c.002.15",11423,"Ciencias de la Salud","Asociado","2016-05-01","09:00-17:00","BIOL.024.15","2015-11-30","Montiel Castro Augusto Jacobo","D"]
[null,"2015-09-07","CO.L.CBI.c.002.15",11285,"Sistemas de Información y Comunicaciones","Asociado","2016-01-04","09:00-17:00","ING.006.16","2016-02-11","Desierta"]
[null,"2015-09-11","CO.L.CSH.b.003.15",11297,"Estudios Culturales","Asociado","2016-01-18","9:00-14:00 y 15:00-18:00","HUM/001/16","2016-01-19","Hernández Razo Oscar Enrique","D"]
[null,"2015-11-16","CO.L.CSH.c.006.15",11295,"Procesos Sociales","Titular","2016-03-07","09:00-14:00 y 16:00-19:00","CS.001.16","2016-02-11","Desierta"]
[null,"2015-11-16","CO.L.CSH.c.007.15",11298,"Procesos Sociales","Asociado","2016-03-07","09:00-14:00 y 16:00-19:00","na","na","En proceso"]

{"sheet":"Académicos Definitivos","index":53,"n_rows":64,"n_cols":37,"rows_kept":64,"cut":false,"hidden":false,"merged":[[2,0,3,0],[2,1,3,1],[4,0,17,0],[16,1,17,1],[7,1,15,1],[4,1,6,1],[32,0,50,0],[38,1,50,1],[32,1,36,1],[28,1,30,1],[21,1,27,1],[19,0,30,0],[19,1,20,1],[2,36,3,36],[2,20,2,21],[2,23,2,27],[3,26,3,27],[2,10,3,10],[2,12,2,14],[2,16,2,18],[2,3,3,3],[2,2,3,2],[2,4,2,5],[2,29,2,30],[2,34,3,34],[2,9,3,9],[2,8,3,8],[2,6,3,6],[2,7,3,7]]}
["INDICE"]
["PROFESORES DEFINITIVOS (Información al 31 de Dic de 2015)"]
["Div","Depto","Plaza","Num Ec","Dictamen",null,"Nombre","Grado","Categoría","Nivel","Hrs",null,"DEFS DEDICACIÓN COMPLETA*",null,null,null,"Gestión",null,null,null,"Perfil PRODEP",null,null,"SNI / SNCA",null,null,null,null,null,"ÚLTIMO PUNTAJE",null,null,"EDI",null,"Beca Permanencia",null,"Beca Docencia"]
[null,null,null,null,null,"Fecha",null,null,null,null,null,null,"15I","15P","15O",null,"Cargo","Inicio","Fin",null,"Vigencia","Apoyo",null,"AREA","Nivel","Vigencia","Dictamen 2015",null,null,"AÑO","PUNTAJE",null,"Nivel",null,null,null,"Nivel"]
["CBI\n(14)","PP",3056,18193,null,"2015-07-01","PUERTA HUERTA, JOSE PEDRO ANTONIO","M","TITULAR","C",40,null,"X","X","X",null,"Coord","2014-07-09"]
[null,null,11289,35470,null,"2015-02-16","SANDOVAL GUTIERREZ, JACOBO","D","ASOCIADO","D",40,null,null,"X","X",null,"Coord","2015-07-09","2016-01-15"]
[null,null,11230,36946,null,"2012-01-16","VON BULOW,  PHILIPP","D","ASOCIADO","D",40,null,null,null,null,null,"Jefe Depto","2012-01-16","2016-01-15",null,null,null,null,null,null,null,null,null,null,null,null,null,"JD",null,"JD"]
[null,"RT",11290,32841,null,"2014-01-06","BERISTAIN CARDOSO, RICARDO","D","TITULAR","C",40,null,"X","X",null,null,"Jefe Depto","2015-06-16","2019-06-15",null,"2014-2017",null,null,"SNI-VII",1,"2015-2016",null,null,null,2015,65657,null,"B",null,"2015-2017",null,"D"]
[null,null,2822,25486,null,"2012-09-03","BUSSY , ANNE LAURE SABINE","D","TITULAR","C",40,null,"X","X","X",null,"Coord","2014-09-26","2015-06-30",null,"2013-2016",null,null,null,null,null,null,null,null,2013,125377,null,null,null,null,null,"D"]
[null,null,11288,35716,null,"2015-03-16","DOMINGUEZ MARIANI, ELOISA","D","ASOCIADO","D",40,null,null,"X","X",null,null,null,null,null,null,null,null,null,null,null,null,null,null,null,null,null,null,null,null,null,"B"]
[null,null,11107,36019,null,"2011-06-16","HERNANDEZ ZAPATA, ERNESTO","D","TITULAR","C",40,null,null,null,"X",null,"Jefe Depto","2011-06-16","2015-06-15",null,"2013-2016",null,null,null,null,null,null,null,null,null,null,null,"JD",null,"JD"]
[null,null,11291,35091,null,"2015-03-23","JARDON VALADEZ, HECTOR EDUARDO","D","TITULAR","C",40,null,null,"X","X",null,null,null,null,null,null,null,null,"SNI-II",1,"2013-2015",1,"2016-2019"]
[null,null,10335,31092,null,"2013-01-02","LOPEZ GALVAN, EDGAR","D","ASOCIADO","D",40,null,null,null,null,null,"Secr Acad","2014-07-11",null,null,"2013-2016",null,null,null,null,null,null,null,null,null,null,null,"SA",null,"2012-2015"]
[null,null,11232,37016,null,"2015-03-16","REYES GUTIERREZ, LAZARO RAYMUNDO","D","ASOCIADO","D",40,null,null,"X","X",null,null,null,null,null,"2015-2018",40000,null,"SNI-I",1,"2013-2015",1,"2016-2019",null,null,null,null,null,null,null,null,"C"]
[null,null,11284,37866,null,"2015-02-16","REYES MERCADO, YURI","D","ASOCIADO","D",40,null,null,"X","X",null,null,null,null,null,null,null,null,"SNI-II",1,"2012-2015",2,"2016-2019",null,null,null,null,null,null,"2015-2016",null,"D"]
[null,null,9898,21359,null,"2015-12-16","SOTO CORTÉS, GABRIEL","D","TITULAR","C",40,null,null,null,null,null,"Director","2014-07-11","2018-07-10",null,"2015-2018",null,null,"SNI-VII",1,"2013-2016",null,null,null,2013,199124,null,"JD",null,"DD"]
[null,"SIC",11286,34371,null,"2014-01-16","LAGUNA SANCHEZ, GERARDO ABEL","D","ASOCIADO","D",40,null,"X","X","X",null,null,null,null,null,"2014-2017",null,null,null,null,null,null,null,null,null,null,null,"A",null,"2014-2016",null,"D"]
[null,null,11231,36702,null,"2012-01-16","PEREZ MARTINEZ, FRANCISCO","D","TITULAR","B",40,null,null,null,null,null,"Jefe Depto","2012-01-16","2016-01-15",null,"2013-2016",null,null,null,null,null,null,null,null,null,null,null,"JD",null,"JD"]
[]
["CBS\n(12)","CAL",10090,22628,null,"2012-09-01","JIMENEZ GUZMAN, JUDITH","D","TITULAR","C",40,null,"X","X","X",null,null,null,null,null,null,null,null,"SNI-VI",1,"2014-2016",null,null,null,2014,138253,null,null,null,"2014-2019",null,"B"]
[null,null,11283,36948,null,"2012-06-01","MIRANDA DE LA LAMA, GENARO CVABODNI","D","TITULAR","C",40,null,null,null,null,null,"Jefe Depto","2012-06-01","2016-05-31",null,"2015-2018",null,null,"SNI-VI",1,"2014-2015",2,"2016-2019",null,null,null,null,"JD",null,"JD"]
[null,"CAM",11122,35966,null,"2013-01-07","CASTILLO GUAJARDO, DERIK","D","TITULAR","B",40,null,"X","X","X",null,null,null,null,null,null,null,null,null,null,null,null,null,null,null,null,null,null,null,null,null,"D"]
[null,null,11305,36059,null,"2013-06-16","CHAVEZ TOVAR, JOSE CUAUHTEMOC","D","TITULAR","C",40,null,"X","X",null,null,"Jefe Depto","2015-05-16","2019-05-15",null,"2013-2016",null,null,"SNI-II",1,"2013-2015",null,null,null,2015,75801,null,"C",null,"2014-2016",null,"D"]
[null,null,1510,11798,null,"2011-06-16","FLORES PEDROCHE, JOSE FRANCISCO","D","TITULAR","C",40,null,null,"X","X",null,null,null,null,null,"2015-2018",null,null,"SNI-I",1,"2014-2017",null,null,null,2015,305391,null,"C",null,"2015-2020"]
[null,null,11304,35473,null,"2013-06-03","GARCIA ARELLANO, HUMBERTO","D","TITULAR","C",40,null,"X","X","X",null,null,null,null,null,"2013-2016",null,null,"SNI-VI",1,"2014-2015",1,"2016-2019",null,2015,75294,null,"C",null,"2014-2016",null,"D"]
[null,null,11117,35805,null,"2011-05-16","LIST SANCHEZ, RURIK HERMANN","D","TITULAR","C",40,null,null,"X","X",null,"Jefe Depto","2011-05-16","2015-05-15",null,"2013-2016",null,null,"SNI-II",2,"2012-2015",1,"2016-2017",null,null,null,null,"JD",null,"JD"]
[null,null,11121,36002,null,"2014-07-07","LOPEZ PEREZ, MARCOS","D","TITULAR","B",40,null,"X","X","X",null,"Coord","2014-11-03",null,null,"2013-2016",null,null,"SNI-VI","C","2013-2015","C","2016-2017",null,null,null,null,"B",null,"2015-2017",null,"D"]
[null,null,11237,36941,null,"2013-01-07","PELZ SERRANO, KARLA","D","TITULAR","B",40,null,"X","X","X",null,null,null,null,null,"2015-2018",null,null,"SNI-II","C","2014-2016",null,null,null,null,null,null,null,null,null,null,"C"]
[null,"CSA",11306,37884,null,"2014-01-02","ALAVEZ ESPIDIO, SILVESTRE DE JESUS","D","TITULAR","C",40,null,"X","X",null,null,null,"2015-09-17","2019-09-16",null,"2015-2018",null,null,"SNI-III",2,"2012-2015",2,"2016-2020",null,null,null,null,null,null,null,null,"B"]
[null,null,11300,39547,null,"2015-06-02","GUZMAN RAMOS, KIOKO RUBI","D","ASOCIADO","D",40,null,null,null,"X",null,null,null,null,null,null,null,null,"SNI-III",1,"2015-2017"]
[null,null,11118,36161,null,"2011-06-16","PACHECO LOPEZ, GUSTAVO","D","TITULAR","C",40,null,null,null,"X",null,"Jefe Depto","2011-09-17","2015-09-16",null,"2015-2018",null,null,"SNI-II",2,"2014-2017",null,null,null,null,null,null,"JD",null,"JD"]
[]
["CSH\n(19)","AH",11112,36171,null,"2011-10-09","BENITEZ DAVILA, MONICA FRANCISCA","D","TITULAR","A",40,null,null,null,"X",null,"Jefa Depto","2011-10-03","2015-10-02",null,null,null,null,"SNI-IV",null,null,1,"2016-2018",null,null,null,null,"JD",null,"JD"]
[null,null,11427,26107,null,"2015-10-07","MOSQUEDA GÓMEZ, CLAUDIA","D","TITULAR","B",40]
[null,null,11430,38518,null,"2015-11-16","ROCHA ITURBIDE, MANUEL","D","TITULAR","C",40]
[null,null,11428,38161,null,"2015-10-03","SANCHEZ CARDONA, LUZ MARIA","D","TITULAR","C",40,null,null,null,null,null,"Jefa Depto","2015-10-03","2019-10-02",null,null,null,null,"SNCA-DMA",1,"2015-2018"]
[null,null,11233,36929,null,"2015-10-07","SASTRE DOMÍNGUEZ, MARÍA PAZ","D","TITULAR","C",40,null,null,null,null,null,null,null,null,null,"2015-2018",null,null,"SNI-IV","C","2014-2016"]
[null,"EC",11235,36933,null,"2012-06-01","ORTIZ HENDRESON, GLADYS","D","TITULAR","B",40,null,null,null,null,null,"Jefa Depto","2012-06-01","2016-05-31",null,null,null,null,"SNI-V",null,null,"C","2016-2018",null,null,null,null,"JD",null,"JD"]
[null,"PS",11114,37911,null,"2013-08-19","AGUILAR ASTORGA, CARLOS RICARDO","D","ASOCIADO","D",40,null,"X","X","X",null,null,null,null,null,"2015-2018",null,null,"SNI-V","C","2015-2017",null,null,null,null,null,null,null,null,null,null,"D"]
[null,null,11426,40118,null,"2015-11-16","ARAGÓN ANDRADE, FELIPE ORLANDO","M","ASOCIADO","D",40]
[null,null,11115,35988,null,"2013-11-22","BLASQUEZ MARTINEZ, LIDIA IVONNE","D","ASOCIADO","D",40,null,"X","X","X",null,null,null,null,null,"2013-2016",null,null,"SNI-V","C","2013-2015",1,"2016-2018",null,null,null,null,null,null,"2014-2015",null,"C"]
[null,null,11113,38204,null,"2013-12-04","CHAVEZ BECKER, CARLOS GABRIEL","M","ASOCIADO","D",40,null,"X","X","X",null,null,null,null,null,"2015-2018",null,null,null,null,null,null,null,null,null,null,null,null,null,"2015-2016",null,"D"]
[null,null,11292,32206,null,"2013-10-01","FIGUEROA ROMERO, RAUL","D","ASOCIADO","A",40,null,"X","X","X",null,"Coord","2015-01-12",null,null,"2015-2018",null,null,"SNI-V",null,null,"C","2016-2018",null,null,null,null,"A",null,"2015-2016",null,"D"]
[null,null,11299,40130,null,"2015-11-16","GÜERECA TORRES, EVA RAQUEL","M","ASOCIADO","D",40]
[null,null,11296,29839,null,"2014-04-16","HERNANDEZ MAR, RAUL","M","ASOCIADO","D",40,null,null,null,null,null,"Secr Acad","2014-11-19",null,null,"2015-2018",null,null,null,null,null,null,null,null,null,null,null,"JD",null,"JD"]
[null,null,11234,36935,null,"2014-09-01","LARA CABALLERO, MANUEL","D","ASOCIADO","D",40,null,"X","X",null,null,"Jefe Depto","2015-05-16","2019-05-15",null,"2014-2017",null,null,"SNI-V","C","2014-2016",null,null,null,null,null,null,"C",null,"2015-2017",null,"D"]
[null,null,11424,40253,null,"2015-11-30","LOPEZ MORENO IGNACIO","D","TITULAR","B",40]
[null,null,11116,36007,null,"2011-05-16","MARTINEZ GONZALEZ, NATAL ALEJANDRO","D","TITULAR","C",40,null,null,"X","X",null,"Jefe Depto","2011-05-16","2015-05-15",null,"2014-2017",null,null,"SNI-V",1,"2014-2017",null,null,null,null,null,null,"JD",null,"JD"]
[null,null,11293,37044,null,"2014-01-14","MARTINEZ TIBURCIO, MARIA GABRIELA","D","TITULAR","A",40,null,"X","X","X",null,null,null,null,null,"2015-2018",null,null,null,null,null,null,null,null,null,null,null,"A",null,"2015-2016",null,"D"]
[null,null,6720,27455,null,"2015-04-21","ROZGA LUTER, RYSZARD EDWARD","D","TITULAR","C",40,null,null,null,"X",null,null,null,null,null,null,null,null,"SNI-V",2,"2015-2018",null,null,null,2014,318797,null,null,null,"2013-2018"]
[null,null,11425,39289,null,"2015-01-28","SOSA JUARICO, MONICA ADRIANA","M","ASOCIADO","D",40,null,"X","X","X"]
[]
["*Para ser considerado DEF DEDICACIÓN COMPLETA, al inicio del trimestre debe estar ya contratado o terminar en las primeras dos semanas del trimestre el cargo de Jefe de Departamento, Rector, Director o Secretarío o el Sabático"]
[]
[null,null,"Departamentos",null,null,null,null,null,"Áreas del Conocimiento del Sistema Nacional de Investigadores (SNI) y del Sistema Nacional de Creadores de Arte (SNCA)"]
[null,null,"PP = PROCESOS PRODUCTIVOS",null,null,null,null,null,"SNI-I Físico-Matemáticas y Ciencias de la Tierra;"]
[null,null,"RT = RECURSOS DE LA TIERRA",null,null,null,null,null,"SNI-II Biología y Química;"]
[null,null,"SIC = SISTEMAS DE INFORMACION Y COMUNICACION",null,null,null,null,null,"SNI-III Medicina y Ciencias de la Salud;"]
[null,null,"CAL = CIENCIAS DE LA ALIMENTACION",null,null,null,null,null,"SNI-IV Humanidades y Ciencias de la Conducta;"]
[null,null,"CAM = CIENCIAS AMBIENTALES",null,null,null,null,null,"SNI-V Ciencias Sociales;"]
[null,null,"CSA = CIENCIAS DE LA SALUD",null,null,null,null,null,"SNI-VI Biotecnología y Ciencias Agropecuarias;"]
[null,null,"AH = ARTES Y HUMANIDADES",null,null,null,null,null,"SNI-VII Ingenierías"]
[null,null,"EC = ESTUDIOS CULTURALES",null,null,null,null,null,"SNCA-DMA Dirección en Medios Audiovisuales"]
[null,null,"PS = PROCESOS SOCIALES"]

{"sheet":"Definitivos x categoría","index":54,"n_rows":12,"n_cols":65,"rows_kept":12,"cut":false,"hidden":false,"merged":[[2,19,2,24],[2,25,2,30],[3,25,4,25],[3,26,3,30],[4,29,4,30],[3,19,4,19],[3,20,3,24],[4,23,4,24],[3,14,3,18],[2,0,4,0],[4,5,4,6],[4,11,4,12],[4,17,4,18],[2,1,2,6],[2,7,2,12],[2,13,2,18],[3,1,4,1],[3,2,3,6],[3,7,4,7],[3,8,3,12],[3,13,4,13]]}
["INDICE"]
["PERSONAL ACADÉMICO DEFINITIVO DE TIEMPO COMPLETO POR CATEGORÍA",null,null,null,null,null,null,null,null,null,null,null,null,null,null,null,null,null,null,null,null,null,null,null,null,null,null,null,null,null,null,null,null,null,null,null,null,null,null,null,null,null,null,null,null,null,null,null,null,null,null,null,null,null,null,null,null,null,null,null,null,null,null,null,"Total"]
["DIVISIÓN",2011,null,null,null,null,null,2012,null,null,null,null,null,2013,null,null,null,null,null,2014,null,null,null,null,null,2015]
[null,"Plazas","Contrataciones definitivas",null,null,null,null,"Plazas","Contrataciones definitivas",null,null,null,null,"Plazas","Contrataciones definitivas",null,null,null,null,"Plazas","Contrataciones definitivas",null,null,null,null,"Plazas","Contrataciones definitivas"]
[null,null,"ASISTENTE","ASOCIADO","TITULAR","TOTAL",null,null,"ASISTENTE","ASOCIADO","TITULAR","TOTAL",null,null,"ASISTENTE","ASOCIADO","TITULAR","TOTAL",null,null,"ASISTENTE","ASOCIADO","TITULAR","TOTAL",null,null,"ASISTENTE","ASOCIADO","TITULAR","TOTAL"]
["CBI",8,null,null,1,{"$f":"SUM(C6:E6)","v":1},{"$f":"F6/B6","v":0.125},16,null,1,3,{"$f":"SUM(I6:K6)","v":4},{"$f":"L6/H6","v":0.25},19,null,2,3,{"$f":"SUM(O6:Q6)","v":5},{"$f":"R6/N6","v":0.26315789473684209},19,null,3,4,{"$f":"SUM(U6:W6)","v":7},{"$f":"X6/T6","v":0.36842105263157893},19,null,7,7,{"$f":"SUM(AA6:AC6)","v":14},{"$f":"AD6/Z6","v":0.73684210526315785}]
["CBS",10,null,null,3,{"$f":"SUM(C7:E7)","v":3},{"$f":"F7/B7","v":0.3},18,null,null,5,{"$f":"SUM(I7:K7)","v":5},{"$f":"L7/H7","v":0.27777777777777779},21,null,null,9,{"$f":"SUM(O7:Q7)","v":9},{"$f":"R7/N7","v":0.42857142857142855},21,null,null,11,{"$f":"SUM(U7:W7)","v":11},{"$f":"X7/T7","v":0.52380952380952384},20,null,1,11,{"$f":"SUM(AA7:AC7)","v":12},{"$f":"AD7/Z7","v":0.6}]
["CSH",8,null,null,2,{"$f":"SUM(C8:E8)","v":2},{"$f":"F8/B8","v":0.25},16,null,null,3,{"$f":"SUM(I8:K8)","v":3},{"$f":"L8/H8","v":0.1875},25,null,4,3,{"$f":"SUM(O8:Q8)","v":7},{"$f":"R8/N8","v":0.28000000000000003},25,null,6,4,{"$f":"SUM(U8:W8)","v":10},{"$f":"X8/T8","v":0.4},25,null,9,10,{"$f":"SUM(AA8:AC8)","v":19},{"$f":"AD8/Z8","v":0.76}]
["TOTAL",{"$f":"SUM(B6:B8)","v":26},{"$f":"SUM(C6:C8)","v":0},{"$f":"SUM(D6:D8)","v":0},{"$f":"SUM(E6:E8)","v":6},{"$f":"SUM(F6:F8)","v":6},{"$f":"F9/B9","v":0.23076923076923078},{"$f":"SUM(H6:H8)","v":50},{"$f":"SUM(I6:I8)","v":0},{"$f":"SUM(J6:J8)","v":1},{"$f":"SUM(K6:K8)","v":11},{"$f":"SUM(L6:L8)","v":12},{"$f":"L9/H9","v":0.24},{"$f":"SUM(N6:N8)","v":65},{"$f":"SUM(O6:O8)","v":0},{"$f":"SUM(P6:P8)","v":6},{"$f":"SUM(Q6:Q8)","v":15},{"$f":"SUM(R6:R8)","v":21},{"$f":"R9/N9","v":0.32307692307692309},{"$f":"SUM(T6:T8)","v":65},{"$f":"SUM(U6:U8)","v":0},{"$f":"SUM(V6:V8)","v":9},{"$f":"SUM(W6:W8)","v":19},{"$f":"SUM(X6:X8)","v":28},{"$f":"X9/T9","v":0.43076923076923079},{"$f":"SUM(Z6:Z8)","v":64},{"$f":"SUM(AA6:AA8)","v":0},{"$f":"SUM(AB6:AB8)","v":17},{"$f":"SUM(AC6:AC8)","v":28},{"$f":"SUM(AD6:AD8)","v":45},{"$f":"AD9/Z9","v":0.703125}]
[null,null,{"$f":"C9/F9","v":0},{"$f":"D9/F9","v":0},{"$f":"E9/F9","v":1},{"$f":"F9/F9","v":1},null,null,{"$f":"I9/L9","v":0},{"$f":"J9/L9","v":8.3333333333333329E-2},{"$f":"K9/L9","v":0.91666666666666663},{"$f":"L9/L9","v":1},null,null,{"$f":"O9/R9","v":0},{"$f":"P9/R9","v":0.2857142857142857},{"$f":"Q9/R9","v":0.7142857142857143},{"$f":"R9/R9","v":1},null,null,{"$f":"U9/X9","v":0},{"$f":"V9/X9","v":0.32142857142857145},{"$f":"W9/X9","v":0.6785714285714286},{"$f":"X9/X9","v":1},null,null,{"$f":"AA9/AD9","v":0},{"$f":"AB9/AD9","v":0.37777777777777777},{"$f":"AC9/AD9","v":0.62222222222222223},{"$f":"AD9/AD9","v":1}]
[]
[null,"Coordinación de Recursos Humanos UAM-Lerma"]

{"sheet":"Definitivos x grado","index":55,"n_rows":12,"n_cols":50,"rows_kept":12,"cut":false,"hidden":false,"merged":[[10,3,10,4],[11,3,11,4],[2,7,2,9],[2,10,2,12],[2,13,2,15],[2,0,3,0],[2,1,2,3],[2,4,2,6],[9,3,9,4]]}
["INDICE"]
["PERSONAL ACADÉMICO DEFINITIVO DE TIEMPO COMPLETO POR GRADO",null,null,null,null,null,null,null,null,null,null,null,null,null,null,null,null,null,null,null,null,null,null,null,null,null,null,null,null,null,null,null,null,null,null,null,null,null,null,null,null,null,null,null,null,null,null,null,null,"Total"]
["División",2011,null,null,2012,null,null,2013,null,null,2014,null,null,2015]
[null,"L","M","D","L","M","D","L","M","D","L","M","D","L","M","D"]
["CBI",null,null,1,null,null,4,null,null,5,null,null,7,null,1,13]
["CBS",null,null,3,null,null,5,null,null,9,null,null,11,null,null,12]
["CSH",null,null,2,null,null,3,null,1,6,null,2,8,null,5,14]
["TOTAL",{"$f":"SUM(B5:B7)","v":0},0,6,0,0,12,0,1,20,0,2,26,0,6,39]
[]
[null,null,"L ","Licenciatrua"]
[null,null,"M","Maestría"]
[null,null,"D","Doctorado"]

{"sheet":"Definitivos x género","index":56,"n_rows":12,"n_cols":35,"rows_kept":12,"cut":false,"hidden":false,"merged":[[2,0,3,0],[2,13,2,15],[2,10,2,12],[2,7,2,9],[2,1,2,3],[2,4,2,6]]}
["INDICE"]
["PERSONAL ACADÉMICO DEFINITIVO DE TIEMPO COMPLETO por género",null,null,null,null,null,null,null,null,null,null,null,null,null,null,null,null,null,null,null,null,null,null,null,null,null,null,null,null,null,null,null,null,null,"TC"]
["DIVISIÓN",2011,null,null,2012,null,null,2013,null,null,2014,null,null,2015]
[null,"Mujer","Hombre","TOTAL","Mujer","Hombre","TOTAL","Mujer","Hombre","TOTAL","Mujer","Hombre","TOTAL","Mujer","Hombre","TOTAL"]
["CBI",null,1,{"$f":"SUM(B5:C5)","v":1},1,3,{"$f":"SUM(E5:F5)","v":4},1,4,{"$f":"SUM(H5:I5)","v":5},1,6,{"$f":"SUM(K5:L5)","v":7},2,12,{"$f":"SUM(N5:O5)","v":14}]
["CBS",null,3,{"$f":"SUM(B6:C6)","v":3},1,4,{"$f":"SUM(E6:F6)","v":5},2,7,{"$f":"SUM(H6:I6)","v":9},2,9,{"$f":"SUM(K6:L6)","v":11},3,9,{"$f":"SUM(N6:O6)","v":12}]
["CSH",1,1,{"$f":"SUM(B7:C7)","v":2},2,1,{"$f":"SUM(E7:F7)","v":3},3,4,{"$f":"SUM(H7:I7)","v":7},4,6,{"$f":"SUM(K7:L7)","v":10},9,10,{"$f":"SUM(N7:O7)","v":19}]
["TOTAL",{"$f":"SUM(B5:B7)","v":1},{"$f":"SUM(C5:C7)","v":5},{"$f":"SUM(B8:C8)","v":6},{"$f":"SUM(E5:E7)","v":4},{"$f":"SUM(F5:F7)","v":8},{"$f":"SUM(E8:F8)","v":12},{"$f":"SUM(H5:H7)","v":6},{"$f":"SUM(I5:I7)","v":15},{"$f":"SUM(H8:I8)","v":21},{"$f":"SUM(K5:K7)","v":7},{"$f":"SUM(L5:L7)","v":21},{"$f":"SUM(K8:L8)","v":28},{"$f":"SUM(N5:N7)","v":14},{"$f":"SUM(O5:O7)","v":31},{"$f":"SUM(N8:O8)","v":45}]
[null,{"$f":"B8/D8","v":0.16666666666666666},{"$f":"C8/D8","v":0.83333333333333337},null,{"$f":"E8/G8","v":0.33333333333333331},{"$f":"F8/G8","v":0.66666666666666663},null,{"$f":"H8/J8","v":0.2857142857142857},{"$f":"I8/J8","v":0.7142857142857143},null,{"$f":"K8/M8","v":0.25},{"$f":"L8/M8","v":0.75},null,{"$f":"N8/P8","v":0.31111111111111112},{"$f":"O8/P8","v":0.68888888888888888}]
[]
["UAM",970,1653,2623,991,1672,2663,1011,1694,2705,1032,1727,2759,1021,1722,2743]
[null,{"$f":"B11/D11","v":0.36980556614563476},{"$f":"C11/D11","v":0.63019443385436524},null,{"$f":"E11/G11","v":0.37213668794592564},{"$f":"F11/G11","v":0.62786331205407431},null,{"$f":"H11/J11","v":0.37375231053604435},{"$f":"I11/J11","v":0.62624768946395559},null,{"$f":"K11/M11","v":0.37404856832185573},{"$f":"L11/M11","v":0.62595143167814427},null,{"$f":"N11/P11","v":0.37222019686474661},{"$f":"O11/P11","v":0.62777980313525339}]

{"sheet":"Visitantes","index":57,"n_rows":17,"n_cols":12,"rows_kept":17,"cut":false,"hidden":false,"merged":[[13,1,16,1],[6,1,12,1],[3,1,5,1],[15,2,16,2],[13,2,14,2],[9,2,11,2],[6,2,8,2],[4,2,5,2]]}
["INDICE"]
["PROFESORES VISITANTES",null,null,null,null,null,null,null,"DIV","VISITANTES\nal 31dic2015","PLAZAS","Vis/Plaz"]
[null,"DIV","Departamento","Nombre","Inicio","Fin",null,null,"CBI",3,19,{"$f":"J3/K3","v":0.15789473684210525}]
[null,"CBI","Procesos Productivos","Dr. Luisel Jonatan Torres Cortés","2015-06-22","2016-06-21",null,null,"CBS",6,20,{"$f":"J4/K4","v":0.3}]
[null,null,"Recursos de la Tierra","Dr. Alejandro Mendoza Reséndiz","2015-04-27","2016-04-26",null,null,"CSH",1,25,{"$f":"J5/K5","v":0.04}]
[null,null,null,"Dr. José Luis Salazar Laureles","2015-05-18","2016-05-17",null,null,"UAML",10,64,{"$f":"J6/K6","v":0.15625}]
[null,"CBS","Ccias Ambientales","Dr. Gustavo Basurto Islas","2015-02-02","2015-09-15"]
[null,null,null,"Dr. José Geiser Villavicencio Pulido","2015-04-01","2016-03-31"]
[null,null,null,"M. en C. Zarza Villanueva Heliot","2015-08-19","2016-08-18"]
[null,null,"Ccias de la Alimentación.","Dra. Elizabeth Del Moral Ramírez","2015-06-01","2016-05-31"]
[null,null,null,"Dr. Rayas Amor Adolfo Armando","2015-08-19","2016-08-18"]
[null,null,null,"Dra. Mayra Diaz Ramírez","2015-11-04","2016-11-03"]
[null,null,"Ccias de la Salud.","Dr. Montiel Castro Augusto Jacobo","2015-08-26","2016-04-30"]
[null,"CSH","Artes y Humanidades","Dr. Manuel Rocha lturbide","2015-04-01","2015-08-31"]
[null,null,null,"Mtra. Celia Riboulet Beheran","2015-04-13","2015-10-02"]
[null,null,"Procesos Sociales.","Dr. Daniel Rojas Navarrete","2015-01-19","2015-07-30"]
[null,null,null,"Mtro. Gerardo Vázquez Hernández","2015-06-09","2016-06-08"]

{"sheet":"Definitivos comp","index":58,"n_rows":23,"n_cols":65,"rows_kept":23,"cut":false,"hidden":false,"merged":[[2,25,2,30],[3,1,4,1],[3,2,3,6],[3,7,4,7],[3,8,3,12],[4,29,4,30],[3,25,4,25],[3,26,3,30],[2,0,4,0],[2,1,2,6],[2,7,2,12],[2,13,2,18],[2,19,2,24],[4,5,4,6],[4,11,4,12],[4,17,4,18],[4,23,4,24],[3,13,4,13],[3,14,3,18],[3,19,4,19],[3,20,3,24],[8,0,11,0],[8,1,8,6],[8,7,8,12],[8,13,8,18],[8,19,8,24],[9,1,10,1],[9,2,9,6],[9,7,10,7],[9,8,9,12],[9,13,10,13],[10,5,10,6],[10,11,10,12],[14,19,14,24],[16,17,16,18],[16,23,16,24],[8,25,8,30],[9,14,9,18],[9,19,10,19],[9,20,9,24],[9,25,10,25],[9,26,9,30],[10,17,10,18],[10,23,10,24],[10,29,10,30],[16,29,16,30],[16,11,16,12],[14,0,17,0],[14,1,14,6],[14,7,14,12],[14,13,14,18],[16,35,16,36],[14,31,14,36],[15,1,16,1],[15,2,15,6],[15,7,16,7],[15,8,15,12],[15,13,16,13],[15,14,15,18],[15,19,16,19],[15,20,15,24],[15,25,16,25],[14,25,14,30],[15,26,15,30],[15,31,16,31],[15,32,15,36],[16,5,16,6]]}
["INDICE"]
["PERSONAL ACADÉMICO DEFINITIVO DE TIEMPO COMPLETO POR CATEGORÍA",null,null,null,null,null,null,null,null,null,null,null,null,null,null,null,null,null,null,null,null,null,null,null,null,null,null,null,null,null,null,null,null,null,null,null,null,null,null,null,null,null,null,null,null,null,null,null,null,null,null,null,null,null,null,null,null,null,null,null,null,null,null,null,"Total"]
[null,2011,null,null,null,null,null,2012,null,null,null,null,null,2013,null,null,null,null,null,2014,null,null,null,null,null,2015]
[null,"Plazas","Contrataciones definitivas",null,null,null,null,"Plazas","Contrataciones definitivas",null,null,null,null,"Plazas","Contrataciones definitivas",null,null,null,null,"Plazas","Contrataciones definitivas",null,null,null,null,"Plazas","Contrataciones definitivas"]
[null,null,"ASISTENTE","ASOCIADO","TITULAR","TOTAL",null,null,"ASISTENTE","ASOCIADO","TITULAR","TOTAL",null,null,"ASISTENTE","ASOCIADO","TITULAR","TOTAL",null,null,"ASISTENTE","ASOCIADO","TITULAR","TOTAL",null,null,"ASISTENTE","ASOCIADO","TITULAR","TOTAL"]
["UAM-L",26,0,0,6,{"$f":"SUM(C6:E6)","v":6},0.5,50,0,1,11,{"$f":"SUM(I6:K6)","v":12},0.44,65,0,6,15,{"$f":"SUM(O6:Q6)","v":21},0.43076923076923079,65,0,9,19,{"$f":"SUM(U6:W6)","v":28},0.55384615384615388,64,0,17,28,{"$f":"SUM(AA6:AC6)","v":45},0.65625]
[null,null,{"$f":"C6/F6","v":0},{"$f":"D6/F6","v":0},{"$f":"E6/F6","v":1},{"$f":"F6/F6","v":1},null,null,{"$f":"I6/L6","v":0},{"$f":"J6/L6","v":8.3333333333333329E-2},{"$f":"K6/L6","v":0.91666666666666663},{"$f":"L6/L6","v":1},null,null,{"$f":"O6/R6","v":0},{"$f":"P6/R6","v":0.2857142857142857},{"$f":"Q6/R6","v":0.7142857142857143},{"$f":"R6/R6","v":1},null,null,{"$f":"U6/X6","v":0},{"$f":"V6/X6","v":0.32142857142857145},{"$f":"W6/X6","v":0.6785714285714286},{"$f":"X6/X6","v":1},null,null,{"$f":"AA6/AD6","v":0},{"$f":"AB6/AD6","v":0.37777777777777777},{"$f":"AC6/AD6","v":0.62222222222222223},{"$f":"AD6/AD6","v":1}]
[]
["UAM-C",2011,null,null,null,null,null,2012,null,null,null,null,null,2013,null,null,null,null,null,2014,null,null,null,null,null,2015]
[null,"Plazas","Contrataciones definitivas",null,null,null,null,"Plazas","Contrataciones definitivas",null,null,null,null,"Plazas","Contrataciones definitivas",null,null,null,null,"Plazas","Contrataciones definitivas",null,null,null,null,"Plazas","Contrataciones definitivas"]
[null,null,"ASISTENTE","ASOCIADO","TITULAR","TOTAL",null,null,"ASISTENTE","ASOCIADO","TITULAR","TOTAL",null,null,"ASISTENTE","ASOCIADO","TITULAR","TOTAL",null,null,"ASISTENTE","ASOCIADO","TITULAR","TOTAL",null,null,"ASISTENTE","ASOCIADO","TITULAR","TOTAL"]
[null,183,0,13,106,{"$f":"SUM(C12:E12)","v":119},{"$f":"F12/B12","v":0.65027322404371579},194,0,21,109,{"$f":"SUM(I12:K12)","v":130},{"$f":"L12/H12","v":0.67010309278350511},204,0,22,112,{"$f":"SUM(O12:Q12)","v":134},{"$f":"R12/N12","v":0.65686274509803921},217,0,23,120,{"$f":"SUM(U12:W12)","v":143},{"$f":"X12/T12","v":0.65898617511520741},218,0,23,124,{"$f":"SUM(AA12:AC12)","v":147},{"$f":"AD12/Z12","v":0.67431192660550454}]
[null,null,{"$f":"C12/F12","v":0},{"$f":"D12/F12","v":0.1092436974789916},{"$f":"E12/F12","v":0.89075630252100846},{"$f":"F12/F12","v":1},null,null,{"$f":"I12/L12","v":0},{"$f":"J12/L12","v":0.16153846153846155},{"$f":"K12/L12","v":0.83846153846153848},{"$f":"L12/L12","v":1},null,null,{"$f":"O12/R12","v":0},{"$f":"P12/R12","v":0.16417910447761194},{"$f":"Q12/R12","v":0.83582089552238803},{"$f":"R12/R12","v":1},null,null,{"$f":"U12/X12","v":0},{"$f":"V12/X12","v":0.16083916083916083},{"$f":"W12/X12","v":0.83916083916083917},{"$f":"X12/X12","v":1},null,null,{"$f":"AA12/AD12","v":0},{"$f":"AB12/AD12","v":0.15646258503401361},{"$f":"AC12/AD12","v":0.84353741496598644},{"$f":"AD12/AD12","v":1}]
[]
["UAM-C",2005,null,null,null,null,null,2006,null,null,null,null,null,2007,null,null,null,null,null,2008,null,null,null,null,null,2009,null,null,null,null,null,2010]
[null,"Plazas","Contrataciones definitivas",null,null,null,null,"Plazas","Contrataciones definitivas",null,null,null,null,"Plazas","Contrataciones definitivas",null,null,null,null,"Plazas","Contrataciones definitivas",null,null,null,null,"Plazas","Contrataciones definitivas",null,null,null,null,"Plazas","Contrataciones definitivas"]
[null,null,"ASISTENTE","ASOCIADO","TITULAR","TOTAL",null,null,"ASISTENTE","ASOCIADO","TITULAR","TOTAL",null,null,"ASISTENTE","ASOCIADO","TITULAR","TOTAL",null,null,"ASISTENTE","ASOCIADO","TITULAR","TOTAL",null,null,"ASISTENTE","ASOCIADO","TITULAR","TOTAL",null,null,"ASISTENTE","ASOCIADO","TITULAR","TOTAL"]
[null,25,0,0,13,{"$f":"SUM(C18:E18)","v":13},{"$f":"F18/B18","v":0.52},60,0,1,21,{"$f":"SUM(I18:K18)","v":22},{"$f":"L18/H18","v":0.36666666666666664},82,0,4,48,{"$f":"SUM(O18:Q18)","v":52},{"$f":"R18/N18","v":0.63414634146341464},110,0,9,61,{"$f":"SUM(U18:W18)","v":70},{"$f":"X18/T18","v":0.63636363636363635},142,0,11,71,{"$f":"SUM(AA18:AC18)","v":82},{"$f":"AD18/Z18","v":0.57746478873239437},185,0,14,89,{"$f":"SUM(AG18:AI18)","v":103},{"$f":"AJ18/AF18","v":0.55675675675675673}]
[null,null,{"$f":"C18/F18","v":0},{"$f":"D18/F18","v":0},{"$f":"E18/F18","v":1},{"$f":"F18/F18","v":1},null,null,{"$f":"I18/L18","v":0},{"$f":"J18/L18","v":4.5454545454545456E-2},{"$f":"K18/L18","v":0.95454545454545459},{"$f":"L18/L18","v":1},null,null,{"$f":"O18/R18","v":0},{"$f":"P18/R18","v":7.6923076923076927E-2},{"$f":"Q18/R18","v":0.92307692307692313},{"$f":"R18/R18","v":1},null,null,{"$f":"U18/X18","v":0},{"$f":"V18/X18","v":0.12857142857142856},{"$f":"W18/X18","v":0.87142857142857144},{"$f":"X18/X18","v":1},null,null,{"$f":"AA18/AD18","v":0},{"$f":"AB18/AD18","v":0.13414634146341464},{"$f":"AC18/AD18","v":0.86585365853658536},{"$f":"AD18/AD18","v":1},null,null,{"$f":"AG18/AJ18","v":0},{"$f":"AH18/AJ18","v":0.13592233009708737},{"$f":"AI18/AJ18","v":0.86407766990291257},{"$f":"AJ18/AJ18","v":1}]
["Fuentes: ","Informe anual de actividades de la Rectora de la Unidad Cuajimalpa - 2005-2006"]
[null,"Informe anual de actividades del Rector de la Unidad Cuajimalpa - 2015 (Tabla 76)"]
[null,"Informe del Rector General 2015 - Anexo estadístico"]
[null,"Coordinación de Recursos Humanos UAM-Lerma"]

{"sheet":"Alumnos x plaza TC","index":59,"n_rows":7,"n_cols":7,"rows_kept":7,"cut":false,"hidden":false,"merged":[[3,0,6,0]]}
["INDICE"]
["ALUMNOS ATENDIDOS DE LICENCIATURA POR PLAZA TIEMPO COMPLETO (Activos / PlazaTC)"]
[null,null,2011,2012,2013,2014,2015]
["LER","CBI",{"$f":"'Activos Div'!B4/'Plazas Div x Depto'!C5","v":7.5},{"$f":"'Activos Div'!D4/'Plazas Div x Depto'!D5","v":4.9375},{"$f":"'Activos Div'!F4/'Plazas Div x Depto'!E5","v":6.4736842105263159},{"$f":"'Activos Div'!H4/'Plazas Div x Depto'!F5","v":7.3157894736842106},{"$f":"'Activos Div'!J4/'Plazas Div x Depto'!G5","v":9.1052631578947363}]
[null,"CBS",{"$f":"'Activos Div'!B5/'Plazas Div x Depto'!C6","v":5.5},{"$f":"'Activos Div'!D5/'Plazas Div x Depto'!D6","v":3.8333333333333335},{"$f":"'Activos Div'!F5/'Plazas Div x Depto'!E6","v":5.5238095238095237},{"$f":"'Activos Div'!H5/'Plazas Div x Depto'!F6","v":7},{"$f":"'Activos Div'!J5/'Plazas Div x Depto'!G6","v":10.4}]
[null,"CSH",{"$f":"'Activos Div'!B6/'Plazas Div x Depto'!C7","v":7.25},{"$f":"'Activos Div'!D6/'Plazas Div x Depto'!D7","v":5},{"$f":"'Activos Div'!F6/'Plazas Div x Depto'!E7","v":5.52},{"$f":"'Activos Div'!H6/'Plazas Div x Depto'!F7","v":6.88},{"$f":"'Activos Div'!J6/'Plazas Div x Depto'!G7","v":8.52}]
[null,"UAML",{"$f":"'Activos Div'!B7/'Plazas Div x Depto'!C8","v":6.6538461538461542},{"$f":"'Activos Div'!D7/'Plazas Div x Depto'!D8","v":4.5599999999999996},{"$f":"'Activos Div'!F7/'Plazas Div x Depto'!E8","v":5.8},{"$f":"'Activos Div'!H7/'Plazas Div x Depto'!F8","v":7.046153846153846},{"$f":"'Activos Div'!J7/'Plazas Div x Depto'!G8","v":9.28125}]

{"sheet":"Alumnos x plaza TC Comp","index":60,"n_rows":25,"n_cols":8,"rows_kept":25,"cut":false,"hidden":false,"merged":[[11,0,16,0],[3,0,5,0]]}
["INDICE"]
["ALUMNOS ATENDIDOS DE LICENCIATURA POR PLAZA TIEMPO COMPLETO (Activos / PlazaTC)"]
[null,null,2011,2012,2013,2014,2015]
["LER","Plazas",{"$f":"'Plazas Div x Depto'!C8","v":26},{"$f":"'Plazas Div x Depto'!D8","v":50},{"$f":"'Plazas Div x Depto'!E8","v":65},{"$f":"'Plazas Div x Depto'!F8","v":65},{"$f":"'Plazas Div x Depto'!G8","v":64}]
[null,"Alumnos Activos",{"$f":"'Activos Comp'!C4","v":173},{"$f":"'Activos Comp'!D4","v":228},{"$f":"'Activos Comp'!E4","v":377},{"$f":"'Activos Comp'!F4","v":458},{"$f":"'Activos Comp'!G4","v":594}]
[null,"Total",{"$f":"C5/C4","v":6.6538461538461542},{"$f":"D5/D4","v":4.5599999999999996},{"$f":"E5/E4","v":5.8},{"$f":"F5/F4","v":7.046153846153846},{"$f":"G5/G4","v":9.28125}]
[]
[]
[null,null,2005,2006,2007,2008,2009,2010]
[null,"Plazas",25,60,82,110,142,185]
[null,"Alumnos Activos",203,287,562,871,1054,1205]
["CUA","Activos/Plaza",{"$f":"C11/C10","v":8.1199999999999992},4.7833333333333332,6.8536585365853657,7.918181818181818,7.422535211267606,6.5135135135135132]
[]
[null,null,2011,2012,2013,2014,2015]
[null,"Plazas",183,194,204,217,218]
[null,"Alumnos Activos",1388,1528,1654,2009,2326]
[null,"Total Unidad",{"$f":"C16/C15","v":7.584699453551913},{"$f":"D16/D15","v":7.8762886597938149},{"$f":"E16/E15","v":8.1078431372549016},{"$f":"F16/F15","v":9.258064516129032},{"$f":"G16/G15","v":10.669724770642201}]
[]
[null,null,2011,2012,2013,2014,2015]
["UAM","Activos/PTCdef",17.771343104995513,18.08094674556213,18.378722410370198,18.159285959491932,18.46957725359017]
[]
[]
[null,null,"2011 (UAML)\n2005 (UAMC)","2012 (UAML)\n2006 (UAMC)","2013 (UAML)\n2007 (UAMC)","2014 (UAML)\n2008 (UAMC)","2015 (UAML)\n2009 (UAMC)"]
[null,"UAML",6.6538461538461542,4.5599999999999996,5.8,7.046153846153846,9.28125]
[null,"UAMC",8.1199999999999992,4.7833333333333332,6.8536585365853657,7.918181818181818,7.422535211267606]

{"sheet":"PDDC","index":61,"n_rows":31,"n_cols":8,"rows_kept":31,"cut":false,"hidden":false,"merged":[[3,0,3,1],[3,6,3,7],[3,3,3,4]]}
["INDICE"]
["*Para ser considerado PROF DEF DEDICACIÓN COMPLETA, al inicio del trimestre debe estar ya contratado o terminar en las primeras dos semanas del trimestre el cargo de Jefe de Departamento, Rector, Director o Secretarío o el Sabático"]
[]
["PROF DEFS DEDICACIÓN COMPLETA* 15I",null,null,"PROF DEFS DEDICACIÓN COMPLETA* 15P",null,null,"PROF DEFS DEDICACIÓN COMPLETA* 15O"]
["CBI","BERISTAIN CARDOSO, RICARDO",null,"CBI","BERISTAIN CARDOSO, RICARDO",null,"CBI","BUSSY , ANNE LAURE SABINE"]
["CBI","BUSSY , ANNE LAURE SABINE",null,"CBI","BUSSY , ANNE LAURE SABINE",null,"CBI","DOMINGUEZ MARIANI, ELOISA"]
["CBI","LAGUNA SANCHEZ, GERARDO ABEL",null,"CBI","DOMINGUEZ MARIANI, ELOISA",null,"CBI","HERNANDEZ ZAPATA, ERNESTO"]
["CBI","PUERTA HUERTA, JOSE PEDRO ANTONIO",null,"CBI","JARDON VALADEZ, HECTOR EDUARDO",null,"CBI","JARDON VALADEZ, HECTOR EDUARDO"]
["CBS","ALAVEZ ESPIDIO, SILVESTRE DE JESUS",null,"CBI","LAGUNA SANCHEZ, GERARDO ABEL",null,"CBI","LAGUNA SANCHEZ, GERARDO ABEL"]
["CBS","CASTILLO GUAJARDO, DERIK",null,"CBI","PUERTA HUERTA, JOSE PEDRO ANTONIO",null,"CBI","PUERTA HUERTA, JOSE PEDRO ANTONIO"]
["CBS","CHAVEZ TOVAR, JOSE CUAUHTEMOC",null,"CBI","REYES GUTIERREZ, LAZARO RAYMUNDO",null,"CBI","REYES GUTIERREZ, LAZARO RAYMUNDO"]
["CBS","GARCIA ARELLANO, HUMBERTO",null,"CBI","REYES MERCADO, YURI",null,"CBI","REYES MERCADO, YURI"]
["CBS","JIMENEZ GUZMAN, JUDITH",null,"CBI","SANDOVAL GUTIERREZ, JACOBO",null,"CBI","SANDOVAL GUTIERREZ, JACOBO"]
["CBS","LOPEZ PEREZ, MARCOS",null,"CBS","ALAVEZ ESPIDIO, SILVESTRE DE JESUS",null,"CBS","CASTILLO GUAJARDO, DERIK"]
["CBS","PELZ SERRANO, KARLA",null,"CBS","CASTILLO GUAJARDO, DERIK",null,"CBS","FLORES PEDROCHE, JOSE FRANCISCO"]
["CSH","AGUILAR ASTORGA, CARLOS RICARDO",null,"CBS","CHAVEZ TOVAR, JOSE CUAUHTEMOC",null,"CBS","GARCIA ARELLANO, HUMBERTO"]
["CSH","BLASQUEZ MARTINEZ, LIDIA IVONNE",null,"CBS","FLORES PEDROCHE, JOSE FRANCISCO",null,"CBS","GUZMAN RAMOS, KIOKO RUBI"]
["CSH","CHAVEZ BECKER, CARLOS GABRIEL",null,"CBS","GARCIA ARELLANO, HUMBERTO",null,"CBS","JIMENEZ GUZMAN, JUDITH"]
["CSH","FIGUEROA ROMERO, RAUL",null,"CBS","JIMENEZ GUZMAN, JUDITH",null,"CBS","LIST SANCHEZ, RURIK HERMANN"]
["CSH","LARA CABALLERO, MANUEL",null,"CBS","LIST SANCHEZ, RURIK HERMANN",null,"CBS","LOPEZ PEREZ, MARCOS"]
["CSH","MARTINEZ TIBURCIO, MARIA GABRIELA",null,"CBS","LOPEZ PEREZ, MARCOS",null,"CBS","PACHECO LOPEZ, GUSTAVO"]
["CSH","SOSA JUARICO, MONICA ADRIANA",null,"CBS","PELZ SERRANO, KARLA",null,"CBS","PELZ SERRANO, KARLA"]
[null,null,null,"CSH","AGUILAR ASTORGA, CARLOS RICARDO",null,"CSH","AGUILAR ASTORGA, CARLOS RICARDO"]
[null,null,null,"CSH","BLASQUEZ MARTINEZ, LIDIA IVONNE",null,"CSH","BENITEZ DAVILA, MONICA FRANCISCA"]
[null,null,null,"CSH","CHAVEZ BECKER, CARLOS GABRIEL",null,"CSH","BLASQUEZ MARTINEZ, LIDIA IVONNE"]
[null,null,null,"CSH","FIGUEROA ROMERO, RAUL",null,"CSH","CHAVEZ BECKER, CARLOS GABRIEL"]
[null,null,null,"CSH","LARA CABALLERO, MANUEL",null,"CSH","FIGUEROA ROMERO, RAUL"]
[null,null,null,"CSH","MARTINEZ GONZALEZ, NATAL ALEJANDRO",null,"CSH","MARTINEZ GONZALEZ, NATAL ALEJANDRO"]
[null,null,null,"CSH","MARTINEZ TIBURCIO, MARIA GABRIELA",null,"CSH","MARTINEZ TIBURCIO, MARIA GABRIELA"]
[null,null,null,"CSH","SOSA JUARICO, MONICA ADRIANA",null,"CSH","ROZGA LUTER, RYSZARD EDWARD"]
[null,null,null,null,null,null,"CSH","SOSA JUARICO, MONICA ADRIANA"]

{"sheet":"Grupos 2015","index":62,"n_rows":332,"n_cols":12,"rows_kept":332,"cut":false,"hidden":false,"merged":[[1,0,1,11]]}
["INDICE"]
["GRUPOS IMPARTIDOS EN EL AÑO 2015 \n*Para ser considerado DEF DEDICACIÓN COMPLETA (DDC), al inicio del trimestre debe estar ya contratado o terminar en las primeras dos semanas del trimestre el cargo de Jefe de Departamento, Rector, Director o Secretarío o el Sabático\n**Sin \"Análisis de las Problemáticas Complejas I y II y Considerando el valor promedio por grupo para las HFG"]
["key","DIV","TRIM","CONTR","DDC*","NOEC","PROFESOR(A)","UEA","TIPO","UEA-GRUPO","INSCRITOS(AS)","HFG**\npromedio"]
[119,"CBI","15-O","TEMP",null,31356,"ARROYO GOMEZ MARICELA","ESTRUCTURA Y PROPIEDADES DE LA MATERIA","OBL","5110000-IA01RH",28,5]
[238,"CBI","15-P","TEMP",null,31356,"ARROYO GOMEZ MARICELA","ESTRUCTURA Y PROPIEDADES DE LA MATERIA","OBL","5110000-IA01RH",23,6.7]
[96,"CBI","15-O","DEF","X",25486,"BUSSY  ANNE LAURE SABINE","ESTRUCTURA Y PROPIEDADES DE LA MATERIA","OBL","5110000-IA01RH",28,5]
[222,"CBI","15-P","DEF","X",35716,"DOMINGUEZ MARIANI ELOISA","ESTRUCTURA Y PROPIEDADES DE LA MATERIA","OBL","5110000-IA01RH",23,6.7]
[100,"CBI","15-O","DEF","X",35091,"JARDON VALADEZ HECTOR EDUARDO","ESTRUCTURA Y PROPIEDADES DE LA MATERIA","OBL","5110000-IA01RH",28,5]
[252,"CBI","15-P","TEMP",null,14842,"SORDO ZABAY EMILIO","ESTRUCTURA Y PROPIEDADES DE LA MATERIA","OBL","5110000-IA01RH",23,6.7]
[137,"CBI","15-O","TEMP",null,38563,"TORRES CORTES LUISEL JONATAN","ESTRUCTURA Y PROPIEDADES DE LA MATERIA","OBL","5110000-IA01RH",28,5]
[3,"CBI","15-I","JD",null,36019,"HERNANDEZ ZAPATA ERNESTO","FUERZA, ENERGÍA Y MOVIMIENTO","OBL","5110001-IB01RH",15,5]
[99,"CBI","15-O","JD","X",36019,"HERNANDEZ ZAPATA ERNESTO","FUERZA, ENERGÍA Y MOVIMIENTO","OBL","5110001-IB01RH",13,6.7]
[122,"CBI","15-O","TEMP",null,23524,"LOPEZ MALDONADO GUILLERMO","FUERZA, ENERGÍA Y MOVIMIENTO","OBL","5110001-IB01RH",13,6.7]
[240,"CBI","15-P","TEMP",null,23524,"LOPEZ MALDONADO GUILLERMO","FUERZA, ENERGÍA Y MOVIMIENTO","OBL","5110001-IB01RH",18,6.7]
[244,"CBI","15-P","TEMP",null,162,"PEREZ RICARDEZ ALEJANDRO RAYMUNDO","FUERZA, ENERGÍA Y MOVIMIENTO","OBL","5110001-IB01RH",18,6.7]
[22,"CBI","15-I","TEMP",null,28181,"SALAZAR LAURELES JOSE LUIS","FUERZA, ENERGÍA Y MOVIMIENTO","OBL","5110001-IB01RH",15,5]
[131,"CBI","15-O","TEMP",null,28181,"SALAZAR LAURELES JOSE LUIS","FUERZA, ENERGÍA Y MOVIMIENTO","OBL","5110001-IB01RH",13,6.7]
[245,"CBI","15-P","TEMP",null,28181,"SALAZAR LAURELES JOSE LUIS","FUERZA, ENERGÍA Y MOVIMIENTO","OBL","5110001-IB01RH",18,6.7]
[25,"CBI","15-I","TEMP",null,37350,"SILVA LUNA CARLOS DAVID","FUERZA, ENERGÍA Y MOVIMIENTO","OBL","5110001-IB01RH",15,5]
[11,"CBI","15-I","JD",null,36946,"VON BULOW  PHILIPP","FUERZA, ENERGÍA Y MOVIMIENTO","OBL","5110001-IB01RH",15,5]
[13,"CBI","15-I","TEMP",null,31356,"ARROYO GOMEZ MARICELA","FUERZA, ENERGÍA Y MOVIMIENTO","OBL","5110001-IB02RH",16,6.7]
[15,"CBI","15-I","TEMP",null,37545,"GARCIA FONTES ADOLFO","FUERZA, ENERGÍA Y MOVIMIENTO","OBL","5110001-IB02RH",16,6.7]
[6,"CBI","15-I","SA",null,31092,"LOPEZ GALVAN EDGAR","FUERZA, ENERGÍA Y MOVIMIENTO","OBL","5110001-IB02RH",16,6.7]
[105,"CBI","15-O","SA",null,31092,"LOPEZ GALVAN EDGAR","ANÁLISIS TERMODINÁMICO","OBL","5110002-IC01RH",22,5]
[19,"CBI","15-I","TEMP",null,23524,"LOPEZ MALDONADO GUILLERMO","ANÁLISIS TERMODINÁMICO","OBL","5110002-IC01RH",8,6.7]
[123,"CBI","15-O","TEMP",null,23524,"LOPEZ MALDONADO GUILLERMO","ANÁLISIS TERMODINÁMICO","OBL","5110002-IC01RH",22,5]
[21,"CBI","15-I","TEMP",null,36702,"PEREZ MARTINEZ FRANCISCO","ANÁLISIS TERMODINÁMICO","OBL","5110002-IC01RH",8,6.7]
[243,"CBI","15-P","TEMP",null,36702,"PEREZ MARTINEZ FRANCISCO","ANÁLISIS TERMODINÁMICO","OBL","5110002-IC01RH",9,5]
[9,"CBI","15-I","DEF",null,37866,"REYES MERCADO YURI","ANÁLISIS TERMODINÁMICO","OBL","5110002-IC01RH",8,6.7]
[234,"CBI","15-P","DEF","X",37866,"REYES MERCADO YURI","ANÁLISIS TERMODINÁMICO","OBL","5110002-IC01RH",9,5]
[248,"CBI","15-P","TEMP",null,38977,"SANTA FE DUEÑAS ADOLFO","ANÁLISIS TERMODINÁMICO","OBL","5110002-IC01RH",9,5]
[135,"CBI","15-O","TEMP",null,37350,"SILVA LUNA CARLOS DAVID","ANÁLISIS TERMODINÁMICO","OBL","5110002-IC01RH",22,5]
[251,"CBI","15-P","TEMP",null,37350,"SILVA LUNA CARLOS DAVID","ANÁLISIS TERMODINÁMICO","OBL","5110002-IC01RH",9,5]
[136,"CBI","15-O","TEMP",null,38563,"TORRES CORTES LUISEL JONATAN","ANÁLISIS TERMODINÁMICO","OBL","5110002-IC01RH",22,5]
[120,"CBI","15-O","TEMP",null,31356,"ARROYO GOMEZ MARICELA","SISTEMAS BIOLÓGICOS","OBL","5110003-ID01RH",3,21]
[219,"CBI","15-P","CO","X",25486,"BUSSY  ANNE LAURE SABINE","SISTEMAS BIOLÓGICOS","OBL","5110003-ID01RH",7,3]
[224,"CBI","15-P","JD",null,36019,"HERNANDEZ ZAPATA ERNESTO","SISTEMAS BIOLÓGICOS","OBL","5110003-ID01RH",7,3]
[227,"CBI","15-P","DEF","X",35091,"JARDON VALADEZ HECTOR EDUARDO","SISTEMAS BIOLÓGICOS","OBL","5110003-ID01RH",7,3]
[274,"CBS","15-P","TEMP",null,36060,"ABARCA GARCIA CESAR ANTONIO","SISTEMAS BIOLÓGICOS","OBL","5110003-ID01RH",7,3]
[282,"CBS","15-P","TEMP",null,16064,"GARCIA GARIBAY JOSE MARIANO","SISTEMAS BIOLÓGICOS","OBL","5110003-ID01RH",7,3]
[268,"CBS","15-P","DEF","X",36002,"LOPEZ PEREZ MARCOS","SISTEMAS BIOLÓGICOS","OBL","5110003-ID01RH",7,3]
[293,"CSH","15-P","DEF","X",35988,"BLASQUEZ MARTINEZ LIDIA IVONNE","SISTEMAS BIOLÓGICOS","OBL","5110003-ID01RH",7,3]
[1,"CBI","15-I","DEF","X",32841,"BERISTAIN CARDOSO RICARDO","TRANSPORTE Y CALIDAD DEL AGUA","OBL","5110004-IF01RH",4,5.3]
[216,"CBI","15-P","DEF","X",32841,"BERISTAIN CARDOSO RICARDO","TRANSPORTE Y CALIDAD DEL AGUA","OBL","5110004-IF01RH",12,4]
[220,"CBI","15-P","CO","X",25486,"BUSSY  ANNE LAURE SABINE","TRANSPORTE Y CALIDAD DEL AGUA","OBL","5110004-IF01RH",12,4]
[18,"CBI","15-I","TEMP",null,23524,"LOPEZ MALDONADO GUILLERMO","TRANSPORTE Y CALIDAD DEL AGUA","OBL","5110004-IF01RH",4,5.3]
[242,"CBI","15-P","TEMP",null,39425,"MENDOZA RESENDIZ ALEJANDRO","TRANSPORTE Y CALIDAD DEL AGUA","OBL","5110004-IF01RH",12,4]
[246,"CBI","15-P","TEMP",null,28181,"SALAZAR LAURELES JOSE LUIS","TRANSPORTE Y CALIDAD DEL AGUA","OBL","5110004-IF01RH",12,4]
[24,"CBI","15-I","TEMP",null,37350,"SILVA LUNA CARLOS DAVID","TRANSPORTE Y CALIDAD DEL AGUA","OBL","5110004-IF01RH",4,5.3]
[95,"CBI","15-O","DEF",null,32841,"BERISTAIN CARDOSO RICARDO","SISTEMAS DE TRATAMIENTO DE AGUA","OBL","5110005-IG01RH",12,5]
[217,"CBI","15-P","DEF","X",32841,"BERISTAIN CARDOSO RICARDO","SISTEMAS DE TRATAMIENTO DE AGUA","OBL","5110005-IG01RH",4,5]
[111,"CBI","15-O","DEF","X",37866,"REYES MERCADO YURI","SISTEMAS DE TRATAMIENTO DE AGUA","OBL","5110005-IG01RH",12,5]
[114,"CBI","15-O","CO","X",35470,"SANDOVAL GUTIERREZ JACOBO","SISTEMAS DE TRATAMIENTO DE AGUA","OBL","5110005-IG01RH",12,5]
[235,"CBI","15-P","DEF","X",35470,"SANDOVAL GUTIERREZ JACOBO","SISTEMAS DE TRATAMIENTO DE AGUA","OBL","5110005-IG01RH",4,5]
[249,"CBI","15-P","TEMP",null,38977,"SANTA FE DUEÑAS ADOLFO","SISTEMAS DE TRATAMIENTO DE AGUA","OBL","5110005-IG01RH",4,5]
[134,"CBI","15-O","TEMP",null,37350,"SILVA LUNA CARLOS DAVID","SISTEMAS DE TRATAMIENTO DE AGUA","OBL","5110005-IG01RH",12,5]
[250,"CBI","15-P","TEMP",null,37350,"SILVA LUNA CARLOS DAVID","SISTEMAS DE TRATAMIENTO DE AGUA","OBL","5110005-IG01RH",4,5]
[97,"CBI","15-O","DEF","X",35716,"DOMINGUEZ MARIANI ELOISA","MOVIMIENTO DE CUERPOS DE AGUA","OBL","5110006-IH01RH",5,6.7]
[17,"CBI","15-I","TEMP",null,14436,"GUAYCOCHEA GUGLIELMI DARIO EDUARDO","MOVIMIENTO DE CUERPOS DE AGUA","OBL","5110006-IH01RH",8,6.7]
[125,"CBI","15-O","TEMP",null,39425,"MENDOZA RESENDIZ ALEJANDRO","MOVIMIENTO DE CUERPOS DE AGUA","OBL","5110006-IH01RH",5,6.7]
[8,"CBI","15-I","DEF",null,37016,"REYES GUTIERREZ LAZARO RAYMUNDO","MOVIMIENTO DE CUERPOS DE AGUA","OBL","5110006-IH01RH",8,6.7]
[108,"CBI","15-O","DEF","X",37016,"REYES GUTIERREZ LAZARO RAYMUNDO","MOVIMIENTO DE CUERPOS DE AGUA","OBL","5110006-IH01RH",5,6.7]
[10,"CBI","15-I","DIR",null,21359,"SOTO CORTÉS GABRIEL","MOVIMIENTO DE CUERPOS DE AGUA","OBL","5110006-IH01RH",8,6.7]
[228,"CBI","15-P","DEF","X",34371,"LAGUNA SANCHEZ GERARDO ABEL","FORMULACIÓN Y EVALUACIÓN DE PROYECTOS DE INGENIERÍA","OBL","5110007-II01RH",9,16]
[98,"CBI","15-O","DEF","X",35716,"DOMINGUEZ MARIANI ELOISA","POLITICA Y GESTION INTEGRAL DEL AGUA","OBL","5110008-IJ01RH",8,5]
[109,"CBI","15-O","DEF","X",37016,"REYES GUTIERREZ LAZARO RAYMUNDO","POLITICA Y GESTION INTEGRAL DEL AGUA","OBL","5110008-IJ01RH",8,5]
[182,"CSH","15-O","DEF","X",35988,"BLASQUEZ MARTINEZ LIDIA IVONNE","POLITICA Y GESTION INTEGRAL DEL AGUA","OBL","5110008-IJ01RH",8,5]
[179,"CSH","15-O","DEF","X",36171,"BENITEZ DAVILA MONICA FRANCISCA","HISTORIA, SUJETOS Y SABERES","OBL","5210000-SA01AC",17,6.7]
[208,"CSH","15-O","TEMP",null,38809,"HERNANDEZ RAZO OSCAR ENRIQUE","HISTORIA, SUJETOS Y SABERES","OBL","5210000-SA01AC",17,6.7]
[200,"CSH","15-O","JD",null,38161,"SANCHEZ CARDONA LUZ MARIA","HISTORIA, SUJETOS Y SABERES","OBL","5210000-SA01AC",17,6.7]
[178,"CSH","15-O","DEF","X",37911,"AGUILAR ASTORGA CARLOS RICARDO","HISTORIA, SUJETOS Y SABERES","OBL","5210000-SA01PP",38,6.7]
[181,"CSH","15-O","DEF","X",35988,"BLASQUEZ MARTINEZ LIDIA IVONNE","HISTORIA, SUJETOS Y SABERES","OBL","5210000-SA01PP",38,6.7]
[186,"CSH","15-O","DEF","X",32206,"FIGUEROA ROMERO RAUL","HISTORIA, SUJETOS Y SABERES","OBL","5210000-SA01PP",38,6.7]
[66,"CSH","15-I","DEF","X",37911,"AGUILAR ASTORGA CARLOS RICARDO","FUNDAMENTOS DEL ESTADO MODERNO","OBL","5210001-SB01PP",22,7]
[70,"CSH","15-I","DEF","X",38204,"CHAVEZ BECKER CARLOS GABRIEL","FUNDAMENTOS DEL ESTADO MODERNO","OBL","5210001-SB01PP",22,7]
[72,"CSH","15-I","DEF","X",32206,"FIGUEROA ROMERO RAUL","FUNDAMENTOS DEL ESTADO MODERNO","OBL","5210001-SB01PP",22,7]
[296,"CSH","15-P","DEF","X",38204,"CHAVEZ BECKER CARLOS GABRIEL","ESTADO Y SOCIEDAD EN MEXICO","OBL","5210002-SC01PP",19,7]
[312,"CSH","15-P","TEMP",null,37608,"DIAZ JIMENEZ ONIEL FRANCISCO","ESTADO Y SOCIEDAD EN MEXICO","OBL","5210002-SC01PP",19,7]
[298,"CSH","15-P","DEF","X",32206,"FIGUEROA ROMERO RAUL","ESTADO Y SOCIEDAD EN MEXICO","OBL","5210002-SC01PP",19,7]
[130,"CBI","15-O","TEMP",null,162,"PEREZ RICARDEZ ALEJANDRO RAYMUNDO","GESTION E INSTITUCIONES","OBL","5210003-SD01PP",17,5]
[187,"CSH","15-O","DEF","X",32206,"FIGUEROA ROMERO RAUL","GESTION E INSTITUCIONES","OBL","5210003-SD01PP",17,5]
[192,"CSH","15-O","DEF",null,29839,"HERNANDEZ MAR RAUL","GESTION E INSTITUCIONES","OBL","5210003-SD01PP",17,5]
[193,"CSH","15-O","JD",null,36935,"LARA CABALLERO MANUEL","GESTION E INSTITUCIONES","OBL","5210003-SD01PP",17,5]
[291,"CSH","15-P","DEF","X",37911,"AGUILAR ASTORGA CARLOS RICARDO","GOBIERNO Y POLITICAS PUBLICAS","OBL","5210004-SF01PP",19,6.7]
[84,"CSH","15-I","TEMP",null,37608,"DIAZ JIMENEZ ONIEL FRANCISCO","GOBIERNO Y POLITICAS PUBLICAS","OBL","5210004-SF01PP",14,6.7]
[303,"CSH","15-P","DEF","X",37044,"MARTINEZ TIBURCIO MARIA GABRIELA","GOBIERNO Y POLITICAS PUBLICAS","OBL","5210004-SF01PP",19,6.7]
[88,"CSH","15-I","TEMP",null,38502,"PERERA RAMOS RODRIGO","GOBIERNO Y POLITICAS PUBLICAS","OBL","5210004-SF01PP",14,6.7]
[91,"CSH","15-I","TEMP",null,38165,"ROJAS NAVARRETE DANIEL","GOBIERNO Y POLITICAS PUBLICAS","OBL","5210004-SF01PP",14,6.7]
[322,"CSH","15-P","TEMP",null,38165,"ROJAS NAVARRETE DANIEL","GOBIERNO Y POLITICAS PUBLICAS","OBL","5210004-SF01PP",19,6.7]
[176,"CSH","15-O","DEF","X",37911,"AGUILAR ASTORGA CARLOS RICARDO","ADMINISTRACION Y POLITICAS PUBLICAS","OBL","5210005-SG01PP",20,7]
[318,"CSH","15-P","TEMP",null,38502,"PERERA RAMOS RODRIGO","ADMINISTRACION Y POLITICAS PUBLICAS","OBL","5210005-SG01PP",21,7]
[319,"CSH","15-P","TEMP",null,38502,"PERERA RAMOS RODRIGO","ADMINISTRACION Y POLITICAS PUBLICAS","OBL","5210005-SG01PP",21,7]
[201,"CSH","15-O","DEF","X",39289,"SOSA JUARICO MONICA ADRIANA","ADMINISTRACION Y POLITICAS PUBLICAS","OBL","5210005-SG01PP",20,7]
[309,"CSH","15-P","DEF","X",39289,"SOSA JUARICO MONICA ADRIANA","ADMINISTRACION Y POLITICAS PUBLICAS","OBL","5210005-SG01PP",21,7]
[214,"CSH","15-O","TEMP",null,17734,"VAZQUEZ HERNANDEZ GERARDO","ADMINISTRACION Y POLITICAS PUBLICAS","OBL","5210005-SG01PP",20,7]
[67,"CSH","15-I","DEF","X",37911,"AGUILAR ASTORGA CARLOS RICARDO","INSTRUMENTACIÓN DE  LAS POLÍTICAS PÚBLICAS","OBL","5210006-SH01PP",19,5.3]
[177,"CSH","15-O","DEF","X",37911,"AGUILAR ASTORGA CARLOS RICARDO","INSTRUMENTACIÓN DE  LAS POLÍTICAS PÚBLICAS","OBL","5210006-SH01PP",18,5.3]
[205,"CSH","15-O","TEMP",null,20178,"DAVILA JAIME MARIBEL","INSTRUMENTACIÓN DE  LAS POLÍTICAS PÚBLICAS","OBL","5210006-SH01PP",18,5.3]
[75,"CSH","15-I","DEF",null,29839,"HERNANDEZ MAR RAUL","INSTRUMENTACIÓN DE  LAS POLÍTICAS PÚBLICAS","OBL","5210006-SH01PP",19,5.3]
[191,"CSH","15-O","DEF",null,29839,"HERNANDEZ MAR RAUL","INSTRUMENTACIÓN DE  LAS POLÍTICAS PÚBLICAS","OBL","5210006-SH01PP",18,5.3]
[76,"CSH","15-I","DEF","X",36935,"LARA CABALLERO MANUEL","INSTRUMENTACIÓN DE  LAS POLÍTICAS PÚBLICAS","OBL","5210006-SH01PP",19,5.3]
[77,"CSH","15-I","DEF","X",37044,"MARTINEZ TIBURCIO MARIA GABRIELA","INSTRUMENTACIÓN DE  LAS POLÍTICAS PÚBLICAS","OBL","5210006-SH01PP",19,5.3]
[195,"CSH","15-O","DEF","X",37044,"MARTINEZ TIBURCIO MARIA GABRIELA","INSTRUMENTACIÓN DE  LAS POLÍTICAS PÚBLICAS","OBL","5210006-SH01PP",18,5.3]
[299,"CSH","15-P","DEF","X",32206,"FIGUEROA ROMERO RAUL","POLÍTICAS PÚBLICAS Y SISTEMA INTERNACIONAL","OBL","5210007-SI01PP",19,6.7]
[302,"CSH","15-P","DEF","X",36935,"LARA CABALLERO MANUEL","POLÍTICAS PÚBLICAS Y SISTEMA INTERNACIONAL","OBL","5210007-SI01PP",19,6.7]
[324,"CSH","15-P","TEMP",null,17734,"VAZQUEZ HERNANDEZ GERARDO","POLÍTICAS PÚBLICAS Y SISTEMA INTERNACIONAL","OBL","5210007-SI01PP",19,6.7]
[184,"CSH","15-O","DEF","X",38204,"CHAVEZ BECKER CARLOS GABRIEL","TEMAS SELECTOS","OBL","5210008-SJ01PP",17,6.7]
[194,"CSH","15-O","DEF","X",36007,"MARTINEZ GONZALEZ NATAL ALEJANDRO","TEMAS SELECTOS","OBL","5210008-SJ01PP",17,6.7]
[198,"CSH","15-O","DEF","X",27455,"ROZGA LUTER RYSZARD EDWARD","TEMAS SELECTOS","OBL","5210008-SJ01PP",17,6.7]
[83,"CSH","15-I","TEMP",null,37867,"ARGUELLO MANRESA GEMMA DEL CARMEN","ORIGENES Y RUPTURAS DEL ARTE CONTEMPORÁNEO","OBL","5211001-SB01AC",17,6.7]
[81,"CSH","15-I","DEF",null,38161,"SANCHEZ CARDONA LUZ MARIA","ORIGENES Y RUPTURAS DEL ARTE CONTEMPORÁNEO","OBL","5211001-SB01AC",17,6.7]
[94,"CSH","15-I","TEMP",null,38199,"ZALDIVAR HERRERA JULIO ERNESTO","ORIGENES Y RUPTURAS DEL ARTE CONTEMPORÁNEO","OBL","5211001-SB01AC",17,6.7]
[305,"CSH","15-P","TEMP",null,38518,"ROCHA ITURBIDE MANUEL","INTRODUCCION AL ARTE DIGITAL","OBL","5211002-SC01AC",16,6.7]
[308,"CSH","15-P","DEF",null,36929,"SASTRE DOMÍNGUEZ MARÍA PAZ","INTRODUCCION AL ARTE DIGITAL","OBL","5211002-SC01AC",16,6.7]
[325,"CSH","15-P","TEMP",null,38199,"ZALDIVAR HERRERA JULIO ERNESTO","INTRODUCCION AL ARTE DIGITAL","OBL","5211002-SC01AC",16,6.7]
[211,"CSH","15-O","TEMP",null,38897,"RIBOULET  CELIA","ESTETICA Y PRACTICAS DEL ARTE DIGITAL CONTEMPORANEO","OBL","5211003-SD01AC",15,10]
[213,"CSH","15-O","TEMP",null,39359,"TISSELLI VELEZ EUGENIO","ESTETICA Y PRACTICAS DEL ARTE DIGITAL CONTEMPORANEO","OBL","5211003-SD01AC",15,10]
[311,"CSH","15-P","TEMP",null,37867,"ARGUELLO MANRESA GEMMA DEL CARMEN","COMUNICACION CREATIVA EN CULTURA DIGITAL","OBL","5211004-SF01AC",11,6.7]
[321,"CSH","15-P","TEMP",null,38897,"RIBOULET  CELIA","COMUNICACION CREATIVA EN CULTURA DIGITAL","OBL","5211004-SF01AC",11,6.7]
[323,"CSH","15-P","TEMP",null,39359,"TISSELLI VELEZ EUGENIO","COMUNICACION CREATIVA EN CULTURA DIGITAL","OBL","5211004-SF01AC",11,6.7]
[204,"CSH","15-O","TEMP",null,37867,"ARGUELLO MANRESA GEMMA DEL CARMEN","ARTE INTERACTIVO","OBL","5211005-SG01AC",11,7]
[197,"CSH","15-O","TEMP",null,38518,"ROCHA ITURBIDE MANUEL","ARTE INTERACTIVO","OBL","5211005-SG01AC",11,7]
[215,"CSH","15-O","TEMP",null,38199,"ZALDIVAR HERRERA JULIO ERNESTO","ARTE INTERACTIVO","OBL","5211005-SG01AC",11,7]
[101,"CBI","15-O","DEF","X",35091,"JARDON VALADEZ HECTOR EDUARDO","BASES FUNDAMENTALES DE LA VIDA","OBL","5310000-BA01BA",32,5]
[225,"CBI","15-P","DEF","X",35091,"JARDON VALADEZ HECTOR EDUARDO","BASES FUNDAMENTALES DE LA VIDA","OBL","5310000-BA01BA",25,5]
[158,"CBS","15-O","TEMP",null,30408,"DEL MORAL RAMIREZ ELIZABETH","BASES FUNDAMENTALES DE LA VIDA","OBL","5310000-BA01BA",32,5]
[276,"CBS","15-P","TEMP",null,30408,"DEL MORAL RAMIREZ ELIZABETH","BASES FUNDAMENTALES DE LA VIDA","OBL","5310000-BA01BA",25,5]
[160,"CBS","15-O","TEMP",null,39145,"DIAZ RAMIREZ MAYRA","BASES FUNDAMENTALES DE LA VIDA","OBL","5310000-BA01BA",32,5]
[278,"CBS","15-P","TEMP",null,39145,"DIAZ RAMIREZ MAYRA","BASES FUNDAMENTALES DE LA VIDA","OBL","5310000-BA01BA",25,5]
[169,"CBS","15-O","TEMP",null,37901,"RAYAS AMOR ADOLFO ARMANDO","BASES FUNDAMENTALES DE LA VIDA","OBL","5310000-BA01BA",32,5]
[287,"CBS","15-P","TEMP",null,37901,"RAYAS AMOR ADOLFO ARMANDO","BASES FUNDAMENTALES DE LA VIDA","OBL","5310000-BA01BA",25,5]
[102,"CBI","15-O","DEF","X",35091,"JARDON VALADEZ HECTOR EDUARDO","BASES FUNDAMENTALES DE LA VIDA","OBL","5310000-BA02BA",27,5]
[226,"CBI","15-P","DEF","X",35091,"JARDON VALADEZ HECTOR EDUARDO","BASES FUNDAMENTALES DE LA VIDA","OBL","5310000-BA02BA",22,5]
[277,"CBS","15-P","TEMP",null,30408,"DEL MORAL RAMIREZ ELIZABETH","BASES FUNDAMENTALES DE LA VIDA","OBL","5310000-BA02BA",22,5]
[159,"CBS","15-O","TEMP",null,39145,"DIAZ RAMIREZ MAYRA","BASES FUNDAMENTALES DE LA VIDA","OBL","5310000-BA02BA",27,5]
[279,"CBS","15-P","TEMP",null,39145,"DIAZ RAMIREZ MAYRA","BASES FUNDAMENTALES DE LA VIDA","OBL","5310000-BA02BA",22,5]
[143,"CBS","15-O","DEF","X",39547,"GUZMAN RAMOS KIOKO RUBI","BASES FUNDAMENTALES DE LA VIDA","OBL","5310000-BA02BA",27,5]
[168,"CBS","15-O","TEMP",null,37901,"RAYAS AMOR ADOLFO ARMANDO","BASES FUNDAMENTALES DE LA VIDA","OBL","5310000-BA02BA",27,5]
[286,"CBS","15-P","TEMP",null,37901,"RAYAS AMOR ADOLFO ARMANDO","BASES FUNDAMENTALES DE LA VIDA","OBL","5310000-BA02BA",22,5]
[29,"CBS","15-I","DEF","X",37884,"ALAVEZ ESPIDIO SILVESTRE DE JESUS","DE LAS MOLÉCULAS A LA CÉLULA","OBL","5310001-BB01BA",11,5.8]
[156,"CBS","15-O","TEMP",null,37023,"BASURTO ISLAS GUSTAVO","DE LAS MOLÉCULAS A LA CÉLULA","OBL","5310001-BB01BA",19,5.8]
[36,"CBS","15-I","DEF","X",35473,"GARCIA ARELLANO HUMBERTO","DE LAS MOLÉCULAS A LA CÉLULA","OBL","5310001-BB01BA",11,5.8]
[142,"CBS","15-O","DEF","X",35473,"GARCIA ARELLANO HUMBERTO","DE LAS MOLÉCULAS A LA CÉLULA","OBL","5310001-BB01BA",19,5.8]
[43,"CBS","15-I","DEF","X",36002,"LOPEZ PEREZ MARCOS","DE LAS MOLÉCULAS A LA CÉLULA","OBL","5310001-BB01BA",11,5.8]
[147,"CBS","15-O","DEF","X",36002,"LOPEZ PEREZ MARCOS","DE LAS MOLÉCULAS A LA CÉLULA","OBL","5310001-BB01BA",19,5.8]
[57,"CBS","15-I","TEMP",null,37902,"MONTIEL CASTRO AUGUSTO JACOBO","DE LAS MOLÉCULAS A LA CÉLULA","OBL","5310001-BB01BA",11,5.8]
[167,"CBS","15-O","TEMP",null,37902,"MONTIEL CASTRO AUGUSTO JACOBO","DE LAS MOLÉCULAS A LA CÉLULA","OBL","5310001-BB01BA",19,5.8]
[49,"CBS","15-I","TEMP",null,36060,"ABARCA GARCIA CESAR ANTONIO","GENÉTICA Y MORFOFISIOLOGÍA EVOLUTIVA","OBL","5310002-BC01BA",16,4.5999999999999996]
[52,"CBS","15-I","TEMP",null,37352,"CRUZ MONTERROSA ROSY GABRIELA","GENÉTICA Y MORFOFISIOLOGÍA EVOLUTIVA","OBL","5310002-BC01BA",16,4.5999999999999996]
[259,"CBS","15-P","DEF","X",11798,"FLORES PEDROCHE JOSE FRANCISCO","GENÉTICA Y MORFOFISIOLOGÍA EVOLUTIVA","OBL","5310002-BC01BA",13,5.8]
[55,"CBS","15-I","TEMP",null,16064,"GARCIA GARIBAY JOSE MARIANO","GENÉTICA Y MORFOFISIOLOGÍA EVOLUTIVA","OBL","5310002-BC01BA",16,4.5999999999999996]
[281,"CBS","15-P","TEMP",null,16064,"GARCIA GARIBAY JOSE MARIANO","GENÉTICA Y MORFOFISIOLOGÍA EVOLUTIVA","OBL","5310002-BC01BA",13,5.8]
[37,"CBS","15-I","DEF","X",22628,"JIMENEZ GUZMAN JUDITH","GENÉTICA Y MORFOFISIOLOGÍA EVOLUTIVA","OBL","5310002-BC01BA",16,4.5999999999999996]
[263,"CBS","15-P","DEF","X",22628,"JIMENEZ GUZMAN JUDITH","GENÉTICA Y MORFOFISIOLOGÍA EVOLUTIVA","OBL","5310002-BC01BA",13,5.8]
[41,"CBS","15-I","DEF","X",36002,"LOPEZ PEREZ MARCOS","GENÉTICA Y MORFOFISIOLOGÍA EVOLUTIVA","OBL","5310002-BC01BA",16,4.5999999999999996]
[269,"CBS","15-P","DEF","X",36002,"LOPEZ PEREZ MARCOS","GENÉTICA Y MORFOFISIOLOGÍA EVOLUTIVA","OBL","5310002-BC01BA",13,5.8]
[155,"CBS","15-O","TEMP",null,35722,"AGUIRRE GARRIDO JOSE FELIX","DIVERSIDAD BIOLOGICA","OBL","5310003-BD01BA",13,3.8]
[31,"CBS","15-I","DEF","X",35966,"CASTILLO GUAJARDO DERIK","DIVERSIDAD BIOLOGICA","OBL","5310003-BD01BA",8,5.8]
[35,"CBS","15-I","DEF","X",36059,"CHAVEZ TOVAR JOSE CUAUHTEMOC","DIVERSIDAD BIOLOGICA","OBL","5310003-BD01BA",8,5.8]
[140,"CBS","15-O","JD",null,36059,"CHAVEZ TOVAR JOSE CUAUHTEMOC","DIVERSIDAD BIOLOGICA","OBL","5310003-BD01BA",13,3.8]
[256,"CBS","15-P","DEF","X",36059,"CHAVEZ TOVAR JOSE CUAUHTEMOC","DIVERSIDAD BIOLOGICA","OBL","5310003-BD01BA",16,7.7]
[141,"CBS","15-O","DEF","X",11798,"FLORES PEDROCHE JOSE FRANCISCO","DIVERSIDAD BIOLOGICA","OBL","5310003-BD01BA",13,3.8]
[39,"CBS","15-I","JD",null,35805,"LIST SANCHEZ RURIK HERMANN","DIVERSIDAD BIOLOGICA","OBL","5310003-BD01BA",8,5.8]
[146,"CBS","15-O","DEF","X",35805,"LIST SANCHEZ RURIK HERMANN","DIVERSIDAD BIOLOGICA","OBL","5310003-BD01BA",13,3.8]
[265,"CBS","15-P","JD","X",35805,"LIST SANCHEZ RURIK HERMANN","DIVERSIDAD BIOLOGICA","OBL","5310003-BD01BA",16,7.7]
[46,"CBS","15-I","DEF","X",36941,"PELZ SERRANO KARLA","DIVERSIDAD BIOLOGICA","OBL","5310003-BD01BA",8,5.8]
[153,"CBS","15-O","DEF","X",36941,"PELZ SERRANO KARLA","DIVERSIDAD BIOLOGICA","OBL","5310003-BD01BA",13,3.8]
[272,"CBS","15-P","DEF","X",36941,"PELZ SERRANO KARLA","DIVERSIDAD BIOLOGICA","OBL","5310003-BD01BA",16,7.7]
[172,"CBS","15-O","TEMP",null,39395,"VILLAVICENCIO PULIDO JOSE GAISER","DIVERSIDAD BIOLOGICA","OBL","5310003-BD01BA",13,3.8]
[32,"CBS","15-I","DEF","X",35966,"CASTILLO GUAJARDO DERIK","DE LAS POBLACIONES A LOS ECOSISTEMAS","OBL","5310004-BF01BA",10,5.8]
[254,"CBS","15-P","DEF","X",35966,"CASTILLO GUAJARDO DERIK","DE LAS POBLACIONES A LOS ECOSISTEMAS","OBL","5310004-BF01BA",18,5.8]
[258,"CBS","15-P","DEF","X",36059,"CHAVEZ TOVAR JOSE CUAUHTEMOC","DE LAS POBLACIONES A LOS ECOSISTEMAS","OBL","5310004-BF01BA",18,5.8]
[42,"CBS","15-I","DEF","X",36002,"LOPEZ PEREZ MARCOS","DE LAS POBLACIONES A LOS ECOSISTEMAS","OBL","5310004-BF01BA",10,5.8]
[270,"CBS","15-P","DEF","X",36002,"LOPEZ PEREZ MARCOS","DE LAS POBLACIONES A LOS ECOSISTEMAS","OBL","5310004-BF01BA",18,5.8]
[58,"CBS","15-I","TEMP",null,36422,"OLIVER MORALES CELIA","DE LAS POBLACIONES A LOS ECOSISTEMAS","OBL","5310004-BF01BA",10,5.8]
[47,"CBS","15-I","DEF","X",36941,"PELZ SERRANO KARLA","DE LAS POBLACIONES A LOS ECOSISTEMAS","OBL","5310004-BF01BA",10,5.8]
[290,"CBS","15-P","TEMP",null,37900,"ZARZA VILLANUEVA HELIOT","DE LAS POBLACIONES A LOS ECOSISTEMAS","OBL","5310004-BF01BA",18,5.8]
[154,"CBS","15-O","TEMP",null,35722,"AGUIRRE GARRIDO JOSE FELIX","PROBLEMATICAS EN LOS SOCIO-ECOSISTEMAS","OBL","5310005-BG01BA",17,5.8]
[257,"CBS","15-P","DEF","X",36059,"CHAVEZ TOVAR JOSE CUAUHTEMOC","PROBLEMATICAS EN LOS SOCIO-ECOSISTEMAS","OBL","5310005-BG01BA",11,5.8]
[262,"CBS","15-P","DEF","X",35473,"GARCIA ARELLANO HUMBERTO","PROBLEMATICAS EN LOS SOCIO-ECOSISTEMAS","OBL","5310005-BG01BA",11,5.8]
[145,"CBS","15-O","DEF","X",35805,"LIST SANCHEZ RURIK HERMANN","PROBLEMATICAS EN LOS SOCIO-ECOSISTEMAS","OBL","5310005-BG01BA",17,5.8]
[267,"CBS","15-P","JD","X",35805,"LIST SANCHEZ RURIK HERMANN","PROBLEMATICAS EN LOS SOCIO-ECOSISTEMAS","OBL","5310005-BG01BA",11,5.8]
[152,"CBS","15-O","DEF","X",36941,"PELZ SERRANO KARLA","PROBLEMATICAS EN LOS SOCIO-ECOSISTEMAS","OBL","5310005-BG01BA",17,5.8]
[273,"CBS","15-P","DEF","X",36941,"PELZ SERRANO KARLA","PROBLEMATICAS EN LOS SOCIO-ECOSISTEMAS","OBL","5310005-BG01BA",11,5.8]
[171,"CBS","15-O","TEMP",null,39395,"VILLAVICENCIO PULIDO JOSE GAISER","PROBLEMATICAS EN LOS SOCIO-ECOSISTEMAS","OBL","5310005-BG01BA",17,5.8]
[157,"CBS","15-O","TEMP",null,35649,"CAMACHO GUADARRAMA SAMANTHA","INSTRUMENTOS PREVENTIVOS DE GESTIÓN","OBL","5310006-BH01BA",10,5.8]
[34,"CBS","15-I","DEF","X",36059,"CHAVEZ TOVAR JOSE CUAUHTEMOC","INSTRUMENTOS PREVENTIVOS DE GESTIÓN","OBL","5310006-BH01BA",14,5.8]
[162,"CBS","15-O","TEMP",null,35657,"FLORES HERNANDEZ NOE","INSTRUMENTOS PREVENTIVOS DE GESTIÓN","OBL","5310006-BH01BA",10,5.8]
[56,"CBS","15-I","TEMP",null,39237,"MANZANO FISCHER PATRICIA","INSTRUMENTOS PREVENTIVOS DE GESTIÓN","OBL","5310006-BH01BA",14,5.8]
[164,"CBS","15-O","TEMP",null,39237,"MANZANO FISCHER PATRICIA","INSTRUMENTOS PREVENTIVOS DE GESTIÓN","OBL","5310006-BH01BA",10,5.8]
[63,"CBS","15-I","TEMP",null,13743,"VIEYRA DURAN JORGE EDUARDO","INSTRUMENTOS PREVENTIVOS DE GESTIÓN","OBL","5310006-BH01BA",14,5.8]
[64,"CBS","15-I","TEMP",null,37900,"ZARZA VILLANUEVA HELIOT","INSTRUMENTOS PREVENTIVOS DE GESTIÓN","OBL","5310006-BH01BA",14,5.8]
[175,"CBS","15-O","TEMP",null,37900,"ZARZA VILLANUEVA HELIOT","INSTRUMENTOS PREVENTIVOS DE GESTIÓN","OBL","5310006-BH01BA",10,5.8]
[261,"CBS","15-P","DEF","X",35473,"GARCIA ARELLANO HUMBERTO","INSTRUMENTOS REMEDIALES DE GESTIÓN","OBL","5310007-BI01BA",17,5.8]
[266,"CBS","15-P","JD","X",35805,"LIST SANCHEZ RURIK HERMANN","INSTRUMENTOS REMEDIALES DE GESTIÓN","OBL","5310007-BI01BA",17,5.8]
[271,"CBS","15-P","DEF","X",36941,"PELZ SERRANO KARLA","INSTRUMENTOS REMEDIALES DE GESTIÓN","OBL","5310007-BI01BA",17,5.8]
[288,"CBS","15-P","TEMP",null,39395,"VILLAVICENCIO PULIDO JOSE GAISER","INSTRUMENTOS REMEDIALES DE GESTIÓN","OBL","5310007-BI01BA",17,5.8]
[139,"CBS","15-O","DEF","X",35966,"CASTILLO GUAJARDO DERIK","GESTION HACIA LA SUSTENTABILIDAD","OBL","5310008-BJ01BA",8,5.8]
[165,"CBS","15-O","TEMP",null,39237,"MANZANO FISCHER PATRICIA","GESTION HACIA LA SUSTENTABILIDAD","OBL","5310008-BJ01BA",8,5.8]
[174,"CBS","15-O","TEMP",null,37900,"ZARZA VILLANUEVA HELIOT","GESTION HACIA LA SUSTENTABILIDAD","OBL","5310008-BJ01BA",8,5.8]
[180,"CSH","15-O","DEF","X",35988,"BLASQUEZ MARTINEZ LIDIA IVONNE","GESTION HACIA LA SUSTENTABILIDAD","OBL","5310008-BJ01BA",8,5.8]
[4,"CBI","15-I","DEF","X",34371,"LAGUNA SANCHEZ GERARDO ABEL","COMPLEJIDAD E INTERDISCIPLINA","RUL","5010000-DEISB01",20,6.7]
[103,"CBI","15-O","DEF","X",34371,"LAGUNA SANCHEZ GERARDO ABEL","COMPLEJIDAD E INTERDISCIPLINA","RUL","5010000-DEISB01",24,20]
[231,"CBI","15-P","DEF","X",37016,"REYES GUTIERREZ LAZARO RAYMUNDO","COMPLEJIDAD E INTERDISCIPLINA","RUL","5010000-DEISB01",9,6.7]
[61,"CBS","15-I","TEMP",null,37017,"PATRICK ENCINA GERALDINE ANN","COMPLEJIDAD E INTERDISCIPLINA","RUL","5010000-DEISB01",20,6.7]
[284,"CBS","15-P","TEMP",null,37017,"PATRICK ENCINA GERALDINE ANN","COMPLEJIDAD E INTERDISCIPLINA","RUL","5010000-DEISB01",9,6.7]
[294,"CSH","15-P","DEF","X",35988,"BLASQUEZ MARTINEZ LIDIA IVONNE","COMPLEJIDAD E INTERDISCIPLINA","RUL","5010000-DEISB01",9,6.7]
[92,"CSH","15-I","TEMP",null,17734,"VAZQUEZ HERNANDEZ GERARDO","COMPLEJIDAD E INTERDISCIPLINA","RUL","5010000-DEISB01",20,6.7]
[27,"CBI","15-I","TEMP",null,38563,"TORRES CORTES LUISEL JONATAN","COMPLEJIDAD E INTERDISCIPLINA","RUL","5010000-DEISB02",21,6.7]
[59,"CBS","15-I","TEMP",null,36422,"OLIVER MORALES CELIA","COMPLEJIDAD E INTERDISCIPLINA","RUL","5010000-DEISB02",21,6.7]
[86,"CSH","15-I","TEMP",null,37822,"HERNANDEZ GUTIERREZ DANIEL","COMPLEJIDAD E INTERDISCIPLINA","RUL","5010000-DEISB02",21,6.7]
[23,"CBI","15-I","TEMP",null,38977,"SANTA FE DUEÑAS ADOLFO","COMPLEJIDAD E INTERDISCIPLINA","RUL","5010000-DEISB03",20,6.7]
[50,"CBS","15-I","TEMP",null,36060,"ABARCA GARCIA CESAR ANTONIO","COMPLEJIDAD E INTERDISCIPLINA","RUL","5010000-DEISB03",20,6.7]
[68,"CSH","15-I","DEF","X",35988,"BLASQUEZ MARTINEZ LIDIA IVONNE","COMPLEJIDAD E INTERDISCIPLINA","RUL","5010000-DEISB03",20,6.7]
[115,"CBI","15-O","CO","X",35470,"SANDOVAL GUTIERREZ JACOBO","INGENIERÍA DEL ENTRETENIMIENTO","TAL","CBIS05-A",6,1.5]
[236,"CBI","15-P","DEF","X",35470,"SANDOVAL GUTIERREZ JACOBO","INGENIERÍA DEL ENTRETENIMIENTO","TAL","CBIS05-A",25,1.5]
[237,"CBI","15-P","DEF","X",35470,"SANDOVAL GUTIERREZ JACOBO","INGENIERÍA DEL ENTRETENIMIENTO","TAL","CBIS05-B",23,1.5]
[116,"CBI","15-O","CO","X",35470,"SANDOVAL GUTIERREZ JACOBO","INTRODUCCIÓN A LA REALIDAD VIRTUAL Y AUMENTADA","TAL","CBIS06-A",1,1.5]
[128,"CBI","15-O","TEMP",null,36702,"PEREZ MARTINEZ FRANCISCO","MATEMÁTICAS","TAL","CBIS07-A",30,1.5]
[112,"CBI","15-O","DEF","X",37866,"REYES MERCADO YURI","QUÍMICA GENERAL","TAL","CBIS08-A",30,1.5]
[133,"CBI","15-O","TEMP",null,28181,"SALAZAR LAURELES JOSE LUIS","FÍSICA","TAL","CBIS09-A",30,1.5]
[107,"CBI","15-O","CO","X",18193,"PUERTA HUERTA JOSE PEDRO ANTONIO","GEOMETRÍA Y TRIGONOMETRÍA","TAL","CBIS10-A",30,1.5]
[223,"CBI","15-P","DEF","X",35716,"DOMINGUEZ MARIANI ELOISA","ELEMENTOS GEOLÓGICOS PARA LA CONSERVACIÓN DEL AMBIENTE","TAL","CBIS11-A",29,1.5]
[247,"CBI","15-P","TEMP",null,28181,"SALAZAR LAURELES JOSE LUIS","ALGEBRA","TAL","CBIS12-A",15,1.5]
[221,"CBI","15-P","CO","X",25486,"BUSSY  ANNE LAURE SABINE","ALGEBRA","TAL","CBIS12-B",11,1.5]
[20,"CBI","15-I","TEMP",null,23524,"LOPEZ MALDONADO GUILLERMO","FILOSOFÍA DE LA CIENCIA","TAL","CBIS13-A",27,1.5]
[241,"CBI","15-P","TEMP",null,23524,"LOPEZ MALDONADO GUILLERMO","FILOSOFÍA DE LA CIENCIA","TAL","CBIS13-A",12,1.5]
[218,"CBI","15-P","DEF","X",32841,"BERISTAIN CARDOSO RICARDO","HIGIENE INDUSTRIAL","TAL","CBIS14-A",30,1.5]
[16,"CBI","15-I","TEMP",null,37545,"GARCIA FONTES ADOLFO","HISTORIA DE LA FÍSICA","TAL","CBIS15-A",7,1.5]
[126,"CBI","15-O","TEMP",null,39425,"MENDOZA RESENDIZ ALEJANDRO","HIDRÁULICA DE CANALES","TAL","CBIS16-A",3,1.5]
[26,"CBI","15-I","TEMP",null,37350,"SILVA LUNA CARLOS DAVID","TRATAMIENTO DE AGUAS RESIDUALES POR MÉTODOS BIOLÓGICOS","TAL","CBIS17-A",27,1.5]
[14,"CBI","15-I","TEMP",null,31356,"ARROYO GOMEZ MARICELA","RADIACIÓN Y MEDICINA","TAL","CBIS18-A",23,1.5]
[2,"CBI","15-I","DEF","X",32841,"BERISTAIN CARDOSO RICARDO","REACCIONES REDOX EN PROCESOS BIOLÓGICOS","TAL","CBIS19-A",5,1.5]
[117,"CBI","15-O","DIR",null,21359,"SOTO CORTÉS GABRIEL","HIDRÁULICA DE TUBERÍAS","TAL","CBIS20-A",1,1.5]
[127,"CBI","15-O","TEMP",null,39425,"MENDOZA RESENDIZ ALEJANDRO","HIDRÁULICA DE CANALES","TAL","CBIT01-A",3,3]
[5,"CBI","15-I","DEF","X",34371,"LAGUNA SANCHEZ GERARDO ABEL","FUNDAMENTOS ECONÓMICOS Y FINANCIEROS PARA EL EMPRENDEDOR","TAL","CBIT04-A",21,3]
[229,"CBI","15-P","DEF","X",34371,"LAGUNA SANCHEZ GERARDO ABEL","FUNDAMENTOS ECONÓMICOS Y FINANCIEROS PARA EL EMPRENDEDOR","TAL","CBIT04-A",13,3]
[124,"CBI","15-O","TEMP",null,29925,"MENDEZ GURROLA IRIS IDDALY","PROGRAMACIÓN ELEMENTAL","TAL","CBIT08-A",2,3]
[202,"CSH","15-O","DEF","X",39289,"SOSA JUARICO MONICA ADRIANA","ELEMENTOS GEOLÓGICOS PARA LA CONSERVACIÓN DEL AMBIENTE","TAL","CBIT09-A",1,3]
[132,"CBI","15-O","TEMP",null,28181,"SALAZAR LAURELES JOSE LUIS","FÍSICA","TAL","CBIT10-A",30,3]
[106,"CBI","15-O","CO","X",18193,"PUERTA HUERTA JOSE PEDRO ANTONIO","GEOMETRÍA Y TRIGONOMETRÍA","TAL","CBIT11-A",30,3]
[118,"CBI","15-O","DIR",null,21359,"SOTO CORTÉS GABRIEL","HIDRÁULICA DE TUBERÍAS","TAL","CBIT12-A",1,3]
[104,"CBI","15-O","DEF","X",34371,"LAGUNA SANCHEZ GERARDO ABEL","INTRODUCCIÓN A LA VIDA UNIVERSITARIA","TAL","CBIT13-A",30,3]
[129,"CBI","15-O","TEMP",null,36702,"PEREZ MARTINEZ FRANCISCO","MATEMÁTICAS","TAL","CBIT14-A",30,3]
[121,"CBI","15-O","TEMP",null,14436,"GUAYCOCHEA GUGLIELMI DARIO EDUARDO","PLANEACIÓN ESTRATÉGICA","TAL","CBIT15-A",5,3]
[113,"CBI","15-O","DEF","X",37866,"REYES MERCADO YURI","QUÍMICA GENERAL","TAL","CBIT16-A",30,3]
[110,"CBI","15-O","DEF","X",37016,"REYES GUTIERREZ LAZARO RAYMUNDO","SISTEMA DE INFORMACIÓN GEOGRÁFICA","TAL","CBIT17-A",16,3]
[232,"CBI","15-P","DEF","X",37016,"REYES GUTIERREZ LAZARO RAYMUNDO","SISTEMA DE INFORMACIÓN GEOGRÁFICA","TAL","CBIT17-A",15,3]
[239,"CBI","15-P","TEMP",null,31356,"ARROYO GOMEZ MARICELA","ALGEBRA Y TRIGONOMETRÍA","TAL","CBIT18-A",18,3]
[7,"CBI","15-I","CO","X",18193,"PUERTA HUERTA JOSE PEDRO ANTONIO","CONTROL DE FLUIDOS","TAL","CBIT19-A",10,3]
[230,"CBI","15-P","CO","X",18193,"PUERTA HUERTA JOSE PEDRO ANTONIO","CONTROL DE FLUIDOS","TAL","CBIT19-A",5,3]
[233,"CBI","15-P","DEF","X",37016,"REYES GUTIERREZ LAZARO RAYMUNDO","GEOESTADÍSTICA","TAL","CBIT20-A",15,3]
[28,"CBI","15-I","TEMP",null,38563,"TORRES CORTES LUISEL JONATAN","PRONÓSTICOS EN LOS NEGOCIOS","TAL","CBIT21-A",12,3]
[151,"CBS","15-O","DEF","X",36161,"PACHECO LOPEZ GUSTAVO","BASES BIOLÓGICAS DE LA CONDUCTA","TAL","CBSS01-A",16,1.5]
[161,"CBS","15-O","TEMP",null,39145,"DIAZ RAMIREZ MAYRA","SISTEMAS DE CALIDAD EN ALIMENTOS Y SU IMPACTO AMBIENTAL","TAL","CBSS02-A",28,1.5]
[280,"CBS","15-P","TEMP",null,39145,"DIAZ RAMIREZ MAYRA","SISTEMAS DE CALIDAD EN ALIMENTOS Y SU IMPACTO AMBIENTAL","TAL","CBSS02-A",25,1.5]
[149,"CBS","15-O","DEF","X",36002,"LOPEZ PEREZ MARCOS","BIOARTE","TAL","CBSS05-A",37,1.5]
[260,"CBS","15-P","DEF","X",11798,"FLORES PEDROCHE JOSE FRANCISCO","PARENTESCO: ¿LA ÚNICA MANERA DE RELACIONAR LAS COSAS?","TAL","CBSS06-A",36,1.5]
[38,"CBS","15-I","DEF","X",22628,"JIMENEZ GUZMAN JUDITH","ALIMENTOS FUNCIONALES","TAL","CBSS07-A",22,1.5]
[264,"CBS","15-P","DEF","X",22628,"JIMENEZ GUZMAN JUDITH","ALIMENTOS FUNCIONALES","TAL","CBSS07-A",24,1.5]
[54,"CBS","15-I","TEMP",null,39145,"DIAZ RAMIREZ MAYRA","INDUSTRIA ALIMENTARIA","TAL","CBSS08-A",10,1.5]
[148,"CBS","15-O","DEF","X",36002,"LOPEZ PEREZ MARCOS","INTRODUCCIÓN A LA VIDA UNIVERSITARIA ","TAL","CBSS10-A",41,1.5]
[144,"CBS","15-O","DEF","X",39547,"GUZMAN RAMOS KIOKO RUBI","COMPRENSIÓN DE TEXTOS CIENTIFICOS (PRINCIPALMENTE TEXTOS EN INGLÉS)","TAL","CBSS14-A",28,1.5]
[150,"CBS","15-O","DEF","X",36002,"LOPEZ PEREZ MARCOS","EXTREMOFILIA","TAL","CBSS15-A",29,1.5]
[170,"CBS","15-O","TEMP",null,37901,"RAYAS AMOR ADOLFO ARMANDO","GENERALIDADES DE LOS SUELOS","TAL","CBSS16-A",35,1.5]
[60,"CBS","15-I","TEMP",null,36422,"OLIVER MORALES CELIA","ENTOMOLOGÍA","TAL","CBSS17-A",22,1.5]
[173,"CBS","15-O","TEMP",null,39395,"VILLAVICENCIO PULIDO JOSE GAISER","PRINCIPIOS BÁSICOS DE EPIDEMIOLOGÍA MATEMÁTICA","TAL","CBSS18-A",22,1.5]
[163,"CBS","15-O","TEMP",null,16064,"GARCIA GARIBAY JOSE MARIANO","PROBLEMATICAS Y RETOS EN LA PRODUCCIÓN SUSTENTABLE","TAL","CBSS19-A",30,1.5]
[45,"CBS","15-I","JD",null,36161,"PACHECO LOPEZ GUSTAVO","BIOLOGÍA DE LA CONDUCTA","TAL","CBSS20-A",20,1.5]
[275,"CBS","15-P","TEMP",null,8140,"CASTRILLON RIVERA LAURA ESTELA","BIOPELICULAS","TAL","CBSS21-A",30,1.5]
[44,"CBS","15-I","DEF","X",36002,"LOPEZ PEREZ MARCOS","FITOPATOLOGÍA","TAL","CBSS22-A",7,1.5]
[62,"CBS","15-I","TEMP",null,37901,"RAYAS AMOR ADOLFO ARMANDO","HIDROPONIA 2","TAL","CBSS23-A",7,1.5]
[53,"CBS","15-I","TEMP",null,37352,"CRUZ MONTERROSA ROSY GABRIELA","PRODUCCIÓN DE ALIMENTOS DE ORIGEN ANIMAL (CARNE Y LECHE) VENTAJAS E INCONVENIENTES","TAL","CBSS24-A",31,1.5]
[166,"CBS","15-O","TEMP",null,39237,"MANZANO FISCHER PATRICIA","BASES DE ORNITOLOGÍA Y OBSERVACIÓN DE AVES","TAL","CBSS25-A",35,1.5]
[138,"CBS","15-O","JD",null,37884,"ALAVEZ ESPIDIO SILVESTRE DE JESUS","INTRODUCCIÓN A LA GEROCIENCIA","TAL","CBSS26-A",7,1.5]
[30,"CBS","15-I","DEF","X",37884,"ALAVEZ ESPIDIO SILVESTRE DE JESUS","INTRODUCCIÓN A LAS GEROCIENCIAS ","TAL","CBST08-A",16,3]
[253,"CBS","15-P","DEF","X",37884,"ALAVEZ ESPIDIO SILVESTRE DE JESUS","INTRODUCCIÓN A LAS GEROCIENCIAS ","TAL","CBST08-A",22,3]
[289,"CBS","15-P","TEMP",null,39395,"VILLAVICENCIO PULIDO JOSE GAISER","FENÓMENOS NATURALES EXPLICADOS A TRVÉS DE LAS MATEMÁTICAS","TAL","CBST12-A",35,3]
[40,"CBS","15-I","JD",null,35805,"LIST SANCHEZ RURIK HERMANN","INTRODUCCIÓN AL CAMPISMO","TAL","CBST13-A",23,1]
[48,"CBS","15-I","DEF","X",36941,"PELZ SERRANO KARLA","INTRODUCCIÓN AL CAMPISMO","TAL","CBST13-A",23,1]
[65,"CBS","15-I","TEMP",null,37900,"ZARZA VILLANUEVA HELIOT","INTRODUCCIÓN AL CAMPISMO","TAL","CBST13-A",23,1]
[283,"CBS","15-P","TEMP",null,37902,"MONTIEL CASTRO AUGUSTO JACOBO","ANÁLISIS DE REDES SOCIALES","TAL","CBST14-A",16,3]
[285,"CBS","15-P","TEMP",null,37017,"PATRICK ENCINA GERALDINE ANN","CALENDARIOS MESOAMERICANOS","TAL","CBST15-A",21,3]
[33,"CBS","15-I","DEF","X",35966,"CASTILLO GUAJARDO DERIK","DISEÑO Y ANÁLISIS DE EXPERIMENTOS","TAL","CBST16-A",19,3]
[255,"CBS","15-P","DEF","X",35966,"CASTILLO GUAJARDO DERIK","DISEÑO Y ANÁLISIS DE EXPERIMENTOS","TAL","CBST16-A",7,3]
[12,"CBI","15-I","JD",null,36946,"VON BULOW  PHILIPP","DRAMATURGIA","TAL","CBST17-A",26,1.5]
[51,"CBS","15-I","TEMP",null,36060,"ABARCA GARCIA CESAR ANTONIO","DRAMATURGIA","TAL","CBST17-A",26,1.5]
[78,"CSH","15-I","DEF","X",37044,"MARTINEZ TIBURCIO MARIA GABRIELA","RENDICIÓN DE CUENTAS Y PARTICIPACIÓN CIUDADANA  ","TAL","CSHS01-A",22,1.5]
[295,"CSH","15-P","DEF","X",35988,"BLASQUEZ MARTINEZ LIDIA IVONNE","INSTITUCIONES,CONSERVACIÓN AMBIENTAL Y GESTIÓN DE LOS COMUNES ","TAL","CSHS06-A",11,1.5]
[196,"CSH","15-O","DEF",null,36933,"ORTIZ HENDRESON GLADYS","INTRODUCCIÓN A LA PERSPECTIVA DE GÉNERO","TAL","CSHS09-A",28,1.5]
[304,"CSH","15-P","DEF",null,36933,"ORTIZ HENDRESON GLADYS","INTRODUCCIÓN A LA PERSPECTIVA DE GÉNERO","TAL","CSHS09-A",16,1.5]
[190,"CSH","15-O","DEF","X",32206,"FIGUEROA ROMERO RAUL","DERECHOS HUMANOS","TAL","CSHS11-A",27,1.5]
[183,"CSH","15-O","DEF","X",35988,"BLASQUEZ MARTINEZ LIDIA IVONNE","ECOLOGÍA POLÍTICA","TAL","CSHS12-A",36,1.5]
[87,"CSH","15-I","TEMP",null,38501,"MUÑOZ GRANDE HUMBERTO","POLÍTICAS PÚBLICAS EN SALUD","TAL","CSHS13-A",21,1.5]
[189,"CSH","15-O","DEF","X",32206,"FIGUEROA ROMERO RAUL","INTRODUCCIÓN A LA VIDA UNIVERSITARIA","TAL","CSHS14-A",26,1.5]
[188,"CSH","15-O","DEF","X",32206,"FIGUEROA ROMERO RAUL","INTRODUCCIÓN A LA VIDA UNIVERSITARIA","TAL","CSHS14-B",27,1.5]
[207,"CSH","15-O","TEMP",null,88881,"DESCONOCIDO CSH","PERFIL JURIDICO Y ADMINISTRATIVO DEL MUNICIPIO EN MEXICO","TAL","CSHS15-A",28,1.5]
[212,"CSH","15-O","TEMP",null,30662,"ROSALES GONZALEZ RODRIGO","VISUALIZACIÓN DIGITAL EN LA CIENCIA","TAL","CSHS16-A",9,1.5]
[317,"CSH","15-P","TEMP",null,38501,"MUÑOZ GRANDE HUMBERTO","EVALUACIÓN DE DISEÑO DE POLÍTICAS PÚBLICAS","TAL","CSHS17-A",15,1.5]
[307,"CSH","15-P","DEF",null,38161,"SANCHEZ CARDONA LUZ MARIA","LA MEDIACIÓN TECNOLÓGICA EN LA CONSTRUCCIÓN DEL DISCURSO ARTÍSTICO EN PLATAFORMAS ELECTRÓNICAS DE RADIO Y TV","TAL","CSHS18-A",23,1.5]
[301,"CSH","15-P","DEF","X",32206,"FIGUEROA ROMERO RAUL","LECCIONES JURIDICAS","TAL","CSHS19-A",16,1.5]
[315,"CSH","15-P","TEMP",null,38809,"HERNANDEZ RAZO OSCAR ENRIQUE","METODOLOGÍA DE LA INVESTIGACIÓN SOCIAL 1","TAL","CSHS20-A",6,1.5]
[314,"CSH","15-P","TEMP",null,38809,"HERNANDEZ RAZO OSCAR ENRIQUE","METODOLOGÍA DE LA INVESTIGACIÓN SOCIAL 1","TAL","CSHS20-B",7,1.5]
[89,"CSH","15-I","TEMP",null,38502,"PERERA RAMOS RODRIGO","MOVIMIENTOS SOCIALES EN EL SIGLO XXI, APRÓXIMACIONES TEÓRICAS PARA SU ESTUDIO","TAL","CSHS22-A",20,1.5]
[320,"CSH","15-P","TEMP",null,38502,"PERERA RAMOS RODRIGO","MOVIMIENTOS SOCIALES EN EL SIGLO XXI, APRÓXIMACIONES TEÓRICAS PARA SU ESTUDIO","TAL","CSHS22-A",4,1.5]
[73,"CSH","15-I","DEF","X",32206,"FIGUEROA ROMERO RAUL","TEORÍA POLÍTICA CONTEMPORÁNEA","TAL","CSHS23-A",22,1.5]
[300,"CSH","15-P","DEF","X",32206,"FIGUEROA ROMERO RAUL","TEORÍA POLÍTICA CONTEMPORÁNEA","TAL","CSHS23-A",23,1.5]
[80,"CSH","15-I","DEF",null,27455,"ROZGA LUTER RYSZARD EDWARD","SISTEMAS DE INFORMACIÓN GEOGRÁFICA 1: ARCGIS- HERRAMIENTAS BÁSICAS","TAL","CSHT02-A",15,3]
[306,"CSH","15-P","DEF",null,27455,"ROZGA LUTER RYSZARD EDWARD","SISTEMAS DE INFORMACIÓN GEOGRÁFICA 1: ARCGIS- HERRAMIENTAS BÁSICAS","TAL","CSHT02-A",11,3]
[69,"CSH","15-I","DEF","X",35988,"BLASQUEZ MARTINEZ LIDIA IVONNE","REDACCIÓN CIENTÍFICA","TAL","CSHT07-A",4,3]
[185,"CSH","15-O","DEF","X",38204,"CHAVEZ BECKER CARLOS GABRIEL","ANÁLISIS DE CONSEJOS CONSULTIVOS NACIONALES","TAL","CSHT27-A",14,3]
[297,"CSH","15-P","DEF","X",38204,"CHAVEZ BECKER CARLOS GABRIEL","ANÁLISIS DE CONSEJOS CONSULTIVOS NACIONALES","TAL","CSHT27-A",3,3]
[203,"CSH","15-O","DEF","X",39289,"SOSA JUARICO MONICA ADRIANA","INDICADORES BÁSICOS PARA EL ANÁLISIS ECONÓMICO MUNICIPAL Y METROPOLITANO","TAL","CSHT28-A",26,3]
[310,"CSH","15-P","DEF","X",39289,"SOSA JUARICO MONICA ADRIANA","INDICADORES BÁSICOS PARA EL ANÁLISIS ECONÓMICO MUNICIPAL Y METROPOLITANO","TAL","CSHT28-A",19,3]
[206,"CSH","15-O","TEMP",null,20178,"DAVILA JAIME MARIBEL","INTRODUCCIÓN A LAS MATEMÁTICAS","TAL","CSHT29-A",10,3]
[210,"CSH","15-O","TEMP",null,6598,"RAMIREZ BARRERA VICENTE ANGEL","INTRODUCCIÓN A LAS MATEMÁTICAS","TAL","CSHT29-B",27,3]
[209,"CSH","15-O","TEMP",null,32325,"LUNA GOMEZ LUIS ALBERTO","INTRODUCCIÓN AL ANÁLISIS ESTADÍSTICO A TRAVÉS DE SPSS / EXCEL","TAL","CSHT30-A",12,3]
[199,"CSH","15-O","DEF","X",27455,"ROZGA LUTER RYSZARD EDWARD","SISTEMAS DE INFORMACIÓN GEOGRÁFICA 2","TAL","CSHT31-A",9,3]
[79,"CSH","15-I","TEMP",null,38518,"ROCHA ITURBIDE MANUEL","ARTE SONORO","TAL","CSHT32-A",23,3]
[313,"CSH","15-P","TEMP",null,39502,"GARCIA ZAVALA ROBERTO","COMPRENSIÓN DE LECTURA","TAL","CSHT33-A",9,3]
[316,"CSH","15-P","TEMP",null,38809,"HERNANDEZ RAZO OSCAR ENRIQUE","METODOLOGÍA DE LA INVESTIGACIÓN SOCIAL I","TAL","CSHT34-A",7,3]
[292,"CSH","15-P","DEF","X",37911,"AGUILAR ASTORGA CARLOS RICARDO","TEORÍA DEL ESTADO Y POLÍTICAS PÚBLICAS","TAL","CSHT35-A",25,3]
[82,"CSH","15-I","DEF",null,36929,"SASTRE DOMÍNGUEZ MARÍA PAZ","INTRODUCCIÓN A LA HISTORIA DEL CINE","TAL","CSHT36-A",16,3]
[93,"CSH","15-I","TEMP",null,17734,"VAZQUEZ HERNANDEZ GERARDO","ALFABETIZACIÓN ACADÉMICA","TAL","CSHT37-A",6,3]
[90,"CSH","15-I","TEMP",null,38897,"RIBOULET  CELIA","COMUNICACIÓN VISUAL: DIBUJO TRADICIONAL Y DIGITAL","TAL","CSHT38-A",23,3]
[85,"CSH","15-I","TEMP",null,37608,"DIAZ JIMENEZ ONIEL FRANCISCO","ANÁLISIS DE DATOS CUANTITATIVOS CON SPSS (NIVEL BÁSICO)","TAL","CSHT39-A",12,3]
[74,"CSH","15-I","DEF","X",32206,"FIGUEROA ROMERO RAUL","INTRODUCCIÓN AL DERECHO","TAL","CSHT40-A",9,3]
[71,"CSH","15-I","DEF","X",38204,"CHAVEZ BECKER CARLOS GABRIEL","TEORÍAS DE LA ACCIÓN COLECTIVA Y CONSTRUCCIÓN DE CIUDADANÍA AMBIENTAL","TAL","CSHT41-A",12,3]
[219,"CBI","15-I","CO","X",25486,"BUSSY  ANNE LAURE SABINE"]
[263,"CBS","15-O","DEF","X",22628,"JIMENEZ GUZMAN JUDITH"]
[194,"CSH","15-P","DEF","X",36007,"MARTINEZ GONZALEZ NATAL ALEJANDRO"]
[309,"CSH","15-I","DEF","X",39289,"SOSA JUARICO MONICA ADRIANA"]

{"sheet":"Carga por Plaza","index":63,"n_rows":30,"n_cols":14,"rows_kept":30,"cut":false,"hidden":false,"merged":[[1,9,1,10],[6,0,6,1],[1,0,2,1],[3,1,5,1],[1,3,1,4],[1,6,1,7]]}
["INDICE"]
[null,null,"15-I",null,null,"15-O",null,null,"15-P",null,null,2015,2015,2015]
[null,null,"INSCRITOS","GRUPOS","HFG","INSCRITOS","GRUPOS","HFG","INSCRITOS","GRUPOS","HFG","INSCRITOS","GRUPOS","HFG"]
["CBI",null,387,28,134.30000000000001,729,43,208.2,520,37,163.4,1636,108,505.89999999999986]
["CBS",null,562,37,156.89999999999998,771,38,156.29999999999998,671,38,182.60000000000005,2004,113,495.80000000000035]
["CSH",null,501,29,135.5,758,40,200.8,526,35,163.60000000000002,1785,104,499.89999999999981]
["Total general",null,1450,94,426.70000000000005,2258,121,565.30000000000018,1717,110,509.59999999999997,5425,325,1501.6000000000001]
[null,null,"HFG: Horas Frente a Grupo"]
[]
[]
[]
["INSCRS",null,"15I","15P","15O","prom(2015)"]
["CBI",19,{"$f":"C4/$B13","v":20.368421052631579},{"$f":"F4/$B13","v":38.368421052631582},{"$f":"I4/$B13","v":27.368421052631579},{"$f":"L4/3/$B13","v":28.701754385964914}]
["CBS",20,{"$f":"C5/$B14","v":28.1},{"$f":"F5/$B14","v":38.549999999999997},{"$f":"I5/$B14","v":33.549999999999997},{"$f":"L5/3/$B14","v":33.4}]
["CSH",25,{"$f":"C6/$B15","v":20.04},{"$f":"F6/$B15","v":30.32},{"$f":"I6/$B15","v":21.04},{"$f":"L6/3/$B15","v":23.8}]
["UAM-L",64,{"$f":"C7/$B16","v":22.65625},{"$f":"F7/$B16","v":35.28125},{"$f":"I7/$B16","v":26.828125},{"$f":"L7/3/$B16","v":28.255208333333332}]
[]
[]
["GRUPOS",null,"15I","15P","15O","prom(2015)"]
["CBI",19,{"$f":"D4/$B20","v":1.4736842105263157},{"$f":"G4/$B20","v":2.263157894736842},{"$f":"J4/$B20","v":1.9473684210526316},{"$f":"M4/3/$B20","v":1.8947368421052631}]
["CBS",20,{"$f":"D5/$B21","v":1.85},{"$f":"G5/$B21","v":1.9},{"$f":"J5/$B21","v":1.9},{"$f":"M5/3/$B21","v":1.8833333333333333}]
["CSH",25,{"$f":"D6/$B22","v":1.1599999999999999},{"$f":"G6/$B22","v":1.6},{"$f":"J6/$B22","v":1.4},{"$f":"M6/3/$B22","v":1.3866666666666665}]
["UAM-L",64,{"$f":"D7/$B23","v":1.46875},{"$f":"G7/$B23","v":1.890625},{"$f":"J7/$B23","v":1.71875},{"$f":"M7/3/$B23","v":1.6927083333333333}]
[]
[]
["HFG",null,"15I","15P","15O","prom(2015)"]
["CBI",19,{"$f":"E4/$B27","v":7.0684210526315798},{"$f":"H4/$B27","v":10.957894736842105},{"$f":"K4/$B27","v":8.6},{"$f":"N4/3/$B27","v":8.875438596491227}]
["CBS",20,{"$f":"E5/$B28","v":7.8449999999999989},{"$f":"H5/$B28","v":7.8149999999999995},{"$f":"K5/$B28","v":9.1300000000000026},{"$f":"N5/3/$B28","v":8.263333333333339}]
["CSH",25,{"$f":"E6/$B29","v":5.42},{"$f":"H6/$B29","v":8.032},{"$f":"K6/$B29","v":6.5440000000000005},{"$f":"N6/3/$B29","v":6.6653333333333311}]
["UAM-L",64,{"$f":"E7/$B30","v":6.6671875000000007},{"$f":"H7/$B30","v":8.8328125000000028},{"$f":"K7/$B30","v":7.9624999999999995},{"$f":"N7/3/$B30","v":7.8208333333333337}]

{"sheet":"Carga PDDC","index":64,"n_rows":9,"n_cols":8,"rows_kept":9,"cut":false,"hidden":false,"merged":[[5,0,5,3],[7,0,7,3],[6,0,6,3],[4,0,4,3],[8,0,8,7]]}
["INDICE"]
["*Para ser considerado PROF DEF DEDICACIÓN COMPLETA, al inicio del trimestre debe estar ya contratado o terminar en las primeras dos semanas del trimestre el cargo de Jefe de Departamento, Rector, Director o Secretarío o el Sabático"]
[]
[null,null,null,null,"CBI","CBS","CSH","UAML"]
["HFG trimestal promedio por Profesor DDC",null,null,null,9.35,9.0299999999999994,9.14,9.1999999999999993]
["Profesores DDC con menos de 6 HFG promedio por trimestre",null,null,null,0.2,0.36363636363636365,0.1,0.22580645161290322]
["Profesores DDC con 6 a 12 HFG promedio por trimestre",null,null,null,0.5,0.27272727272727271,0.6,0.45161290322580644]
["Profesores DDC con más de 12 HFG promedio por trimestre",null,null,null,{"$f":"1-E7-E6","v":0.3},{"$f":"1-F7-F6","v":0.36363636363636365},{"$f":"1-G7-G6","v":0.30000000000000004},{"$f":"1-H7-H6","v":0.32258064516129026}]
["*Para ser considerado PROF DEF DEDICACIÓN COMPLETA, al inicio del trimestre debe estar ya contratado o terminar en las primeras dos semanas del trimestre el cargo de Jefe de Departamento, Rector, Director o Secretarío o el Sabático"]

{"sheet":"PROMEP-SNI","index":65,"n_rows":28,"n_cols":18,"rows_kept":28,"cut":false,"hidden":false,"merged":[[7,10,10,10],[11,10,14,10],[15,10,15,17],[11,16,14,17],[2,0,2,9],[17,1,24,1],[9,1,16,1],[5,1,8,1],[5,0,24,0],[6,9,15,9]]}
["INDICE"]
["PERSONAL ACADÉMICO CON RECONOCIMIENTO (PERFIL DESEABLE VIGENTE PRODEP; SNI) "]
["Reconocimiento a profesores con perfil deseable. El perfil deseable, de acuerdo con el Prodep, se refiere a: ser profesor de tiempo completo, haber obtenido el grado preferente (doctor) o mínimo (maestro o en su caso una especialidad médica) y demostrar fehacientemente la participación en actividades de docencia, generación o aplicación innovadora del conocimiento, tutoría y gestión académica individual o grupal"]
[]
["UNIDAD","Reconocimiento","DIVISIÓN",2012,2013,2014,2015]
["Lerma","PTC defs","CBI",4,5,7,14]
[null,null,"CBS",5,9,11,12,null,null,"UNIDAD LERMA","Reconocimiento","DIVISIÓN",2012,2013,2014,2015,"PRODEP","SNI/SNC"]
[null,null,"CSH",3,7,10,19,null,null,null,"PRODEP","CBI",0,0.8,0.8571428571428571,0.5714285714285714,{"$f":"P8","v":0.5714285714285714},{"$f":"P12","v":0.35714285714285715}]
[null,null,"Total",{"$f":"SUM(D6:D8)","v":12},{"$f":"SUM(E6:E8)","v":21},{"$f":"SUM(F6:F8)","v":28},{"$f":"SUM(G6:G8)","v":45},null,null,null,null,"CBS",0.2,0.55555555555555558,0.45454545454545453,0.75,{"$f":"P9","v":0.75},{"$f":"P13","v":0.91666666666666663}]
[null,"PRODEP","CBI",null,4,6,8,null,null,null,null,"CSH",0,0.14285714285714285,0.3,0.47368421052631576,{"$f":"P10","v":0.47368421052631576},{"$f":"P14","v":0.36842105263157893}]
[null,null,"CBS",1,5,5,9,null,null,null,null,"UAM-L",8.3333333333333329E-2,0.47619047619047616,0.5,0.57777777777777772,{"$f":"P11","v":0.57777777777777772},{"$f":"P15","v":0.51111111111111107}]
[null,null,"CSH",null,1,3,9,null,null,null,"SIN","CBI",0,0,0,0.35714285714285715]
[null,null,"TOTAL",{"$f":"SUM(D10:D12)","v":1},{"$f":"SUM(E10:E12)","v":10},{"$f":"SUM(F10:F12)","v":14},{"$f":"SUM(G10:G12)","v":26},null,null,null,null,"CBS",0.6,0.44444444444444442,0.90909090909090906,0.91666666666666663]
[null,null,"CBI",{"$f":"D10/D6","v":0},0.8,0.8571428571428571,0.5714285714285714,null,null,null,null,"CSH",0.33333333333333331,0.2857142857142857,0.3,0.36842105263157893]
[null,null,"CBS",0.2,0.55555555555555558,0.45454545454545453,0.75,null,null,null,null,"UAM-L",0.33333333333333331,0.2857142857142857,0.4642857142857143,0.51111111111111107]
[null,null,"CSH",0,0.14285714285714285,0.3,0.47368421052631576]
[null,null,"UAM-L",8.3333333333333329E-2,0.47619047619047616,0.5,0.57777777777777772]
[null,"SNI ","CBI",null,null,null,5]
[null,null,"CBS",3,4,10,11]
[null,null,"CSH",1,2,3,7]
[null,null,"TOTAL",{"$f":"SUM(D18:D20)","v":4},{"$f":"SUM(E18:E20)","v":6},{"$f":"SUM(F18:F20)","v":13},{"$f":"SUM(G18:G20)","v":23}]
[null,null,"CBI",{"$f":"D18/D6","v":0},0,0,0.35714285714285715]
[null,null,"CBS",0.6,0.44444444444444442,0.90909090909090906,0.91666666666666663]
[null,null,"CSH",0.33333333333333331,0.2857142857142857,0.3,0.36842105263157893]
[null,null,"Tot/PTC",0.33333333333333331,0.2857142857142857,0.4642857142857143,0.51111111111111107]
[]
[]
["Fuentes: Catálogo de Profesores de Tiempo Completo del PROMEP; CONACyT"]

{"sheet":"PROMEP-SNI Comp","index":66,"n_rows":31,"n_cols":8,"rows_kept":31,"cut":false,"hidden":false,"merged":[[24,0,28,0],[25,1,26,1],[27,1,28,1],[2,0,2,9],[8,1,9,1],[11,0,15,0],[12,1,13,1],[14,1,15,1],[17,0,21,0],[18,1,19,1],[20,1,21,1],[5,0,9,0],[6,1,7,1]]}
["INDICE"]
["PERSONAL ACADÉMICO CON RECONOCIMIENTO (PERFIL DESEABLE VIGENTE PROMEP; SNI) "]
["Reconocimiento a profesores con perfil deseable. El perfil deseable, de acuerdo con el Promep, se refiere a: ser profesor de tiempo completo, haber obtenido el grado preferente (doctor) o mínimo (maestro o en su caso una especialidad médica) y demostrar fehacientemente la participación en actividades de docencia, generación o aplicación innovadora del conocimiento, tutoría y gestión académica individual o grupal"]
[]
["UNIDAD","Reconocimiento",null,2012,2013,2014,2015]
["Lerma","PTC defs","Total",12,21,28,45]
["Lerma","PROMEP","TOTAL",1,10,14,26]
["Lerma","PROMEP","Tot/PTCd",8.3333333333333329E-2,0.47619047619047616,0.5,0.57777777777777772]
["Lerma","SNI ","TOTAL",4,6,13,23]
["Lerma","SNI ","Tot/PTC",0.33333333333333331,0.2857142857142857,0.4642857142857143,0.51111111111111107]
[]
["Cuajimalpa","PTC defs","Total",130,134,143,147]
[null,"PROMEP","TOTAL",123,124,115,114]
[null,null,"Tot/PTC",0.94615384615384612,0.92537313432835822,0.80419580419580416,0.77551020408163263]
[null,"SNI ","TOTAL",106,115,115,118]
[null,null,"Tot/PTC",0.81538461538461537,0.85820895522388063,0.80419580419580416,0.80272108843537415]
[]
["UAM","PTC defs","Total",2663,2705,2759,2743]
[null,"PROMEP","TOTAL",1394,1460,1442,1289]
[null,null,"Tot/PTC",0.52346977093503566,0.53974121996303137,0.52265313519391088,0.46992344148742254]
[null,"SNI ","TOTAL",941,1061,1084,1110]
[null,null,"Tot/PTC",0.35336087119789711,0.3922365988909427,0.39289597680318955,0.40466642362376959]
[]
[null,null,null,2006,2007,2008,2009,2010]
["Cuajimalpa","PTC defs","Total",22,52,70,82,103]
[null,"PROMEP","TOTAL",24,47,61,70,70]
[null,null,"Tot/PTC",1.0909090909090908,0.90384615384615385,0.87142857142857144,0.85365853658536583,0.67961165048543692]
[null,"SNI ","TOTAL",15,35,72,74,94]
[null,null,"Tot/PTC",0.68181818181818177,0.67307692307692313,1.0285714285714285,0.90243902439024393,0.91262135922330101]
[]
["Fuentes: Catálogo de Profesores de Tiempo Completo del PROMEP; CONACyT"]

{"sheet":"Proys Inv","index":67,"n_rows":87,"n_cols":13,"rows_kept":87,"cut":false,"hidden":false,"merged":[[2,4,2,7],[76,1,83,1],[84,1,85,1],[73,0,85,0],[25,1,26,1],[25,3,26,3],[25,4,26,4],[25,5,26,5],[25,6,26,6],[25,7,26,7],[73,1,75,1],[4,0,27,0],[5,6,6,6],[5,5,6,5],[5,4,6,4],[5,1,6,1],[5,7,6,7],[7,7,8,7],[7,6,8,6],[7,5,8,5],[7,4,8,4],[7,3,8,3],[7,1,8,1],[5,3,6,3],[16,7,17,7],[21,1,22,1],[21,3,22,3],[21,4,22,4],[21,5,22,5],[21,6,22,6],[21,7,22,7],[21,2,22,2],[16,2,17,2],[9,7,10,7],[12,4,13,4],[12,5,13,5],[12,6,13,6],[12,7,13,7],[14,1,15,1],[14,3,15,3],[14,4,15,4],[14,5,15,5],[14,6,15,6],[14,7,15,7],[9,1,10,1],[9,3,10,3],[9,4,10,4],[9,5,10,5],[14,2,15,2],[12,2,13,2],[9,2,10,2],[7,2,8,2],[5,2,6,2],[29,0,71,0],[29,1,36,1],[30,2,32,2],[30,3,32,3],[30,4,32,4],[30,5,32,5],[30,6,32,6],[60,2,62,2],[60,3,62,3],[60,4,62,4],[60,5,62,5],[60,6,62,6],[9,6,10,6],[25,2,26,2],[16,1,17,1],[16,3,17,3],[16,4,17,4],[16,5,17,5],[16,6,17,6],[58,2,59,2],[58,3,59,3],[58,4,59,4],[30,7,32,7],[33,7,34,7],[44,4,45,4],[44,5,45,5],[44,6,45,6],[44,7,45,7],[46,2,48,2],[46,3,48,3],[46,4,48,4],[46,5,48,5],[46,6,48,6],[46,7,48,7],[31,11,32,11],[31,12,32,12],[33,2,34,2],[33,3,34,3],[33,4,34,4],[33,5,34,5],[33,6,34,6],[33,11,34,11],[37,1,64,1],[39,2,40,2],[39,3,40,3],[39,4,40,4],[39,5,40,5],[39,6,40,6],[39,7,40,7],[39,11,40,11],[41,2,42,2],[41,3,42,3],[41,4,42,4],[41,5,42,5],[41,6,42,6],[41,7,42,7],[44,2,45,2],[44,3,45,3],[46,11,47,11],[49,2,50,2],[49,3,50,3],[49,4,50,4],[49,5,50,5],[49,6,50,6],[49,7,50,7],[49,11,50,11],[53,2,54,2],[53,3,54,3],[53,4,54,4],[53,5,54,5],[53,6,54,6],[49,12,50,12],[51,2,52,2],[51,3,52,3],[51,4,52,4],[51,5,52,5],[51,6,52,6],[51,7,52,7],[56,2,57,2],[56,3,57,3],[56,4,57,4],[56,5,57,5],[56,6,57,6],[51,11,52,11],[51,12,52,12],[56,7,57,7],[56,11,57,11],[56,12,57,12],[53,7,54,7],[53,11,54,11],[58,5,59,5],[58,6,59,6],[58,7,59,7],[65,1,71,1],[65,2,67,2],[65,3,67,3],[65,4,67,4],[65,5,67,5],[65,6,67,6],[63,2,64,2],[63,3,64,3],[63,4,64,4],[63,5,64,5],[63,6,64,6],[63,7,64,7],[65,7,67,7],[66,12,67,12],[63,12,64,12],[68,2,69,2],[68,3,69,3],[68,4,69,4],[68,5,69,5],[68,6,69,6],[68,7,69,7],[60,7,62,7],[60,11,62,11],[63,11,64,11],[65,11,67,11]]}
["INDICE"]
["PROYECTOS DE INVESTIGACIÓN"]
[null,null,null,null,"Vigencia al 31 dic"]
["Div","Depto","Nombre del Proyecto","Responsable",2012,2013,2014,2015,"Acuerdo","Fecha","Decisión","Inic","Fin"]
["CIENCIAS BÁSICAS E INGENIERÍA",null,"Acoplamiento de la Nitrificación/Desnitrificación para la eliminación simultanea de compuestos fenólicos, sulfuro y amonio en un bioreactor híbrido",null,null,null,"X","X","18.04","2014-07-21","aprobación"]
[null,null,"Análisis teórico-experimental de la fisura en el rotor del sistema rotor-soportes",null,"X","X","X",null,"05.06","2012-11-21","aprobación"]
[null,null,null,null,null,null,null,null,"24.08","2015-02-27","cancelación"]
[null,null,"Aplicación y evaluación de energías sustentables en sistemas mecatrónicos rotatorios",null,"X","X","X",null,"05.05","2012-11-21","aprobación"]
[null,null,null,null,null,null,null,null,"24.08","2015-02-27","cancelación"]
[null,null,"Autoequipamiento",null,"X","X","X",null,"05.05","2012-11-21","aprobación"]
[null,null,null,null,null,null,null,null,"24.08","2015-02-27","cancelación"]
[null,null,"Biodegradación anaerobía de contaminantes en efluentes antropogénicos y cuerpos acuáticos",null,"X","X","X","X","05.05","2012-11-21","aprobación"]
[null,null,"Cómputo Académico en la UAM Lerma. ",null,"X","X","X","X","05.05","2012-11-21","aprobación"]
[null,"RT",null,"Dr. Héctor Eduardo Jardón Valadez",null,null,null,null,"36.04","2015-10-28","cambio de responsable"]
[null,null,"Desarrollo de sistemas productivos que elaboren artículos orientados a cubrir necesidades sociales y/o industriales específicas, que utilizan insumos principales residuos de poda",null,"X","X",null,null,"05.05","2012-11-21","aprobación"]
[null,null,null,null,null,null,null,null,"18.06","2014-07-21","cancelación"]
[null,null,"Diseño y construcción de prototipo de un nuevo sistema de puertas con dispositivo inhibidor de la apertura de las misas del lado contrario",null,"X","X","X",null,"05.06","2012-11-21","aprobación"]
[null,null,null,null,null,null,null,null,"24.08","2015-02-27","cancelación"]
[null,null,"Diseño y desarrollo del prototipo de un módem OFDM de banda ancha con codificación de canal FEC para la transmisión de datos por línea eléctrica doméstica",null,null,null,"X","X","18.05","2014-07-21","aprobación"]
[null,null,"Energía solar",null,"X","X","X","X","05.05","2012-11-21","aprobación"]
[null,null,"Fundamentos y enseñanza de la Física",null,"X","X","X","X","05.05","2012-11-21","aprobación"]
[null,null,"Hidrógeno y energías sustentables",null,"X","X","X",null,"05.05","2012-11-21","aprobación"]
[null,null,null,null,null,null,null,null,"24.08","2015-02-27","cancelación"]
[null,null,"Implantación de la cultura del ecodiseño en productos, procesos y servicios, para favorecer la innovación y sustentabilidad en las organizaciones.",null,"X","X","X","X","05.06","2012-11-21","aprobación"]
[null,null,"Laboratorio de investigación y desarrollo de cómputo móvil",null,"X","X","X","X","05.05","2012-11-21","aprobación"]
[null,null,"Materia Condensada Blanda",null,"X","X","X",null,"05.05","2012-11-21","aprobación"]
[null,null,null,null,null,null,null,null,"36.03","2015-10-28","cancelación"]
[null,null,"Materiales semiconductores y cómputo cuántico",null,"X","X","X","X","05.05","2012-11-21","aprobación"]
[null,null,null,null,{"$f":"COUNTA(E5:E28)","v":14},{"$f":"COUNTA(F5:F28)","v":14},{"$f":"COUNTA(G5:G28)","v":15},{"$f":"COUNTA(H5:H28)","v":9}]
["CIENCIAS BIOLÓGICAS Y DE LA SALUD","CAL","Caracterizacion de la flora asociada al Queso Poro para documentar la presencia de microorganismos nocivos para la salud, así como de microorganismos que pudieran contribuir al desarrollo del sabor y otras características sensoriales del producto","Dra Judith Jiménez Guzman",null,"X",null,null,"13.13.08.21","2013-11-15","aprobación","2013-03-01","2014-03-31"]
[null,null,"Diseño in sílico y síntesis de péptidos basados en secuencias de proteínas que forman las sedas de araña, para la producción y formulación de biomateriales","Dra Elizabeth Del Moral Ramlrez",null,"X",null,null,"13.13.08.18","2013-11-15","aprobación","2013-08-01","2014-07-31"]
[null,null,null,null,null,null,null,null,"01.15.09.07","2015-01-26","corrección de fechas","2013-07-01","2014-07-31"]
[null,null,null,null,null,null,null,null,"19.15.09.01","2015-10-26","baja"]
[null,null,"Efectos del transporte y el manejo pre-sacrificio sobre el bienestar animal y la calidad de ta carne en ovinos comerciales en México","Dr. Genaro Miranda de la Lama",null,"X",null,null,"13.13.08.22","2013-11-15","aprobación","2013-10-01","2014-09-30"]
[null,null,null,null,null,null,null,null,"01.15.09.08","2015-01-26","corrección de fechas",null,"2014-10-31"]
[null,null,"Evaluación de las características físico-químicas y el tiempo de vida de anaquel de la carne bovina con y sin presencia de hematomas","Dra. Rosy Gabriela Cruz Monterrosa",null,"X",null,null,"13.13.08.20","2013-11-15","aprobación","2013-09-01","2014-08-31"]
[null,null,"Evaluacion electroquímica de la actividad de la Enzima Convertidora de Angiotensina-1 {ACE-1) y la participación del zinc en el efecto inhibitorio de péptidos antihipertensívos obtenidos de fuentes alimenticias","Dra Elizabeth Del Moral Ramlrez",null,"X",null,null,"13.13.08.19","2013-11-15","aprobación","2013-09-01","2014-08-31"]
[null,"CAM","Análisis metagenómico del resistoma y otras proteínas de interés biotecnológico en ecosistemas de especial relevancia en el Estado de México","Dr. Marcos López Pérez ",null,null,"X","X","13.13.08.07","2013-11-15","aprobación","2014-01-01","2018-01-31"]
[null,null,"Caracterización de las enzimas involucradas en la biosíntesis dTDP-L-ramnosa, ramnolípidos y polihidroxialcanoatos (phas) en Pseudomonas aeruginosa","Dr. Humberto García Arellano ",null,null,"X","X","13.13.08.05","2013-11-15","aprobación","2014-01-01","2016-12-31"]
[null,null,"Caracterización microbiana y monitoreo de contaminantes en las ciénagas de Lerma","Dr. Arturo Aburto Medina",null,null,"X",null,"13.13.08.11","2013-11-15","aprobación","2014-01-01","2017-12-31"]
[null,null,null,null,null,null,null,null,"01.15.10.02","2015-01-26","cancelación",null,"2015-01-26"]
[null,null,"Conectividad del paisaje, efecto de las barreras artificiales y conservación de la vida silvestre.","Dr. Rurik Hermann List Sánchez List.",null,"X","X","X","13.13.08.10","2013-11-15","aprobación","2013-06-01","2014-12-31"]
[null,null,null,null,null,null,null,null,"19.15.11.03","2015-10-26","renovación","2015-10-01","2016-12-31"]
[null,null,"Diversidad de macroalgas marinas mexicanas: filogenia y biogeografía","Dr. José Francisco Flores Pedroche.",null,null,null,"X","19.15.12.01","2015-10-26","registro","2015-10-01","2018-12-31"]
[null,null,"Ecología y conservación de carnívoros en ambientes modificados por el hombre","M. en C. Heliot Zarza Villanueva",null,"X","X","X","13.13.08.09","2013-11-15","aprobación","2013-04-01","2015-04-30"]
[null,null,null,null,null,null,null,null,"19.15.11.04","2015-10-26","renovación","2015-10-01","2016-12-31"]
[null,null,"Efecto de la estructura de comunidades de competidores en la cosecha máxima","Dr. Derik Castillo Guajardo","X","X","X","X","13.13.08.06","2013-11-15","aprobación","2012-06-01","2014-12-31"]
[null,null,null,null,null,null,null,null,"01.15.09.03","2015-01-26","corrección de fechas",null,"2015-12-31"]
[null,null,null,null,null,null,null,null,"19.15.11.01","2015-10-26","renovación","2015-01-01","2016-01-31"]
[null,null,"Evaluación experimental del efecto de los agroquímicos en la productividad, la variación morfológica de semillas y la variabilidad genética de plántulas de maiz (lea mays) en una parcela","Dr. Cesar Antonio Abarca García",null,null,"X",null,"13.13.08.08","2013-11-15","aprobación","2014-03-01","2015-03-31"]
[null,null,null,null,null,null,null,null,"18.15.04.02","2015-07-28","baja"]
[null,null,"Formación de patrones en sistemas biológicos","Dra. Mayra Núñez López",null,"X",null,null,"13.13.08.12","2013-11-15","aprobación","2013-09-01","2014-08-31"]
[null,null,null,null,null,null,null,null,"01.15.10.01","2015-01-26","cancelación"]
[null,null,"Genética de la conservación y ecologla de especies focales","Dra Karla Pelz Serrano",null,"X","X","X","13.13.08.01","2013-11-15","aprobación","2013-12-01","2014-11-30"]
[null,null,null,null,null,null,null,null,"01.15.09.01","2015-01-26","corrección de fechas",null,"2015-12-31"]
[null,null,"Interacción y coexistencia entre depredadores similares con gran variación del tamaño corporal y dimorfismo sexual: Patrones poblacionales a gran escala y la importancia de los atributos","Dr. José Cuauhtémoc Chávez Tovar","X","X","X","X","13.13.08.03","2013-11-15","aprobación","2011-01-01","2016-01-31"]
[null,null,"Microbiota: una alternativa terapéutica para la mejora de la salud y el bienestar de primates en cautiverio","Dr. Augusto J . Montiel Castro",null,null,"X",null,"13.13.08.14","2013-11-15","aprobación","2014-01-01","2015-01-31"]
[null,null,null,null,null,null,null,null,"19.15.09.01","2015-10-26","baja"]
[null,null,"Obtención de enzimas de interés industrial mediante una aproximación metagenómica de la cuenca del rio Lerma.","Dr. Humberto García Arellano ",null,null,"X","X","13.13.08.04","2013-11-15","aprobación","2014-01-01","2015-12-31"]
[null,null,null,null,null,null,null,null,"19.15.11.02","2015-10-26","renovación","2016-01-01","2017-12-31"]
[null,null,"Participación de la dinámica mitocondrial en la homeostasis celular durante la diferenciación de tejidos","Dra. Paulina Cortés Hernán",null,null,"X",null,"13.13.08.13","2013-11-15","aprobación","2014-02-01","2016-01-31"]
[null,null,null,null,null,null,null,null,"01.15.09.04","2015-01-26","corrección de fechas",null,"2016-02-29"]
[null,null,null,null,null,null,null,null,"14.15.09.01","2015-06-30","baja",null,"2015-06-30"]
[null,null,"Variación de la conducta sexual de libélulas como indicador del deterioro del hábitat entre las Ciénegas de Lerma. Estado de México","Dra. Celia Oliver Morales",null,null,"X",null,"13.13.08.02","2013-11-15","aprobación","2014-01-01","2014-12-31"]
[null,null,null,null,null,null,null,null,"18.15.04.01","2015-07-28","baja"]
[null,"CSA","Análisis estructural y funcional de la proteína glucocinasa para entender mecanismos de la alteración en el metabolismo de la glucosa por mutaciones humanas","Dr Julio Lenin Domínguez Ramirez",null,"X","X",null,"13.13.08.15","2013-11-15","aprobación","2013-11-01","2015-10-31"]
[null,null,null,null,null,null,null,null,"01.15.09.05","2015-01-26","corrección de fechas",null,"2014-10-31"]
[null,null,null,null,null,null,null,null,"14.15.09.01","2015-06-30","baja"]
[null,null,"Desarrollo de la patologia de la Enfermedad de Alzheimer inducida por el consumo de una dieta rica en grasas· Evaluación de un tratamiento farmacológico preventivo","Dr. Gustavo Pacheco López",null,"X","X","X","13.13.08.17","2013-11-15","aprobación","2013-04-01","2014-07-31"]
[null,null,null,null,null,null,null,null,"01.15.09.06","2015-01-26","corrección de fechas","2013-08-01","2016-08-31"]
[null,null,"El nematodo CaenorhabiditIs elegans como modelo para la identificación y estudio de compuestos con actividad biológica sobre las vías metabólicas y mecanismos moleculares que controlan los procesos de envejecimiento y enfermedad","Dr. Silvestre De Jesús Alavez Espidio",null,null,"X","X","13.13.08.16","2013-11-15","aprobación","2014-03-01","2016-03-31"]
[null,null,"Impacto neurocognitivo de la obesidad juvenil: aproximaciones experimental y clínica.","Dr. Gustavo Pacheco Lopez.",null,null,null,"X","19.15.12.01","2015-10-26","registro","2015-12-01","2019-12-31"]
[null,null,null,null,{"$f":"COUNTA(E30:E72)","v":2},{"$f":"COUNTA(F30:F72)","v":13},{"$f":"COUNTA(G30:G72)","v":16},{"$f":"COUNTA(H30:H72)","v":12}]
["CIENCIAS SOCIALES Y HUMANIDADES","AH","Creatividad e imaginación en el arte. Modelos cognitivos para comprender el desarrollo creativo de proyectos artísticos","Dra. Gemma Argüello Manresa",null,null,"X","X",21.06,"2014-11-17","aprobación","2014-11-17"]
[null,null,"Detritus","Dra. Luz María Sánchez Cardona.",null,null,null,"X",24.06,"2015-02-04","aprobación","2015-02-04"]
[null,null,"Ventanilla única. La producción web de interfaces gráficas de usuario frente a los servicios públicos del Estado nacional","Dra. Paz Sastre Domínguez",null,null,"X","X",21.05,"2014-11-17","aprobación","2014-11-17"]
[null,"PS","Análisis de políticas públicas de seguridad pública en municipios mexiquenses: el caso de SUBSEMUN","Dra. Ma. Gabriela Martínez Tiburcio",null,null,null,"X",36.03,"2015-06-09","aprobación","2015-06-09","2018-06-08"]
[null,null,"Condiciones territoriales, cambio estructural y crecimiento económico regional y urbano de México 1988-2014.","Mtra. Mónica Adriana Sosa",null,null,null,"X","43.10","2015-12-04","aprobación","2015-12-04","2018-12-03"]
[null,null,"Diagnóstico para la implementación del piloto de las líneas directrices para una acción filantrópica más eficaz en México 2015-2016.","Mtro. Carlos Chávez Bécker",null,null,null,"X","43.11","2015-12-04","aprobación","2015-12-04","2016-12-03"]
[null,null,"Economía regional de conocimiento; modelos y métodos de análisis y medición existentes y propuestos para México","Dr. Ryszard E. Rozga Luter",null,null,null,"X",41.05,"2015-10-26","aprobación","2015-10-26","2018-10-25"]
[null,null,"Intercambio Político entre organizaciones de la sociedad civil con el gobierno. Los casos del PDHDF y las OCS del Estado de México.","Dr. Carlos Ricardo Aguilar Astorga",null,null,null,"X",43.09,"2015-12-04","aprobación","2015-12-04","2017-12-03"]
[null,null,"La eficacia del Estado y las políticas públicas.","Dr. Raúl Figueroa Romero",null,null,null,"X","43.13","2015-12-04","aprobación","2015-12-04","2016-12-03"]
[null,null,"Los Comités Ciudadanos en México. Un enfoque de política pública.","Dr. Manuel Lara Caballero ",null,null,null,"X",41.06,"2015-10-26","aprobación","2015-10-26","2018-10-25"]
[null,null,"Observatorio Metropolitano de Políticas Públicas e Incidencia (OMPPI).","Mtro. Raúl Hernández Mar",null,null,null,"X",41.07,"2015-10-26","aprobación","2015-10-26","2018-10-25"]
[null,"EC","Educación intercultural y contenidos mediáticos: acciones de intervención en el aula para formar audiencias activas favorables a la educación intercultural en el municipio de Lerma de Villada, Estado de México","Dra. Gladys Ortiz Henderson",null,null,"X","X",21.04,"2014-11-17","aprobación","2014-11-17"]
[null,null,"Jóvenes, internet y redes sociales digitales. El caso de los jóvenes estudiantes de la UAM-lerma.","Dra. Gladys Ortiz Henderson",null,null,null,"X","43.12","2015-12-04","aprobación","2015-12-04","2017-01-26"]
[null,null,null,null,{"$f":"COUNTA(E74:E86)","v":0},{"$f":"COUNTA(F74:F86)","v":0},{"$f":"COUNTA(G74:G86)","v":3},{"$f":"COUNTA(H74:H86)","v":13}]

{"sheet":"Áreas y CA","index":68,"n_rows":12,"n_cols":7,"rows_kept":12,"cut":false,"hidden":false,"merged":[[2,0,2,6],[3,2,3,6],[4,2,4,6],[6,0,6,6]]}
["INDICE"]
["ÁREAS DE INVESTIGACIÓN Y CUERPOS ACADÉMICOS"]
["ÁREAS DE INVESTIGACIÓN"]
["FECHA","ACUERDO CA-UAML"]
["2015-09-28",44.4,"Área de Investigación en Biología de la Conservación, del Departamento de Ciencias Ambientales, División de Ciencias Biológicas y de la Salud"]
[]
["CUERPOS ACADÉMICOS"]
["Clave ","Grado ","Nombre del Cuerpo Académico ","División ","Responsable","MIEMBROS","Vigencia "]
["UAM-L-CA-1","En formación ","Políticas Públicas Economía, Sociedad y Territorio ","CSH ","Manuel Lara Caballero ","Lara Caballero Manuel, Aguilar Astorga Carlos Ricardo, Figueroa Romero Raúl, Hernandez Mar Raúl","07/12/2015 al 06/12/2018"]
["UAM-L-CA-2 ","En formación ","Materiales Nanoestructurados ","CBI","Yuri Reyes Mercado ","Reyes Mercado Yuri, Arroyo Gómez Maricela, Garcia Fontes Adolfo, Hernandez Zapata Ernesto, López Maldonado Guillermo, Perez Martinez Francisco, Salazar Laureles José Luis","07/12/2015 al 06/12/2018"]
["UAM-L-CA-3","En formación ","Transporte, Destino y Tratamiento de Contaminantes ","CBI","Ricardo Beristain Cardoso ","Beristain Cardoso Ricardo, Lopez Galván Edgar, Mendoza Reséndiz Alejandro, Reyes Gutiérrez Lázaro Raymundo, Lopez Galván Edgar, Domínguez Mariani Eloísa, Soto Cortes Gabriel","07/12/2015 al 06/12/2018"]
["UAM-L-CA-4","En formación ","Gobernanza , Participación Ciudadana, Cohesión y Capital Social en los Ámbitos Urbano y Rural","CSH ","Carlos Chávez Becker ","Chávez Becker Carlos Gabriel, Martínez González Alejandro Natal, Martínez Tiburcio María Gabriela, Blásquez Martinez Lidia Ivonne","07/12/2015 al 06/12/2018"]

{"sheet":"Cuerpos Académicos Comp","index":69,"n_rows":22,"n_cols":9,"rows_kept":22,"cut":false,"hidden":false,"merged":[[17,0,19,0],[18,1,19,1],[5,1,6,1],[4,0,6,0],[8,0,10,0],[9,1,10,1],[12,0,14,0],[13,1,14,1]]}
["INDICE"]
["CUERPOS ACADÉMICOS (grado que PROMEP reconoce)"]
[]
["UNIDAD","Reconocimiento","DIVISIÓN",2011,2012,2013,2014,2015]
["Lerma","PTC defs","Total",6,12,21,28,45]
["Lerma","PROMEP","TOTAL",0,0,0,0,4]
["Lerma",null,"Tot/PTC",{"$f":"D6/D$5","v":0},{"$f":"E6/E$5","v":0},{"$f":"F6/F$5","v":0},{"$f":"G6/G$5","v":0},{"$f":"H6/H$5","v":8.8888888888888892E-2}]
[]
["Cuajimalpa","PTC defs","Total",119,130,134,143,147]
[null,"PROMEP","TOTAL",27,30,29,28,31]
[null,null,"Tot/PTC",{"$f":"D10/D$9","v":0.22689075630252101},{"$f":"E10/E$9","v":0.23076923076923078},{"$f":"F10/F$9","v":0.21641791044776118},{"$f":"G10/G$9","v":0.19580419580419581},{"$f":"H10/H$9","v":0.21088435374149661}]
[]
["UAM","PTC defs","Total",2623,2663,2705,2759,2743]
[null,"PROMEP","TOTAL",286,286,282,277,279]
[null,null,"Tot/PTC",{"$f":"D14/D$13","v":0.10903545558520777},{"$f":"E14/E$13","v":0.10739767179872324},{"$f":"F14/F$13","v":0.10425138632162662},{"$f":"G14/G$13","v":0.10039869517941283},{"$f":"H14/H$13","v":0.1017134524243529}]
[]
[null,null,null,2005,2006,2007,2008,2009,2010]
["Cuajimalpa","PTC defs","Total",13,22,52,70,82,103]
[null,"PROMEP","TOTAL",0,7,9,15,18,20]
[null,null,"Tot/PTC",{"$f":"D19/D$18","v":0},0.31818181818181818,0.17307692307692307,0.21428571428571427,0.21951219512195122,0.1941747572815534]
[]
["Fuentes: Catálogo de Profesores de Tiempo Completo del PROMEP; CONACyT"]

{"sheet":"TIPPA Prod Cientif","index":70,"n_rows":20,"n_cols":27,"rows_kept":20,"cut":false,"hidden":false,"merged":[[16,0,18,0],[7,0,14,0],[3,0,5,0],[2,23,2,24],[2,25,2,26],[2,3,2,4],[2,13,2,14],[2,15,2,16],[2,17,2,18],[2,19,2,20],[2,21,2,22],[2,5,2,6],[2,7,2,8],[2,9,2,10],[2,11,2,12]]}
["INDICE"]
["ACTIVIDADES ACADÉMICAS RELACIONADAS CON LA INVESTIGACIÓN POR AÑO DE EVALUACIÓN"]
["Unidad","Año de evaluación","PTC defs","TOTAL DE ACTIVIDADES EVALUADAS",null,"Reporte de investigación o técnico",null,"Artículo especializado de investigación",null,"Edición de libro colectivo",null,"Libro científico",null,"Patentes registro y aceptación de forma para solicitar examen de novedad",null,"Expedición de título de patente",null,"Trabajos presentados en eventos especializados",null,"Conferencias magistrales presentadas en eventos especializados",null,"Prototipos o modelos innovadores",null,"Paquetes computacionales",null,"Asesoría de proyectos de investigación"]
["LERMA",2013,28,24,{"$f":"D4/$C4","v":0.8571428571428571},1,{"$f":"F4/$C4","v":3.5714285714285712E-2},18,{"$f":"H4/$C4","v":0.6428571428571429},0,{"$f":"J4/$C4","v":0},null,{"$f":"L4/$C4","v":0},null,{"$f":"N4/$C4","v":0},null,{"$f":"P4/$C4","v":0},5,{"$f":"R4/$C4","v":0.17857142857142858},null,{"$f":"T4/$C4","v":0},null,{"$f":"V4/$C4","v":0},null,{"$f":"X4/$C4","v":0},null,{"$f":"Z4/$C4","v":0}]
[null,2014,36,80,{"$f":"D5/$C5","v":2.2222222222222223},8,{"$f":"F5/$C5","v":0.22222222222222221},24,{"$f":"H5/$C5","v":0.66666666666666663},0,{"$f":"J5/$C5","v":0},0,{"$f":"L5/$C5","v":0},0,{"$f":"N5/$C5","v":0},0,{"$f":"P5/$C5","v":0},42,{"$f":"R5/$C5","v":1.1666666666666667},4,{"$f":"T5/$C5","v":0.1111111111111111},0,{"$f":"V5/$C5","v":0},1,{"$f":"X5/$C5","v":2.7777777777777776E-2},1,{"$f":"Z5/$C5","v":2.7777777777777776E-2}]
[null,2015,42,138,{"$f":"D6/$C6","v":3.2857142857142856},7,{"$f":"F6/$C6","v":0.16666666666666666},57,{"$f":"H6/$C6","v":1.3571428571428572},0,{"$f":"J6/$C6","v":0},2,{"$f":"L6/$C6","v":4.7619047619047616E-2},0,{"$f":"N6/$C6","v":0},0,{"$f":"P6/$C6","v":0},63,{"$f":"R6/$C6","v":1.5},9,{"$f":"T6/$C6","v":0.21428571428571427},0,{"$f":"V6/$C6","v":0},0,{"$f":"X6/$C6","v":0},0,{"$f":"Z6/$C6","v":0}]
[]
["UAM-C",2007,52,139,{"$f":"D8/$C8","v":2.6730769230769229},4,{"$f":"F8/$C8","v":7.6923076923076927E-2},55,{"$f":"H8/$C8","v":1.0576923076923077},0,{"$f":"J8/$C8","v":0},1,{"$f":"L8/$C8","v":1.9230769230769232E-2},1,{"$f":"N8/$C8","v":1.9230769230769232E-2},0,{"$f":"P8/$C8","v":0},57,{"$f":"R8/$C8","v":1.0961538461538463},18,{"$f":"T8/$C8","v":0.34615384615384615},0,{"$f":"V8/$C8","v":0},1,{"$f":"X8/$C8","v":1.9230769230769232E-2},2,{"$f":"Z8/$C8","v":3.8461538461538464E-2}]
[null,2008,70,396,{"$f":"D9/$C9","v":5.6571428571428575},9,{"$f":"F9/$C9","v":0.12857142857142856},151,2.157142857142857,0,0,9,0.12857142857142856,0,0,2,2.8571428571428571E-2,182,2.6,36,0.51428571428571423,0,0,1,1.4285714285714285E-2,6,8.5714285714285715E-2]
[null,2009,82,349,{"$f":"D10/$C10","v":4.2560975609756095},19,0.23170731707317074,119,1.4512195121951219,0,0,9,0.10975609756097561,0,0,2,2.4390243902439025E-2,140,1.7073170731707317,50,0.6097560975609756,0,0,1,1.2195121951219513E-2,9,0.10975609756097561]
[null,2010,103,632,{"$f":"D11/$C11","v":6.1359223300970873},38,0.36893203883495146,208,2.0194174757281553,0,0,13,0.12621359223300971,1,9.7087378640776691E-3,2,1.9417475728155338E-2,303,2.941747572815534,47,0.4563106796116505,5,4.8543689320388349E-2,null,0,15,0.14563106796116504]
[]
[null,2013,134,929,{"$f":"D13/$C13","v":6.9328358208955221},50,0.37313432835820898,309,2.3059701492537314,0,0,10,7.4626865671641784E-2,1,7.462686567164179E-3,0,0,480,3.5820895522388061,55,0.41044776119402987,13,9.7014925373134331E-2,1,7.462686567164179E-3,10,7.4626865671641784E-2]
[null,2014,143,687,{"$f":"D14/$C14","v":4.8041958041958042},34,0.23776223776223776,237,1.6573426573426573,0,0,10,6.9930069930069935E-2,1,6.993006993006993E-3,2,1.3986013986013986E-2,358,2.5034965034965033,34,0.23776223776223776,5,3.4965034965034968E-2,0,0,6,4.195804195804196E-2]
[null,2015,147,1028,{"$f":"D15/$C15","v":6.9931972789115644},38,0.25850340136054423,366,2.489795918367347,0,0,11,7.4829931972789115E-2,0,0,1,6.8027210884353739E-3,535,3.639455782312925,72,0.48979591836734693,1,6.8027210884353739E-3,0,0,4,2.7210884353741496E-2]
[]
["UAM",2013,2705,16010,{"$f":"D17/$C17","v":5.9186691312384472},1610,0.59519408502772642,4346,1.6066543438077634,0,0,161,5.9519408502772646E-2,35,1.2939001848428836E-2,21,7.763401109057301E-3,8737,3.2299445471349353,832,0.30757855822550834,119,4.3992606284658044E-2,28,1.0351201478743069E-2,121,4.4731977818853977E-2]
[null,2014,2759,16334,{"$f":"D18/$C18","v":5.9202609641174337},1540,0.55817325117796301,4334,1.5708590068865531,0,0,130,4.711852120333454E-2,22,7.9739035882566145E-3,17,6.1616527727437476E-3,9276,3.3620877129394708,827,0.29974628488582822,43,1.5585357013410656E-2,11,3.9869517941283072E-3,134,4.8568321855744834E-2]
[null,2015,2743,16438,{"$f":"D19/$C19","v":5.9927087130878602},1410,0.51403572730586944,4634,1.6893911775428363,0,0,113,4.1195771053590957E-2,21,7.6558512577469921E-3,22,8.0204156033539913E-3,9179,3.3463361283266497,817,0.29784907036091868,68,2.4790375501275976E-2,14,5.1039008384979948E-3,160,{"$f":"Z19/$C19","v":5.8330295297119944E-2}]
["Fuente:","Informe del Rector General 2015 - Anexo estadístico"]

{"sheet":"TIPPA Prod Total","index":71,"n_rows":20,"n_cols":17,"rows_kept":20,"cut":false,"hidden":false,"merged":[[3,0,5,0],[7,0,14,0],[16,0,18,0],[2,15,2,16],[2,3,2,4],[2,5,2,6],[2,7,2,8],[2,9,2,10],[2,11,2,12],[2,13,2,14]]}
["INDICE"]
["ACTIVIDADES EVALUADAS POR LAS COMISIONES DICTAMINADORAS"]
["Unidad","Año de evaluación","PTC defs","TOTAL DE ACTIVIDADES EVALUADAS",null,"Docencia",null,"Investigación",null,"Preservación y difusión de la cultura",null,"Dirección Académica",null,"Participación Universitaria",null,"Creacion artística"]
["LERMA",2013,28,71,2.5357142857142856,31,1.1071428571428572,24,0.8571428571428571,14,0.5,0,0,2,7.1428571428571425E-2,0,0]
[null,2014,36,253,7.0277777777777777,98,2.7222222222222223,80,2.2222222222222223,68,1.8888888888888888,0,0,7,0.19444444444444445,0,0]
[null,2015,42,421,10.023809523809524,162,3.8571428571428572,138,3.2857142857142856,110,2.6190476190476191,3,7.1428571428571425E-2,8,0.19047619047619047,0,0]
[]
["UAM-C",2007,52,845,16.25,432,8.3076923076923084,139,2.6730769230769229,204,3.9230769230769229,27,0.51923076923076927,35,0.67307692307692313,8,0.15384615384615385]
[null,2008,70,1841,26.3,769,10.985714285714286,396,5.6571428571428575,524,7.4857142857142858,34,0.48571428571428571,112,1.6,6,8.5714285714285715E-2]
[null,2009,82,1656,20.195121951219512,596,7.2682926829268295,420,5.1219512195121952,479,5.8414634146341466,41,0.5,112,1.3658536585365855,8,9.7560975609756101E-2]
[null,2010,103,2465,23.932038834951456,930,9.0291262135922334,632,6.1359223300970873,615,5.9708737864077666,62,0.60194174757281549,205,1.9902912621359223,21,0.20388349514563106]
[null,null,null,null,null,0,null,0,null,0,null,0,null,0,null,0]
[null,2013,134,3834,28.611940298507463,1574,11.746268656716419,929,6.9328358208955221,1028,7.6716417910447765,23,0.17164179104477612,239,1.7835820895522387,41,0.30597014925373134]
[null,2014,143,2876,20.111888111888113,1297,9.06993006993007,687,4.8041958041958042,637,4.4545454545454541,9,6.2937062937062943E-2,213,1.4895104895104896,33,0.23076923076923078]
[null,2015,147,3917,26.646258503401359,1619,11.013605442176871,1028,6.9931972789115644,974,6.6258503401360542,21,0.14285714285714285,241,1.6394557823129252,34,0.23129251700680273]
[null,null,null,null,null,0,null,0,null,0,null,0,null,0,null,0]
["UAM",2013,2705,57321,21.19075785582255,25434,9.4025878003696857,16010,5.9186691312384472,12668,4.6831792975970421,376,0.13900184842883548,2229,0.82402957486136785,604,0.22329020332717189]
[null,2014,2759,56082,20.32693004711852,24059,8.7201884740848126,16334,5.9202609641174337,12500,4.5306270387821677,341,0.12359550561797752,2230,0.80826386371873871,618,0.22399420079739035]
[null,2015,2743,57178,20.845060153117025,24163,8.8089682829019313,16438,5.9927087130878602,13257,4.8330295297119941,411,0.14983594604447684,2206,0.80422894640904119,703,0.25628873496172072]
["Fuente:","Informe del Rector General 2015 - Anexo estadístico"]

{"sheet":"Patentes","index":72,"n_rows":4,"n_cols":7,"rows_kept":4,"cut":false,"hidden":false,"merged":[[1,0,1,6]]}
["INDICE"]
["PATENTES SOLICITADAS POR PROFESORES DE LA UAM-L\n(La solicitud debe haberse realizado mietras el profesor está adscrito a la Unidad Lerma)"]
["DIVISIÓN","DEPARTAMENTO","SOLICITUD","INSTANCIA","EXPEDIENTE","TÍTULO","INVENTORES"]
["CBI","RT",2015,"Instituto Mexicano de la Propiedad Industrial","MX/a/2015/016654","Matriz termoplástica de polímeros biodegradables para la remoción de metales pesados en proceso continuo","Concepción Keiko Shirai Matsumoto, Oscar Velasco Garduño, Miquel Gimeno seco y Beristain-Cardoso Ricardo."]

{"sheet":"Contratos y Convenios","index":73,"n_rows":44,"n_cols":7,"rows_kept":44,"cut":false,"hidden":false,"merged":[[37,0,41,0],[3,0,7,0],[9,0,13,0],[15,0,19,0],[25,0,29,0],[31,0,35,0]]}
["INDICE"]
["CONVENIOS Y CONTRATOS"]
[null,"Unidad",2012,2013,2014,2015,"Promedio Anual"]
["CONVENIOS Y CONTRATOS","Azcapotzalco",50,23,94,122,{"$f":"AVERAGE(C4:F4)","v":72.25}]
[null,"Cuajimalpa",29,38,26,55,{"$f":"AVERAGE(C5:F5)","v":37}]
[null,"Iztapalapa",366,115,234,286,250.25]
[null,"Lerma",0,10,19,20,12.25]
[null,"Xochimilco",166,135,194,151,161.5]
[]
["PROFESORES DEFINITIVOS TC","Azcapotzalco",1009,1019,1039,1016,1020.75]
[null,"Cuajimalpa",135,140,150,155,145]
[null,"Iztapalapa",899,906,917,904,906.5]
[null,"Lerma",12,21,28,45,26.5]
[null,"Xochimilco",961,964,982,973,970]
[]
["CONVENIOS POR PROFESOR","Azcapotzalco",{"$f":"C4/C10","v":4.9554013875123884E-2},2.2571148184494603E-2,9.0471607314725699E-2,0.12007874015748031,7.066887738295613E-2]
[null,"Cuajimalpa",0.21481481481481482,0.27142857142857141,0.17333333333333334,0.35483870967741937,{"$f":"AVERAGE(C17:F17)","v":0.25360385731353474}]
[null,"Iztapalapa",0.40711902113459397,0.12693156732891833,0.25517993456924754,0.3163716814159292,0.27640055111217227]
[null,"Lerma",0,0.47619047619047616,0.6785714285714286,0.44444444444444442,0.39980158730158727]
[null,"Xochimilco",0.17273673257023933,0.14004149377593361,0.19755600814663951,0.15519013360739981,0.16638109202505308]
[]
["Informe del Rector General 2015 - Anexo estadístico"]
[]
["CONVENIOS Y CONTRATOS PATROCINADOS"]
[null,"Unidad",2012,2013,2014,2015,"Promedio Anual"]
["CONVENIOS Y CONTRATOS PATROCINADOS","Azcapotzalco",42,19,86,110,{"$f":"AVERAGE(C26:F26)","v":64.25}]
[null,"Cuajimalpa",3,31,23,54,{"$f":"AVERAGE(C27:F27)","v":27.75}]
[null,"Iztapalapa",312,76,209,254,{"$f":"AVERAGE(C28:F28)","v":212.75}]
[null,"Lerma",0,7,18,13,{"$f":"AVERAGE(C29:F29)","v":9.5}]
[null,"Xochimilco",78,47,133,122,{"$f":"AVERAGE(C30:F30)","v":95}]
[]
["PROFESORES DEFINITIVOS TC","Azcapotzalco",1009,1019,1039,1016,{"$f":"AVERAGE(C32:F32)","v":1020.75}]
[null,"Cuajimalpa",135,140,150,155,{"$f":"AVERAGE(C33:F33)","v":145}]
[null,"Iztapalapa",899,906,917,904,{"$f":"AVERAGE(C34:F34)","v":906.5}]
[null,"Lerma",12,21,28,45,{"$f":"AVERAGE(C35:F35)","v":26.5}]
[null,"Xochimilco",961,964,982,973,{"$f":"AVERAGE(C36:F36)","v":970}]
[]
["CONVENIOS PATROCINADOS POR PROFESOR","Azcapotzalco",{"$f":"C26/C32","v":4.1625371655104063E-2},1.8645731108930325E-2,8.2771896053897981E-2,0.10826771653543307,{"$f":"AVERAGE(C38:F38)","v":6.2827678838341366E-2}]
[null,"Cuajimalpa",2.2222222222222223E-2,0.22142857142857142,0.15333333333333332,0.34838709677419355,{"$f":"AVERAGE(C39:F39)","v":0.18634280593958014}]
[null,"Iztapalapa",0.34705228031145718,8.3885209713024281E-2,0.22791712104689205,0.28097345132743362,{"$f":"AVERAGE(C40:F40)","v":0.23495701559970178}]
[null,"Lerma",0,0.33333333333333331,0.6428571428571429,0.28888888888888886,{"$f":"AVERAGE(C41:F41)","v":0.31626984126984126}]
[null,"Xochimilco",8.1165452653485959E-2,4.8755186721991702E-2,0.1354378818737271,0.12538540596094552,{"$f":"AVERAGE(C42:F42)","v":9.7685981802537569E-2}]
[]
["Informe del Rector General 2015 - Anexo estadístico"]

{"sheet":"Patrocinios","index":74,"n_rows":9,"n_cols":9,"rows_kept":9,"cut":false,"hidden":false,"merged":[]}
["INDICE"]
["PATROCINIOS"]
["Patrocinador","Titulo","Responsable(s)","Div","Depto","Monto UAML","Monto Patrocinador","Observaciones"]
["CONANAP","CONSERVACIÓN DEL JAGUAR Y OTROS FELINOS EN LA RESERVA DE LA BIOSFERA LA ENCRUCIJADA Y EN EL SISTEMA ESTUARINO DE PUERTO ARISTA","JOSÉ CUAHUTÉMOC CHÁVEZ ","CBS","CAM",null,283500,"Convenio Patrocinado",{"$f":"SUM(G7:G8)","v":881034}]
["CONACyT","(260608) Laboratorio Nacional de Investigación en Imagenología e Instrumentación Médica: Consolidación de nuevas Unidades","GUSTAVO PACHECO LOPEZ","CBS","CSA",1000000,2711607,"Apoyos complementarios para el Establecimiento y Consolidación de Laboratorios Nacionales CONACYT 2015-2, en concurrencia con CI3M(UAMI) y TecMont"]
["CONACyT","POSTULACIÓN PARA INVESTIGADOR REPATRIADO, EFECTOS DE LA ESTIMULACIÓN MAGNÉTICA TRANSCRANEAL TIPO THETA BRUTS INTERMITENTE (Itbs) SOBRE LA CORTEZA MOTORA PRIMARIA (M1) PARA EL TRATAMIENTO DEL INFARTO CEREBRAL AGUDO UNILATERAL ","GUSTAVO PACHECO LOPEZ","CBS","CSA",null,99170,"CONACYT-REPATRIACIÓN "]
["INDESOL","EVALUACIÓN EN MATERIA DE DISEÑO DEL PROGRAMA DE COINVERSION SOCIAL 2014","DR. HUMBERTO MUÑOZ GRANDE/ DR. CARLOS CHÁVEZ BECKER","CSH","PS",null,450000,"Convenio Patrocinado"]
["ISSSTE","IDENTIFICACIÓN Y ANÁLISIS DE LOS PROCESOS SUSTANTIVOS DEL PROGRAMA PRESUPUESTARIO E-045, PRESTACIONES ECONÓMICAS, CULTURALES Y SOCIALES. ","RAÚL HERNÁNDEZ MAR ","CSH","PS",null,431034,"CONTRATO  DE PRESTACIÓN DE SERVICIOS "]
[null,null,null,null,null,null,{"$f":"SUM(G4:G8)","v":3975311}]

{"sheet":"Recursos Ext","index":75,"n_rows":25,"n_cols":19,"rows_kept":25,"cut":false,"hidden":false,"merged":[[3,0,7,0],[18,0,22,0],[13,0,17,0],[8,0,12,0],[3,7,7,7],[8,7,12,7],[13,7,17,7],[18,7,22,7]]}
["INDICE"]
["INGRESOS POR APOYOS EXTERNOS "]
["AÑO","División","CONACyT","SEP","Convenios","TOTAL",null,"AÑO","División","CONACyT","SEP","Convenios","TOTAL",null,"AÑO","CONACyT","SEP","Convenios","TOTAL"]
[2015,"CBI",0,40000,0,40000,null,2015,"CBI",0,40000,0,40000,null,2015,{"$f":"C8","v":9264572.0199999996},{"$f":"D8","v":490087},1353729.26,{"$f":"F8","v":11108388.279999999}]
[null,"CBS",384169.98,450087,283500,1117756.98,null,null,"CBS",384169.98,450087,283500,1117756.98,null,2014,{"$f":"C13","v":1924698},{"$f":"D13","v":864561},0,{"$f":"F13","v":2789259}]
[null,"CSH",0,0,1053056.8500000001,1053056.8500000001,null,null,"CSH",0,0,1053056.8500000001,1053056.8500000001,null,2013,{"$f":"C18","v":1134919.05},{"$f":"D18","v":0},0,{"$f":"F18","v":1134919.05}]
[null,"Rectoría",8880402.0399999991,0,17172.41,8897574.4499999993,null,null,"Rectoría",8880402.0399999991,0,17172.41,8897574.4499999993,null,2012,{"$f":"C23","v":308290},{"$f":"D23","v":8692250},300142.86,{"$f":"F23","v":9300682.8599999994}]
[null,"Total",9264572.0199999996,490087,1353729.26,11108388.279999999]
[2014,"CBI",null,80000,null,80000,null,2014,"CBI",null,80000,null,80000]
[null,"CBS",1714698,null,null,1714698,null,null,"CBS",1714698,null,null,1714698]
[null,"CSH",210000,784561,null,994561,null,null,"CSH",210000,784561,null,994561]
[null,"Rectoría",null,null,null,null,null,null,"Rectoría"]
[null,"Total",1924698,864561,0,2789259]
[2013,"CBI",null,null,null,null,null,2013,"CBI"]
[null,"CBS",923719.05,null,null,923719.05,null,null,"CBS",923719.05,null,null,923719.05]
[null,"CSH",null,null,null,null,null,null,"CSH"]
[null,"Rectoría",211200,null,null,211200,null,null,"Rectoría",211200,null,null,211200]
[null,"Total",1134919.05,null,null,1134919.05]
[2012,"CBI",0,3828750,0,3828750,null,2012,"CBI",0,3828750,0,3828750]
[null,"CBS",308290,2928750,300142.86,3537182.86,null,null,"CBS",308290,2928750,300142.86,3537182.86]
[null,"CSH",0,1934750,0,1934750,null,null,"CSH",0,1934750,0,1934750]
[null,"Rectoría",null,null,null,null,null,null,"Rectoría"]
[null,"TOTAL",308290,8692250,300142.86,9300682.8599999994]
[]
["Informe del Rector General 2015 - Anexo estadístico"]

{"sheet":"Recursos Ext Comp","index":76,"n_rows":23,"n_cols":7,"rows_kept":23,"cut":false,"hidden":false,"merged":[[15,0,19,0],[3,0,7,0],[9,0,13,0]]}
["INDICE"]
["COMPARATIVO DE INGRESOS POR APOYOS EXTERNOS "]
[null,"Unidad",2012,2013,2014,2015,"Promedio Anual"]
["INGRESOS","Azcapotzalco",53854441.340000004,25051034.060000002,27000180.890000001,32822519.149999999,{"$f":"AVERAGE(C4:F4)","v":34682043.859999999}]
[null,"Cuajimalpa",26537323.039999999,9025410.879999999,7577018.8499999996,18889129.920000002,{"$f":"AVERAGE(C5:F5)","v":15507220.672500001}]
[null,"Iztapalapa",290857708.01999998,111651980.38000001,158392573.67999998,186470481.18000001,186843185.815]
[null,"Lerma",9300682.8599999994,1134919.05,2789259,11108388.279999999,6083312.2974999994]
[null,"Xochimilco",100008008.77,64530719,50970941.409999996,61110145.519999996,69154953.674999997]
[]
["PROFESORES DEFINITIVOS TC","Azcapotzalco",1009,1019,1039,1016,1020.75]
[null,"Cuajimalpa",135,140,150,155,145]
[null,"Iztapalapa",899,906,917,904,906.5]
[null,"Lerma",12,21,28,45,26.5]
[null,"Xochimilco",961,964,982,973,970]
[]
["INGRESO POR PROFESOR","Azcapotzalco",{"$f":"C4/C10","v":53374.074667988112},24583.939214916587,25986.6996053898,32305.629084645669,34062.585643235041]
[null,"Cuajimalpa",196572.76325925926,64467.220571428566,50513.458999999995,121865.35432258065,{"$f":"AVERAGE(C17:F17)","v":108354.69928831712}]
[null,"Iztapalapa",323534.71414905449,123236.1814348786,172729.08798255178,206272.65617256638,206443.15993476281]
[null,"Lerma",775056.90499999991,54043.764285714286,99616.392857142855,246853.07288888888,293892.53375793644]
[null,"Xochimilco",104066.60642039542,66940.57987551867,51905.235651731156,62805.904953751284,71429.58172534914]
[]
[]
["Informe del Rector General 2015 - Anexo estadístico"]

{"sheet":"Actividades deportivas","index":77,"n_rows":303,"n_cols":17,"rows_kept":303,"cut":false,"hidden":false,"merged":[[2,0,2,2],[2,4,2,6],[2,8,2,11],[3,0,3,2],[3,4,3,6],[3,8,4,8],[3,9,4,9],[3,10,3,11],[4,0,5,0],[4,1,5,1],[11,8,14,8],[11,9,14,9],[11,10,14,10],[11,11,14,11],[15,0,16,2],[37,8,37,11],[4,2,5,2],[4,4,5,4],[4,5,5,5],[4,6,5,6],[5,8,6,8],[8,8,9,8],[41,9,44,9],[41,10,44,10],[41,11,44,11],[42,8,44,8],[45,9,49,9],[45,10,49,10],[45,11,49,11],[46,8,49,8],[38,8,39,8],[38,9,39,9],[38,10,38,11],[59,8,59,9],[72,8,72,11],[73,8,74,8],[73,9,74,9],[73,10,73,11],[50,8,51,8],[53,8,54,8],[56,8,58,8],[56,9,58,9],[56,10,58,10],[56,11,58,11],[115,8,115,11],[93,8,94,8],[93,10,94,10],[93,11,94,11],[95,8,97,8],[95,10,97,10],[95,11,97,11],[76,9,80,9],[76,10,92,10],[76,11,92,11],[77,8,80,8],[81,9,92,9],[124,8,129,8],[130,9,131,9],[130,10,139,10],[119,9,120,9],[119,10,129,10],[119,11,129,11],[120,8,123,8],[121,9,129,9],[116,8,117,8],[116,9,117,9],[116,10,116,11],[142,8,144,8],[142,10,144,10],[142,11,144,11],[130,11,139,11],[131,8,139,8],[132,9,139,9],[140,8,141,8],[140,10,141,10],[140,11,141,11],[159,9,160,9],[159,10,160,10],[159,11,160,11],[164,8,164,9],[187,8,187,11],[159,8,160,8],[154,8,154,11],[155,8,156,8],[155,9,156,9],[155,10,155,11],[217,8,217,11],[218,8,219,8],[218,9,219,9],[218,10,218,11],[219,13,229,13],[225,8,225,9],[188,8,189,8],[188,9,189,9],[188,10,188,11],[275,13,280,13],[281,13,289,13],[290,13,301,13],[302,13,302,14],[230,13,235,13],[236,13,245,13],[246,13,260,13],[261,13,261,14],[264,8,264,11],[265,8,266,8],[265,9,266,9],[265,10,265,11],[265,13,274,13],[272,8,272,9]]}
["INDICE"]
["ACTIVIDADES DEPORTIVAS"]
["Nivel 1: Al interior de las Unidades Académicas 2015",null,null,null,"Nivel 1: Al interior de las Unidades Académicas 2015",null,null,null,"Nivel 2: Entre las Unidades académicas 2015"]
["a) Torneos Internos y externos*",null,null,null,"b) Servicios proporcionados a la Comunidad Universitaria *",null,null,null,"ACTIVIDAD","PERIODICIDAD","NO. DE BENEFICIARIOS"]
["DISCIPLINA","NO. DE TORNEOS","NO. PARTICIPANTES",null,"ACTIVIDAD","NO. DE SERVICIOS","NO. DE BENEFICIARIOS",null,null,null,"PARTICIPANTES","ESPECTADORES"]
[null,null,null,null,null,null,null,null,"Serial Atlético \"Corriendo por la UAM\"","Cua. 23 Sept."]
["Torneo de Fútbol 7 \"Varonil\"",3,258,null,"Ajedrez (Programa de entrenamientos)",1,28,null,null,"Ler. 1 Oct."]
["Torneo Fútbol 7 \"Femenil\"",3,182,null," Baloncesto (Programa de entrenamientos)",4,50,null,"Caminando por la UAM","Azc. 16 Oct.",5987,7150]
["Torneo Baloncesto 2 Vs. 2 \"Varonil\" ",2,40,null,"Box (Progama fitness)",1,8,null,"Corriendo por la UAM","Xoc. 30 Oct.",3846,7150]
["Torneo Baloncesto 2 Vs. 2 \"Femenil\" ",1,18,null,"Desfiles cívicos ",2,60,null,null,"Izt. 13 Nov."]
["Torneo Voleibol 3 Vs. 3 \"Mixto\" ",2,41,null,"Evaluaciones Físicas",7,272,null,"Convivencia Deportiva"]
["Torneo de la sustentabilidad (Carrera en bici, futenis y ajedrez)",1,80,null,"Fútbol Soccer (Programa de entrenamientos)",3,70,null,"Ajedrez,Baloncesto, Fútbol Asociación, Fútbol Bardas, Halterofilia, karate Do, Tae kwon do, Tenis, Tenis de mesa, Voleibol de playa y Voleibol de sala","Octubre",1133,4450]
["* Torneo Tec Mienio (baloncesto var y fem, voleibol fem,futbol 7 var y fem)",1,40,null,"Fútbol Rápido (Programa de entrenamientos)",4,52]
["* Torneo Universidad del Bicentenario (baloncesto var, futbol 7 var y fem)",1,25,null,"Rally \"Bienvenida nuevo ingreso\"",1,180]
["TOTAL",{"$f":"SUM(B7:B14)","v":14},{"$f":"SUM(C7:C14)","v":684},null,"Spinning (Progama fitness)",2,22]
["Estos servicios se cuentan por usuario atendido, que en algunos casos se repite.",null,null,null,"Voleibol (Programa de entrenamientos)",2,38]
[null,null,null,null,"Zumba (Programa fitness)",2,25,null,null,"TOTAL",{"$f":"SUM(K6:K14)","v":10966},18750]
[null,null,null,null,"TOTAL",{"$f":"SUM(F7:F17)","v":29},{"$f":"SUM(G7:G17)","v":805}]
[]
[]
[]
[]
[]
[]
[]
[]
[]
[]
[]
[]
[]
[]
[]
[]
[]
[]
[]
[null,null,null,null,null,null,null,null,"Nivel 2: Entre las Unidades académicas 2014"]
[null,null,null,null,null,null,null,null,"ACTIVIDAD","PERIODICIDAD","No. de benefiviarios"]
[null,null,null,null,null,null,null,null,null,null,"Participantes","Espectadores"]
[]
[null,null,null,null,null,null,null,null,"FestiUAM","Septiembre - Diciembre",1876,2755]
[null,null,null,null,null,null,null,null,"Simultáneas de Ajedrez, Dominó, Fútbol Coladeritas, Voleibol de Pasto, Juegos de Destreza, Tenis de Mesa y Karaoke"]
[]
[]
[null,null,null,null,null,null,null,null,"Olimpiada UAM 2011","Septiembre y Octubre",1009,2480]
[null,null,null,null,null,null,null,null,"Competencia de Fuerza, Voleibol de Playa, Tenis, Ajedrez, Fútbol de Bardas, Baloncesto, Fútbol Asociación y Tenis de Mesa"]
[]
[]
[]
[null,null,null,null,null,null,null,null,"Serial Atlético \"Corriendo por la UAM\"","Ler. 12 Sept."]
[null,null,null,null,null,null,null,null,null,"Cua. 18 Sept"]
[null,null,null,null,null,null,null,null,"Caminando por la UAM","Azc. 10 Oct.",4332,7350]
[null,null,null,null,null,null,null,null,"Corriendo por la UAM","Xoc. 24 Oct.",4975,7350]
[null,null,null,null,null,null,null,null,null,"Izt. 14 Nov."]
[null,null,null,null,null,null,null,null,"Convivencia Deportiva"]
[null,null,null,null,null,null,null,null,"Fútbol Asociación, Baloncesto, Voleibol, Fútbol Bardas, Karate do, Tae kwon do","Octubre",777,2300]
[]
[]
[null,null,null,null,null,null,null,null,"TOTAL",null,{"$f":"SUM(K42:K59)","v":12969},{"$f":"SUM(L42:L59)","v":22235}]
[]
[]
[]
[]
[]
[]
[]
[]
[]
[]
[]
[]
[null,null,null,null,null,null,null,null,"Nivel 2: Entre las Unidades académicas 2013"]
[null,null,null,null,null,null,null,null,"ACTIVIDAD","PERIODICIDAD","BENEFICIARIOS"]
[null,null,null,null,null,null,null,null,null,null,"Participantes","Espectadores"]
[]
[null,null,null,null,null,null,null,null,"Convivencia Deportiva 2013","Junio, Septiembre y Octubre 2013",1044,{"$f":"4840-1044","v":3796}]
[null,null,null,null,null,null,null,null,"Paticipan los equipos representativos de las 5 Unidades Académicas de la UAM en los siguientes deportes: "]
[]
[]
[]
[null,null,null,null,null,null,null,null,"1.- Ajedrez ","Sede de los eventos: Las instalaciones de las Unidades Académicas"]
[null,null,null,null,null,null,null,null,"2.- Atletismo"]
[null,null,null,null,null,null,null,null,"3.- Baloncesto"]
[null,null,null,null,null,null,null,null,"4.- Fútbol Asociación"]
[null,null,null,null,null,null,null,null,"5.- Fútbol Rápid"]
[null,null,null,null,null,null,null,null,"6.- Karate Do"]
[null,null,null,null,null,null,null,null,"7.- Lev. Olímpico de Pesas"]
[null,null,null,null,null,null,null,null,"8.- Tae Kwon Do"]
[null,null,null,null,null,null,null,null,"9.- Tenis "]
[null,null,null,null,null,null,null,null,"10.- Tenis de Mesa"]
[null,null,null,null,null,null,null,null,"11.- Voleibol de Playa"]
[null,null,null,null,null,null,null,null,"12.- Voleibol de Sala"]
[null,null,null,null,null,null,null,null,"Serial Atlético \"Corriendo por la UAM\" 2013","Lerma 4 de Septiembre",4580,6460]
[null,null,null,null,null,null,null,null,null,"Cuajimalpa 13 de Septiembre"]
[null,null,null,null,null,null,null,null,"Serial Atlético \"Caminando por la UAM\" 2013","Azcapotzalco 27 de Septiembre",3231,6460]
[null,null,null,null,null,null,null,null,null,"Xochimilco 11 de Octubre"]
[null,null,null,null,null,null,null,null,null,"Iztapalapa 25 de Octubre"]
[null,null,null,null,null,null,null,null,null,"TOTAL",{"$f":"SUM(K77:K98)","v":8855},{"$f":"SUM(L77:L98)","v":16716}]
[]
[]
[]
[]
[]
[]
[]
[]
[]
[]
[]
[]
[]
[]
[]
[]
[null,null,null,null,null,null,null,null,"Nivel 2: Entre las Unidades académicas 2012"]
[null,null,null,null,null,null,null,null,"ACTIVIDAD","PERIODICIDAD","NO. DE BENEFICIARIOS"]
[null,null,null,null,null,null,null,null,null,null,"PARTICIPANTES","ESPECTADORES"]
[]
[null,null,null,null,null,null,null,null,"Convivencia Deportiva 2012","Julio 2012",940,3100]
[null,null,null,null,null,null,null,null,"Paticipan los equipos representativos de las 5 Unidades Académicas de la UAM en los siguientes deportes: "]
[null,null,null,null,null,null,null,null,null,"Sede de los eventos: Las instalaciones de las Unidades Académicas"]
[]
[]
[null,null,null,null,null,null,null,null,"1.- Ajedrez 2.- Atletismo 3.- Baloncesto 4.- Fútbol Asociación 5.- Fútbol Rápido 6.- Karate Do 7.- Lev. Olímpico de Pesas 8.- Tae Kwon Do 9.- Tenis 10.- Tenis de Mesa 11.- Voleibol de Playa 12.- Voleibol de Sala"]
[]
[]
[]
[]
[]
[null,null,null,null,null,null,null,null,"Olimpiada UAM 2012","Septiembre - Octubre 2012",1332,13642]
[null,null,null,null,null,null,null,null,"Participan equipos de alumnos de las 5 Unidades Académicas en los siguientes deportes: 1.- Ajedrez 2.- Baloncesto 3.- Fisicoconstructivismo 4.- Fútbol Asociación 5.- Fútbol Rápido 6.- Levantamiento de Potencia 7.- Tenis de Mesa 8.- Voliebol de Playa"]
[null,null,null,null,null,null,null,null,null,"Sede de los eventos: Las instalaciones de las Unidades Académicas"]
[]
[]
[]
[]
[]
[]
[]
[null,null,null,null,null,null,null,null,"Serial Atlético \"Corriendo por la UAM\" 2012","Cuajimalpa 11 de Octubre",{"$f":"1469+239+133+1696+1309","v":4846},{"$f":"1700+60+30+2000+1600","v":5390}]
[null,null,null,null,null,null,null,null,null,"Azcapotzalco 26 de Octubre"]
[null,null,null,null,null,null,null,null,"Serial Atlético \"Caminando por la UAM\" 2012","Xochimilco 9 de Noviembre",{"$f":"526+101+141+757+675","v":2200},5390]
[null,null,null,null,null,null,null,null,null,"Lerma 16 de Noviembre"]
[null,null,null,null,null,null,null,null,null,"Iztapalapa 23 de Noviembre"]
[]
[null,null,null,null,null,null,null,null,"TOTAL",null,{"$f":"SUM(K120:K145)","v":9318},{"$f":"SUM(L120:L143)","v":27522}]
[]
[]
[]
[]
[]
[]
[]
[null,null,null,null,null,null,null,null,"Nivel 2: Entre las Unidades académicas 2011"]
[null,null,null,null,null,null,null,null,"ACTIVIDAD","PERIODICIDAD","NO. DE BENEFICIARIOS"]
[null,null,null,null,null,null,null,null,null,null,"PARTICIPANTES","ESPECTADORES"]
[]
[null,null,null,null,null,null,null,null,"Olimpiada UAM 2010","Anual",1149,{"$f":"15426-1149","v":14277}]
[null,null,null,null,null,null,null,null,"Serial Atlético \"Corriendo por la UAM\"","4 carreras por año",3563,4945]
[]
[null,null,null,null,null,null,null,null,"Caminando por la UAM","4 eventos por año",2698,4945]
[null,null,null,null,null,null,null,null,"Convivencia Deportiva","Anual",558,2360]
[]
[null,null,null,null,null,null,null,null,"TOTAL",null,{"$f":"SUM(K159:K163)","v":7968},{"$f":"SUM(L159:L163)","v":26527}]
[]
[]
[]
[]
[]
[]
[]
[]
[]
[]
[]
[]
[]
[]
[]
[]
[]
[]
[]
[]
[]
[]
[null,null,null,null,null,null,null,null,"Nivel 2: Entre las Unidades académicas 2010"]
[null,null,null,null,null,null,null,null,"ACTIVIDAD","PERIODICIDAD","NO. DE BENEFICIARIOS"]
[null,null,null,null,null,null,null,null,null,null,"PARTICIPANTES","ESPECTADORES"]
[]
[null,null,null,null,null,null,null,null,"Olimpiada UAM 2010","Anual",1256,11361]
[null,null,null,null,null,null,null,null,"Serial Atlético \"Corriendo por la UAM\"","4 carreras por año",2658,3040]
[null,null,null,null,null,null,null,null,"Caminando por la UAM","4 eventos por año",2052,3040]
[null,null,null,null,null,null,null,null,"Convivencia Deportiva","Anual",866,2764]
[]
[null,null,null,null,null,null,null,null,"TOTAL",null,{"$f":"SUM(K192:K196)","v":6832},{"$f":"SUM(L192:L196)","v":20205}]
[]
[]
[]
[]
[]
[]
[]
[]
[]
[]
[]
[]
[]
[]
[]
[]
[]
[]
[]
[]
[null,null,null,null,null,null,null,null,"Nivel 2: Entre las Unidades académicas 2009",null,null,null,null,"UNIDAD","DISCIPLINA 2009","NO. DE TORNEOS","NÚMERO DE PARTICIPANTES"]
[null,null,null,null,null,null,null,null,"ACTIVIDAD","PERIODICIDAD","NO. DE BENEFICIARIOS"]
[null,null,null,null,null,null,null,null,null,null,"PARTICIPANTES","ESPECTADORES",null,"AZCAPOTZALCO","Fútbol rápido",3,1214]
[null,null,null,null,null,null,null,null,null,null,null,null,null,null,"Fútbol soccer",3,5031]
[null,null,null,null,null,null,null,null,"Olimpiada UAM 2009","Anual",1690,8360,null,null,"Fútbol soccer 7",3,741]
[null,null,null,null,null,null,null,null,"Serial Atlético \"Corriendo por la UAM\"","4 carreras por año",2631,null,null,null,"Tochito bandera",3,580]
[null,null,null,null,null,null,null,null,"Convivencia Deportiva","Anual",4321,null,null,null,"Basquetbol ",3,865]
[null,null,null,null,null,null,null,null,"FESTI UAM","Anual",975,7010,null,null,"Ajedrez",2,57]
[null,null,null,null,null,null,null,null,"TOTAL",null,{"$f":"SUM(K222:K225)","v":9617},{"$f":"SUM(L222:L225)","v":15370},null,null,"Halterofilia",3,244]
[null,null,null,null,null,null,null,null,null,null,null,null,null,null,"Torneos divisionales",3,1963]
[null,null,null,null,null,null,null,null,null,null,null,null,null,null,"Tenis",2,48]
[null,null,null,null,null,null,null,null,null,null,null,null,null,null,"Voleibol",1,42]
[null,null,null,null,null,null,null,null,null,null,null,null,null,null,"TOTAL",{"$f":"SUM(P220:P229)","v":26},{"$f":"SUM(Q220:Q229)","v":10785}]
[null,null,null,null,null,null,null,null,null,null,null,null,null,"CUAJIMALPA","Futbol rápido",3,360]
[null,null,null,null,null,null,null,null,null,null,null,null,null,null,"Basquetbol",1,40]
[null,null,null,null,null,null,null,null,null,null,null,null,null,null,"Ajedrez",2,36]
[null,null,null,null,null,null,null,null,null,null,null,null,null,null,"Acondicionamiento físico",2,580]
[null,null,null,null,null,null,null,null,null,null,null,null,null,null,"Tenis de mesa",2,16]
[null,null,null,null,null,null,null,null,null,null,null,null,null,null,"TOTAL",{"$f":"SUM(P231:P235)","v":10},{"$f":"SUM(Q231:Q235)","v":1032}]
[null,null,null,null,null,null,null,null,null,null,null,null,null,"IZTAPALAPA","Fútbol soccer",3,528]
[null,null,null,null,null,null,null,null,null,null,null,null,null,null,"Futbol rápido",2,2028]
[null,null,null,null,null,null,null,null,null,null,null,null,null,null,"Basquetbol",4,516]
[null,null,null,null,null,null,null,null,null,null,null,null,null,null,"Ajedrez",4,95]
[null,null,null,null,null,null,null,null,null,null,null,null,null,null,"Tenis",3,153]
[null,null,null,null,null,null,null,null,null,null,null,null,null,null,"Squash",2,137]
[null,null,null,null,null,null,null,null,null,null,null,null,null,null,"Voleibol",2,162]
[null,null,null,null,null,null,null,null,null,null,null,null,null,null,"Torneo de fisicoconstructivismo",1,23]
[null,null,null,null,null,null,null,null,null,null,null,null,null,null,"Torneo de fuerza",1,45]
[null,null,null,null,null,null,null,null,null,null,null,null,null,null,"TOTAL",{"$f":"SUM(P237:P245)","v":22},{"$f":"SUM(Q237:Q245)","v":3687}]
[null,null,null,null,null,null,null,null,null,null,null,null,null,"XOCHIMILCO","Fútbol soccer",7,803]
[null,null,null,null,null,null,null,null,null,null,null,null,null,null,"Futbol rápido",7,406]
[null,null,null,null,null,null,null,null,null,null,null,null,null,null,"Basquetbol",5,196]
[null,null,null,null,null,null,null,null,null,null,null,null,null,null,"Ajedrez",8,181]
[null,null,null,null,null,null,null,null,null,null,null,null,null,null,"Acondicionamiento físico",3,117]
[null,null,null,null,null,null,null,null,null,null,null,null,null,null,"Torneos divisionales ",2,165]
[null,null,null,null,null,null,null,null,null,null,null,null,null,null,"Tenis ",1,3]
[null,null,null,null,null,null,null,null,null,null,null,null,null,null,"Voleibol",5,134]
[null,null,null,null,null,null,null,null,null,null,null,null,null,null," Tenis de mesa",7,414]
[null,null,null,null,null,null,null,null,null,null,null,null,null,null,"Tae Kwon Do",4,14]
[null,null,null,null,null,null,null,null,null,null,null,null,null,null,"Karate Do",3,6]
[null,null,null,null,null,null,null,null,null,null,null,null,null,null,"Atletismo",5,67]
[null,null,null,null,null,null,null,null,null,null,null,null,null,null,"Levantamiento de pesas",3,50]
[null,null,null,null,null,null,null,null,null,null,null,null,null,null,"Remo bajo techo",4,81]
[null,null,null,null,null,null,null,null,null,null,null,null,null,null,"TOTAL",{"$f":"SUM(P247:P260)","v":64},{"$f":"SUM(Q247:Q260)","v":2637}]
[null,null,null,null,null,null,null,null,null,null,null,null,null,"UAM",null,{"$f":"P230+P246+P261+P236","v":122},{"$f":"Q230+Q246+Q261+Q236","v":18141}]
[]
[]
[null,null,null,null,null,null,null,null,"Nivel 2: Entre las Unidades académicas 2008",null,null,null,null,"UNIDAD","DISCIPLINA 2008","NO. DE TORNEOS","NO. PARTICIPANTES"]
[null,null,null,null,null,null,null,null,"ACTIVIDAD","PERIODICIDAD","NO. DE BENEFICIARIOS",null,null,"AZCAPOTZALCO","Fútbol rápido",3,6348]
[null,null,null,null,null,null,null,null,null,null,"PARTICIPANTES","ESPECTADORES",null,null,"Fútbol soccer",4,1714]
[null,null,null,null,null,null,null,null,null,null,null,null,null,null,"Basquetbol ",6,1156]
[null,null,null,null,null,null,null,null,"Olimpiada UAM 2008","Anual",1708,7230,null,null,"Acondicionamiento físico",7,227]
[null,null,null,null,null,null,null,null,"Serial Atlético \"Corriendo por la UAM\"","4 carreras por año",705,null,null,null,"Torneos divisionales",2,1680]
[null,null,null,null,null,null,null,null,"Convivencia Deportiva","Anual",538,null,null,null,"Squash",1,20]
[null,null,null,null,null,null,null,null,null,null,null,null,null,null,"Voleibol",4,48]
[null,null,null,null,null,null,null,null,"TOTAL",null,{"$f":"SUM(K269:K272)","v":2951},{"$f":"SUM(L269:L272)","v":7230},null,null,"Tenis",1,28]
[null,null,null,null,null,null,null,null,null,null,null,null,null,null,"Tochito varonil",4,673]
[null,null,null,null,null,null,null,null,null,null,null,null,null,null,"TOTAL",{"$f":"SUM(P266:P274)","v":32},{"$f":"SUM(Q266:Q274)","v":11894}]
[null,null,null,null,null,null,null,null,null,null,null,null,null,"CUAJIMALPA","Fútbol soccer",7,80]
[null,null,null,null,null,null,null,null,null,null,null,null,null,null,"Futbol rápido",1,130]
[null,null,null,null,null,null,null,null,null,null,null,null,null,null,"Basquetbol",1,24]
[null,null,null,null,null,null,null,null,null,null,null,null,null,null,"Ajedrez",1,15]
[null,null,null,null,null,null,null,null,null,null,null,null,null,null,"Acondicionamiento físico",1,60]
[null,null,null,null,null,null,null,null,null,null,null,null,null,null,"TOTAL",{"$f":"SUM(P276:P280)","v":11},{"$f":"SUM(Q276:Q280)","v":309}]
[null,null,null,null,null,null,null,null,null,null,null,null,null,"IZTAPALAPA","Fútbol soccer",2,876]
[null,null,null,null,null,null,null,null,null,null,null,null,null,null,"Futbol rápido",2,1537]
[null,null,null,null,null,null,null,null,null,null,null,null,null,null,"Basquetbol",4,413]
[null,null,null,null,null,null,null,null,null,null,null,null,null,null,"Ajedrez",5,165]
[null,null,null,null,null,null,null,null,null,null,null,null,null,null,"Acondicionamiento físico",4,123]
[null,null,null,null,null,null,null,null,null,null,null,null,null,null,"Tenis",3,136]
[null,null,null,null,null,null,null,null,null,null,null,null,null,null,"Squash",2,72]
[null,null,null,null,null,null,null,null,null,null,null,null,null,null,"Voleibol",2,144]
[null,null,null,null,null,null,null,null,null,null,null,null,null,null,"TOTAL",{"$f":"SUM(P282:P289)","v":24},{"$f":"SUM(Q282:Q289)","v":3466}]
[null,null,null,null,null,null,null,null,null,null,null,null,null,"XOCHIMILCO*","Ajedrez",{"$f":"4+3+1","v":8},{"$f":"30+22+5","v":57}]
[null,null,null,null,null,null,null,null,null,null,null,null,null,null,"Atletismo ",{"$f":"2+6+1","v":9},{"$f":"11+199+8","v":218}]
[null,null,null,null,null,null,null,null,null,null,null,null,null,null,"Karate, Tae Kwon Do",{"$f":"1+1+1+1","v":4},{"$f":"10+2+2+4","v":18}]
[null,null,null,null,null,null,null,null,null,null,null,null,null,null,"Baloncesto",{"$f":"3+2+3+3+1+1","v":13},{"$f":"35+24+86+92+12+12","v":261}]
[null,null,null,null,null,null,null,null,null,null,null,null,null,null,"Canotaje",{"$f":"3+1","v":4},{"$f":"10+2","v":12}]
[null,null,null,null,null,null,null,null,null,null,null,null,null,null,"Futbol rápido",{"$f":"2+5+1+1","v":9},{"$f":"27+1666+13","v":1706}]
[null,null,null,null,null,null,null,null,null,null,null,null,null,null,"Fútbol soccer",{"$f":"5+1+1","v":7},{"$f":"209+22+35","v":266}]
[null,null,null,null,null,null,null,null,null,null,null,null,null,null,"Tenis",1,2]
[null,null,null,null,null,null,null,null,null,null,null,null,null,null,"Pesas",{"$f":"2+2","v":4},{"$f":"10+19","v":29}]
[null,null,null,null,null,null,null,null,null,null,null,null,null,null,"Remo",{"$f":"6+1","v":7},{"$f":"70+14","v":84}]
[null,null,null,null,null,null,null,null,null,null,null,null,null,null,"Voleibol",{"$f":"5+1+1","v":7},{"$f":"123+14+15","v":152}]
[null,null,null,null,null,null,null,null,null,null,null,null,null,null,"TOTAL",{"$f":"SUM(P291:P301)","v":73},{"$f":"SUM(Q291:Q301)","v":2805}]
[null,null,null,null,null,null,null,null,null,null,null,null,null,"UAM",null,{"$f":"P275+P290+P302+P281","v":140},{"$f":"Q275+Q290+Q302+Q281","v":18474}]

{"sheet":"Difusión Lic","index":78,"n_rows":25,"n_cols":18,"rows_kept":25,"cut":false,"hidden":false,"merged":[[1,0,1,3],[2,0,2,3],[14,15,14,16],[1,6,2,7],[1,9,1,12],[2,9,2,12],[1,14,1,17],[2,14,2,17]]}
["INDICE"]
["CICLO DE PLÁTICAS  DEL PERSONAL ACADÉMICO ",null,null,null,null,null,"VISISTAS A PREPARATORIAS, PARA LA  DIFUSIÓN DE OFERTA EDUCATIVA DE LA UAM LERMA ",null,null,"VISITAS GUIADAS DE ALUMNOS DE INSTITUCIONES DE ",null,null,null,null,"PARTICIPACIÓN  EN FERIAS DE DIFUSIÓN DE OFERTA EDUCATIVA "]
[" DE LA UAM EN INSTITUCIONES DE EDUCACIÓN MEDIA SUPERIOR",null,null,null,null,null,null,null,null,"EDUCACIÓN MEDIA SUPERIOR A LA UAM",null,null,null,null,"Y EN FERIAS CIENTÍFICAS Y TECNOLÓGICAS"]
[]
["NÚMERO DE VISITAS","INSTITUCIONES VISITADAS","ALUMNOS ATENDIDOS","No. PLÁTICAS",null,"NÚMERO DE VISITAS","NOMBRE DE LA PREPARATORIA ","No. DE ASISTENTES",null,"NÚMERO DE VISITAS","INSTITUCIONES QUE NOS VISITARON"," NÚMERO DE ALUMNOS ","NÚMERO DE RESPONSABLES",null,"DIVISIÓN","Lugar / Organizador","NOMBRE DEL EVENTO","No. DE ASISTENTES"]
[1,"SECyBS Preparatoria Oficial NÚM. 15 ",30,1,null,1,"Colegio de Bachilleres Tecnológico \"Luis Camarena No. 96 \"",96,null,1,"CONALEP Lerma ",14,0,null,"Todas","CECyTEM Plantel Jilotepec ","Feria de Exposición Profesiográfica \"Construyendo tu Proyecto\", ",500]
[1,"SECyBS Preparatoria Oficial  NÚM. 15 ",25,1,null,1,"CONALEP Zarco",89,null,1,"CECYTEM Plantel Jilotepec ",30,3,null,"Todas","IPEFH Plantel Aeropuerto","Feria de Universidades de Preparatoria ",300]
[1,"SECyBS Centro de Bachillerato Tecnológico  Dr. Eduardo Suárez",35,1,null,1,"Preparatoria Anexa a la Normal No. 3 ",72,null,1,"CECYTEM Plantel Lerma",32,2,null,"Todas","Preparatoria Oficial No.1","Feria Vocacional ",300]
[1,"Escuelas Preparatorias Oficiales Estado de México",300,1,null,1,"Preparatoria Anexa a la Normal Santiago Tianguistenco",150,null,1,"Cualcan ",30,2,null,"Todas","Colegio de Bachilleres del Estado de Mexico Plantel 08, Atlacomulco ","Segunda Feria Vocacional 2015",250]
[1,"Escuelas Preparatorias Oficiales Estado de México",60,1,null,1,"Preparatoria No. 3 Xonacatlán ",154,null,1,"Preparatoria Oficial Anexa a la Normal de Capulhuac ",22,2,null,"Todas","Preparatoria Oficial No.43","\"EPO-ORIENTA\"",100]
[1,"Escuelas Preparatorias Oficiales Estado de México",60,1,null,1,"Preparatoria Oficial No.140",114,null,1,"Preparatoria Oficial 129",12,1,null,"Todas","DIF Lerma","\"Expo Vocacional Lerma,2015\". El Encuentro del Mañana",250]
[1,"Instituto Metepec Campus Independencia",80,1,null,1,"Preparatoria Oficial No. 173",87,null,1,"Preparatoria No. 1, Anexa al ENCEM",16,1,null,"Todas","CECyTEM Plantel Lerma ","\"Expo Universidades CECyTEM Lerma, 2015\"",150]
[7,null,590,7,null,1,"Preparatoria Oficial No. 23",63,null,1,"Escuela Preparatoria Oficial 273",40,2,null,"Todas","Escuela Preparatoria Oficial 23"," \"3era Expo Orienta Profesiográfica, 2015 \"",120]
["FUENTE : Coordinación de Docencia UAM Lerma ",null,null,null,null,1,"Preparatoria Oficial No. 244",55,null,1,"Tentli",25,2,null,"Todas","Consejo Mexiquense de Ciencia y Tecnología (COMECYT), y la Unidad Lerma de la Universidad Autónoma Metropolitana","Espacio Mexiquense de Ciencia y Tecnología. Feria Mexicana de Ciencias e Ingenierías 2015.",53718]
[null,null,null,null,null,1,"Preparatoria Oficial No. 297 Santa María Rayón ",81,null,1,"Escuela Preparatoria Oficial 201",49,1,null,null,"TOTAL",null,55688]
[null,null,null,null,null,1,"Preparatoria Oficial No. 167  Santa Cruz Atizapán ",86,null,1,"Escuela Preparatoria Oficial 23",49,1,null,null,"FUENTE : Coordinación de Docencia, Coordinación de Vinculación"]
[null,null,null,null,null,1,"Preparatoria Oficial No. 38 El Charco",44,null,1,"Escuela Preparatoria Oficial 173",30,2]
[null,null,null,null,null,1,"Preparatoria Oficial No. 201 San Pedro Tultepec",84,null,1,"Escuela Preparatoria Oficial 38",30,2]
[null,null,null,null,null,1,"Preparatoria Oficial No. 45 Mexicaltzingo ",34,null,{"$f":"SUM(J6:J18)","v":13},null,379,21]
[null,null,null,null,null,1,"Preparatoria Oficial No. 51  San Mateo Atenco ",68]
[null,null,null,null,null,1,"Preparatoria Normal de Calpulhuac",55]
[null,null,null,null,null,1,"Preparatoria Oficial No. 93  ",51]
[null,null,null,null,null,1,"Preparatoria Oficial No. 8  San Pedro Tultepec",69]
[null,null,null,null,null,{"$f":"SUM(F6:F23)","v":18},"Total ",1452]
[null,null,null,null,null,null,"FUENTE : Coordinación de Docencia UAM Lerma "]

{"sheet":"Lineamientos y Criterios","index":79,"n_rows":32,"n_cols":9,"rows_kept":32,"cut":false,"hidden":false,"merged":[[25,1,31,1],[17,1,24,1],[8,1,16,1],[3,1,7,1]]}
["INDICE"]
["LINEAMIENTOS, CRITERIOS E INSTRUCTIVOS"]
[null,"Órgano","Año","Fecha","Acuerdo","Dictamen","Vigencia","Función"]
[null,"CA-UAML",2015,"2015-04-07",38.049999999999997,"Creación","Vigente","Apoyo institucional","Instructivo de la Biblioteca de la Unidad Lerma"]
[null,null,2015,"2015-07-03",43.08,"Creación","Vigente","Apoyo institucional","Instructivo de Infraestructura y Servicios Digitales de la Unidad Lerma"]
[null,null,2015,"2015-04-07",38.04,"Creación","Vigente","Docencia","Criterios y procedimientos para la expedición de constancias de acreditación del requisito de idioma en la Unidad Lerma"]
[null,null,2015,"2015-12-09",48.03,"Creación","Vigente","Docencia","Instructivo de Prácticas de Campo de la Unidad Lerma."]
[null,null,2015,"2015-04-07",38.06,"Creación","Vigente","Investigación, creación e innovación ","Criterios para la Organización de la Investigación en la Unidad Lerma"]
[null,"CD-CBI",2012,"2012-06-11","02.05","Creación","Vigente","Apoyo institucional","Lineamientos Particulares para las Políticas de Planeación Operativas Divisionales"]
[null,null,2015,"2015-04-09",26.06,"Creación","Vigente","Apoyo institucional","Propuesta de Instructivo respecto del funcionamiento interno y operativo para regularizar el uso y préstamo del equipo de impresión “3D Stratasys Mojo”"]
[null,null,2015,"2015-12-01",38.04,"Creación","Vigente","Apoyo institucional","Lineamientos para la Solicitud, Aprobación, Informe y Evaluación del Periodo Sabático del Personal Académico de la División de Ciencias Básicas e Ingeniería"]
[null,null,2015,"2015-02-27",24.09,"Creación","Vigente","Docencia","Lineamientos que establecen las funciones, modalidades de integración y operación de los Comités de Estudios de Licenciatura o Posgrado de la División de Ciencias Básicas e Ingeniería"]
[null,null,2015,"2015-03-30",25.03,"Creación","Vigente","Docencia","Criterios que regirán para establecer el número de horas de actividad docente frente agrupo respecto de la Beca al Reconocimiento de la Carrera Docente"]
[null,null,2015,"2015-05-27",30.03,"Creación","Vigente","Docencia","Lineamientos sobre la operatividad de las Licenciaturas de la División de Ciencias Básicas e Ingeniería."]
[null,null,2015,"2015-04-09",26.02,"Creación","Vigente","Investigación, creación e innovación ","Lineamientos particulares para la presentación, aprobación, evaluación, y supresión de los Proyectos de Investigación de la División de Ciencias Básicas e Ingeniería"]
[null,null,2015,"2015-04-09",26.04,"Creación","Vigente","Investigación, creación e innovación ","Lineamientos particulares para la creación, modificación, evaluación y supresión de las Áreas de Investigación de la División"]
[null,null,2015,"2015-04-09",26.03,"Creación","Vigente","Servicio y vinculación con la sociedad","Lineamientos para la presentación, evaluación y aprobación de Proyectos de Servicio Social de la División de Ciencias Básicas e Ingeniería"]
[null,"CD-CBS",2012,"2012-07-10","03.12.07","Creación","Vigente","Apoyo institucional","Lineamientos Particulares de Planeación de la División de Ciencias Biológicas y de la Salud"]
[null,null,2013,"2013-07-09","08.13.03","Creación","Modificado","Investigación, creación e innovación ","Lineamientos para la aprobación de proyectos de investigación de la División de Ciencias Biológicas y de la Salud"]
[null,null,2015,"2015-03-31","05.15.09","Creación","Vigente","Docencia","Criterios de la División de Ciencias Biológicas y de la Salud para el otorgamiento de la Beca al Reconocimiento de la carrera Docente"]
[null,null,2015,"2015-06-30","14.15.11","Creación","Vigente","Docencia","Lineamientos para la Revalidación, Establecimiento de Equivalencias y Acreditación de Estudios."]
[null,null,2015,"2015-12-10","20.15.04","Creación","Vigente","Docencia","Criterios para la presentación y entrega de la distribución de coeficientes de participación y horas frente a grupo del personal académico de la División de Ciencias Biológicas y de la Salud"]
[null,null,2015,"2015-05-08","09.15.02","Creación","Vigente","Investigación, creación e innovación ","Lineamientos para Registro, Presentación, Renovación, Terminación y Baja de Proyectos de Investigación"]
[null,null,2015,"2015-10-26","19.15.08","Modificación","Vigente","Investigación, creación e innovación ","Lineamientos para registro, presentación, renovación, terminación y baja de Proyectos de Investigación, a realizarse en la División de Ciencias Biológicas y de la Salud"]
[null,null,2015,"2015-03-31","03.15.04","Creación","Vigente","Servicio y vinculación con la sociedad","Lineamientos de Servicio Social de la División de Ciencias Biológicas y de la Salud. Unidad Lerma"]
[null,"CD-CSH",2012,"2012-06-29","03.08","Creación","Vigente","Apoyo institucional","Lineamientos Particulares de Planeación de la División de Ciencias Biológicas y de la Salud"]
[null,null,2013,"2013-11-08","16.03","Creación","Vigente","Docencia","Lineamientos particulares de la División de Ciencias Sociales y Humanidades de la Unidad Lerma para la Movilidad de los Alumnos"]
[null,null,2013,"2013-06-24","12.03","Creación","Vigente","Investigación, creación e innovación ","Lineamientos para la Presentación y Aprobación de Proyectos de Investigación a realizarse en los Departamentos de la División de Ciencias Sociales y Humanidades, Unidad Lerma"]
[null,null,2013,"2013-09-20","14.04","Creación","Vigente","Servicio y vinculación con la sociedad","Lineamientos de Servicio Social, División de Ciencias Sociales y Humanidades"]
[null,null,2015,"2015-12-04","43.08","Creación","Vigente","Docencia","Criterios de la División de Ciencias Sociales y Humanidades de la Unidad Lerma para el otorgamiento de la Beca al Reconocimiento de la Carrera Docente"]
[null,null,2015,"2015-12-04","43.07","Creación","Vigente","Investigación, creación e innovación ","Lineamientos particulares para la creación, modificación o supresión de áreas de investigación de la División de Ciencias Sociales y Humanidades"]
[null,null,2015,"2015-03-31","26.03","Creación","Vigente","Preservación y difusión de la cultura ","Lineamientos para la integración y funcionamiento del Consejo y Comités Editoriales de la División de Ciencias Sociales y Humanidades de la Universidad Autónoma Metropolitana"]

{"sheet":"Órganos Personales","index":80,"n_rows":21,"n_cols":6,"rows_kept":21,"cut":false,"hidden":false,"merged":[[6,2,7,2],[9,1,14,1],[15,1,20,1],[4,1,8,1],[19,2,20,2],[16,2,17,2],[13,2,14,2],[10,2,11,2]]}
["INDICE"]
["ÓRGANOS PERSONALES"]
[null,"DIVISIÓN","Cargo","Nombre","Inicio","Fin"]
[null,"RUL","Rector de Unidad","Dr. Emilio Sordo Zabay","2014-06-03","2018-06-02"]
[null,"CBI","Director de División","Dr. Gabriel Soto Cortés","2014-07-11","2018-07-10"]
[null,null,"Jefatura del Depto de Procesos Productivos","Dr. Philipp von Bülow","2012-01-16","2016-01-15"]
[null,null,"Jefatura del Depto de Recursos de la Tierra","Dr. Ernesto Hernández Zapata","2011-06-16","2015-06-15"]
[null,null,null,"Dr. Ricardo Beristaín Cardoso","2015-06-16","2019-06-15"]
[null,null,"Jefatura del Depto de Sistemas de Información y Comunicaciones","Dr. Francisco Pérez Martínez","2012-01-16","2016-01-15"]
[null,"CBS","Directora de División","Dra. Rina María González Cervantes","2014-09-30","2018-09-29"]
[null,null,"Jefatura del Depto de Ccias Ambientales","Dr. Rurik Hermann List Sánchez","2011-05-16","2015-05-15"]
[null,null,null,"Dr. José Cuauhtémoc Chávez Tovar","2015-05-16","2019-05-15"]
[null,null,"Jefatura del Depto de Ccias de la Alimentación","Dr. Genaro Cvabodni Miranda de la Lama","2012-06-01","2016-05-31"]
[null,null,"Jefatura del Depto de Ccias de la Salud","Dr. Gustavo Pacheco López","2011-09-17","2015-09-16"]
[null,null,null,"Dr. Silvestre de Jesús Alavez Espidio","2015-09-17","2019-09-16"]
[null,"CSH","Director de División","Dr. Pablo Castro Domingo","2014-10-14","2018-10-13"]
[null,null,"Jefatura del Depto de Artes y Humanidades","Dra. Mónica Francisca Benítez Dávila","2011-10-03","2015-10-02"]
[null,null,null,"Dra. Luz María Sánchez Cardona","2015-10-03","2019-10-02"]
[null,null,"Jefatura del Depto de Estudios Culturales","Dra. Gladys Ortiz Henderson","2012-06-01","2016-05-31"]
[null,null,"Jefatura del Depto de Procesos Sociales","Dr. Natal Alejandro Martínez González","2011-05-16","2015-05-15"]
[null,null,null,"Dr. Manuel Lara Caballero","2015-05-16","2019-05-15"]

{"sheet":"Sesiones de Órganos Colegiados","index":81,"n_rows":26,"n_cols":6,"rows_kept":26,"cut":false,"hidden":false,"merged":[[10,2,10,5],[2,2,2,5],[19,2,19,5]]}
["INDICE"]
["SESIONES DE ÓRGANOS COLEGIADOS"]
[null,null,"Sesiones"]
[null,null,2012,2013,2014,2015]
[null,"CA_UAML",3,17,16,12]
[null,"CD_CBI",5,11,6,18]
[null,"CD_CBS",6,13,6,21]
[null,"CD_CSH",5,11,7,20]
[null,null,{"$f":"SUM(C5:C8)","v":19},{"$f":"SUM(D5:D8)","v":52},{"$f":"SUM(E5:E8)","v":35},{"$f":"SUM(F5:F8)","v":71}]
[]
[null,null,"Acuerdos (sin contar aprobación orden del día)"]
[null,null,2012,2013,2014,2015]
[null,"CA_UAML",5,31,28,44]
[null,"CD_CBI",21,50,23,70]
[null,"CD_CBS",23,56,24,73]
[null,"CD_CSH",20,50,28,75]
[null,null,{"$f":"SUM(C13:C16)","v":69},{"$f":"SUM(D13:D16)","v":187},{"$f":"SUM(E13:E16)","v":103},{"$f":"SUM(F13:F16)","v":262}]
[]
[]
[null,null,"Acuerdos por sesión"]
[null,null,2012,2013,2014,2015]
[null,"CA_UAML",{"$f":"C13/C5","v":1.6666666666666667},{"$f":"D13/D5","v":1.8235294117647058},{"$f":"E13/E5","v":1.75},{"$f":"F13/F5","v":3.6666666666666665}]
[null,"CD_CBI",{"$f":"C14/C6","v":4.2},4.5454545454545459,3.8333333333333335,3.8888888888888888]
[null,"CD_CBS",3.8333333333333335,4.3076923076923075,4,3.4761904761904763]
[null,"CD_CSH",4,4.5454545454545459,4,3.75]
[null,null,3.6315789473684212,3.5961538461538463,2.9428571428571431,3.6901408450704225]

{"sheet":"Comisiones","index":82,"n_rows":31,"n_cols":7,"rows_kept":31,"cut":false,"hidden":false,"merged":[[3,1,7,1],[21,1,30,1],[16,1,20,1],[8,1,15,1]]}
["INDICE"]
["COMISIONES DE ÓRGANOS COLEGIADOS CONFORMADAS EN 2015"]
[null,null,null,null,null,"DIV","Comisiones"]
[null,"CA_UAML","Comisión encargada de proponer instructivos respecto del funcionamiento interno y operativo para regular el uso de los servicios e instalaciones en la Unidad Lerma",null,null,"CD_CBI",8]
[null,null,"Comisión encargada de determinar la instancia que expedirá las constancias para acreditar la comprensión del idioma; los criterios y procedimientos del examen correspondiente; así como establecer los requisitos para la aceptación de constancias de otras instituciones; de conformidad con el numeral 2 del Acuerdo 184.6 del Colegio Académico.",null,null,"CD_CBS",5]
[null,null,"Comisión encargada de analizar y dictaminar las propuestas de creación de las áreas de investigación que se presenten al Consejo Académico de la Unidad Lerma; así como de elaborar una propuesta de Criterios para la Organización de la Investigación en la Unidad;",null,null,"CD_CSH",10]
[null,null,"Comisión de Planes y Programas de Estudio",null,null,"CA_UAML",5]
[null,null,"Comisión encargada de analizar y dictaminar sobre las propuestas de programas de servicio social."]
[null,"CD_CBI","Comisión de Planes y Programas de Estudios."]
[null,null,"Comisión encargada de Analizar, evaluar y dictaminar las propuestas de creación de las Áreas de Investigación"]
[null,null,"Comisión encargada de Analizar, evaluar y dictaminar las solicitudes de revalidación, establecimiento de equivalencias y acreditación de estudios que se presenten al Consejo Divisional para su aprobación."]
[null,null,"Comisión encargada de Analizar, evaluar y dictaminar los proyectos de investigación que se presenten al Consejo Divisional para su aprobación."]
[null,null,"Comisión encargada de Analizar, evaluar y dictaminar los Proyectos de Servicio Social que se presenten al Consejo Divisional para su aprobación."]
[null,null,"Comisión encargada de Conocer y dictaminar sobre las faltas cometidas por los alumnos de la División de Ciencias Básicas e Ingeniería"]
[null,null,"Comisión encargada de Elaborar la propuesta del Informe anual del desarrollo y funcionamiento de la División del año 2014 y de Elaborar las propuestas del Informe anual del desarrollo y funcionamiento de la División de los años 2012 y 2013."]
[null,null,"Comisión encargada de elaborar los Criterios que regirán para establecer el número de horas de actividad docente frente agrupo respecto de la Beca al Reconocimiento de la Carrera Docente"]
[null,"CD_CBS","Comisión de Docencia, encargada de a) Elaborar los lineamientos para el otorgamiento de revalidación, establecimiento de equivalencias, acreditación de estudios así como de la recuperación de la calidad de alumno. b) Analizar y dictaminar considerando las Políticas operacionales de docencia (POD) sobre las solicitudes de equivalencias así como de la recuperación de la calidad de alumno y c) Analizar y dictaminar cualquier otro asunto relacionado con docencia que esté dentro del ámbito de competencia del Consejo Divisional.Comisión de Planes y Programas"]
[null,null,"Comisión de Faltas de los alumnos"]
[null,null,"Comisión de Investigación encargada de a) Elaborar los Lineamientos para el registro, renovación, terminación y baja de los proyectos de investigación que presente el personal académico de la División. b) Analizar y dictaminar sobre las propuestas de áreas y proyectos de investigación que presenten los Departamentos de la División."]
[null,null,"Comisión de Planes y Programas, encargada de a) Analizar y dictaminar considerando las políticas operacionales de docencia (POD) las propuestas de creación, adecuación, modificación o supresión de planes y programas de estudio, diplomados, cursos de educación continua, cursos de actualización docente y b) Elaborar la estrategia de migración del modelo educativo para los planes y programas de la división."]
[null,null,"Comisión de Servicio Social encargada de a) Analizar y Dictaminar sobre el registro de proyectos de servicio social. b) Analizar y dictaminar sobre cualquier otro asunto relacionado con el servicio social que esté dentro del ámbito de competencia del Consejo Divisional."]
[null,"CD_CSH","Comisión de Faltas de los Alumnos de la División de Ciencias Sociales y Humanidades"]
[null,null,"Comisión de Investigación"]
[null,null,"Comisión de Planes y Programas de Estudio que conocerá y dictaminará las propuestas de adecuación, creación, modificación y supresión de éstos"]
[null,null,"Comisión de Revalidación, Establecimiento de Equivalencias y Acreditación de Estudios, encargada de conocer solicitudes al respecto"]
[null,null,"Comisión de Servicio Social que se encargará de conocer y dictaminar sobre las propuestas de Proyectos de Servicio Social"]
[null,null,"Comisión encargada de analizar y dictaminar sobre las propuestas de creación, modificación o supresión de las Áreas de Investigación."]
[null,null,"Comisión encargada de crear los Lineamientos Editoriales de la División de Ciencias Sociales y Humanidades de la Unidad Lerma."]
[null,null,"Comisión encargada de llevar a cabo el procedimiento para el otorgamiento del Premio a la Docencia 2015."]
[null,null,"Comisión encargada de revisar los criterios y mecanismos de aplicación para el otorgamiento de la Beca al Reconocimiento de la Carrera Docente"]
[null,null,"Consejo Editorial de la División de Ciencias Sociales y Humanidades de la Unidad Lerma"]

{"sheet":"Reconocimientos Docencia","index":83,"n_rows":32,"n_cols":4,"rows_kept":32,"cut":false,"hidden":false,"merged":[[26,1,31,1],[3,1,3,2],[11,1,11,3],[4,1,4,2],[5,1,6,1],[7,1,8,1],[12,1,12,2],[13,1,18,1],[19,1,25,1]]}
["INDICE"]
["RECONOCIMIENTOS DOCENCIA"]
[]
[null,"PREMIO A LA DOCENCIA"]
[null,2015]
[null,"CBI","Dr. Ricardo Beristain Cardoso"]
[null,null,"Dr. Gerardo Abel Laguna Sánchez"]
[null,"CBS","Dr. Marcos López Pérez"]
[null,null,"Mtro. Heliot Zarza Villanueva"]
[null,"CSH","Dr. Manuel Lara Caballero"]
[]
[null,"BECA A LA DOCENCIA"]
[null,2015,null,"Nivel"]
[null,"CBI","BERISTAIN CARDOSO, RICARDO","D"]
[null,null,"BUSSY , ANNE LAURE SABINE","D"]
[null,null,"DOMINGUEZ MARIANI, ELOISA","B"]
[null,null,"LAGUNA SANCHEZ, GERARDO ABEL","D"]
[null,null,"REYES GUTIERREZ, LAZARO RAYMUNDO","C"]
[null,null,"REYES MERCADO, YURI","D"]
[null,"CBS","ALAVEZ ESPIDIO, SILVESTRE DE JESUS","B"]
[null,null,"CASTILLO GUAJARDO, DERIK","D"]
[null,null,"CHAVEZ TOVAR, JOSE CUAUHTEMOC","D"]
[null,null,"GARCIA ARELLANO, HUMBERTO","D"]
[null,null,"JIMENEZ GUZMAN, JUDITH","B"]
[null,null,"LOPEZ PEREZ, MARCOS","D"]
[null,null,"PELZ SERRANO, KARLA","C"]
[null,"CSH","AGUILAR ASTORGA, CARLOS RICARDO","D"]
[null,null,"BLASQUEZ MARTINEZ, LIDIA IVONNE","C"]
[null,null,"CHAVEZ BECKER, CARLOS GABRIEL","D"]
[null,null,"FIGUEROA ROMERO, RAUL","D"]
[null,null,"LARA CABALLERO, MANUEL","D"]
[null,null,"MARTINEZ TIBURCIO, MARIA GABRIELA","D"]

{"sheet":"Dictaminadoras Divisionales","index":84,"n_rows":13,"n_cols":7,"rows_kept":13,"cut":false,"hidden":false,"merged":[[9,1,12,1],[5,1,8,1],[3,1,4,1],[2,1,2,4]]}
["INDICE"]
["DICTAMINADORAS DIVISIONALES"]
[null,"Dictaminadoras divisionales al 31 de dic de 2015",null,null,null,"Acuerdo","Fecha"]
[null,"CBI","Dr. Ernesto Hernández Zapata","Titular","Electo",42.2,"2015-07-03"]
[null,null,"Dr. Héctor Eduardo Jardón Valadez","Titular","Electo",42.2,"2015-07-03"]
[null,"CBS","Dr. Derik Castillo Guajardo","Titular","Electo",42.2,"2015-07-03"]
[null,null,"Dr. Humberto García Arellano","Titular","Electo",42.2,"2015-07-03"]
[null,null,"Dra. Karla Pelz Serrano","Titular","Electa",42.2,"2015-07-03"]
[null,null,"Dr. Rurik Hermann List Sánchez Titular","Titular","Electo",47.2,"2015-12-09"]
[null,"CSH","Dr. Natal Alejandro Martínez González","Titular","Electo",42.2,"2015-07-03"]
[null,null,"Dr. Rysard Edward Rozga Luter","Titular","Electo",42.2,"2015-07-03"]
[null,null,"Dra. Mónica Francisca Benítez Dávila","Titular","Electa",47.2,"2015-12-09"]
[null,null,"Dra. Paz Sastre Domínguez","Titular","Electa",47.2,"2015-12-09"]